BEGIN:VCALENDAR
VERSION:2.0
PRODID:-//Clayton Bocce League
METHOD:PUBLISH
BEGIN:VTIMEZONE
TZID:America/Los_Angeles
X-LIC-LOCATION:America/Los_Angeles
BEGIN:DAYLIGHT
TZOFFSETFROM:-0800
TZOFFSETTO:-0700
TZNAME:PDT
DTSTART:20070311T020000
RRULE:FREQ=YEARLY;BYMONTH=3;BYDAY=2SU
END:DAYLIGHT
BEGIN:STANDARD
TZOFFSETFROM:-0700
TZOFFSETTO:-0800
TZNAME:PST
DTSTART:20071104T020000
RRULE:FREQ=YEARLY;BYMONTH=11;BYDAY=1SU
END:STANDARD
END:VTIMEZONE
BEGIN:VEVENT
DTSTAMP:20251104T000000Z
UID:3ea4f4b5-ecc7-4e14-964e-321331c98385@ClaytonBocce
DTSTART;TZID=America/Los_Angeles:20251106T183000
DTEND;TZID=America/Los_Angeles:20251106T210000
STATUS:CONFIRMED
SUMMARY:Off the Wall vs Team Recycle
URL:/League/Schedule/2850
DESCRIPTION:Regular Season match: Off the Wall vs Team Recyc
 le
LOCATION:CCIBA Court 4
END:VEVENT
BEGIN:VEVENT
DTSTAMP:20251104T000000Z
UID:a5d08dec-b7a8-410e-a55b-801f745c5b6e@ClaytonBocce
DTSTART;TZID=America/Los_Angeles:20251113T183000
DTEND;TZID=America/Los_Angeles:20251113T210000
STATUS:CONFIRMED
SUMMARY:Off the Wall vs Roll Models
URL:/League/Schedule/2850
DESCRIPTION:Regular Season match: Off the Wall vs Roll Model
 s
LOCATION:CCIBA Court 2
END:VEVENT
BEGIN:VEVENT
DTSTAMP:20251104T000000Z
UID:397f9b3f-e2ca-4db1-b0c9-4c8903830208@ClaytonBocce
DTSTART;TZID=America/Los_Angeles:20251204T183000
DTEND;TZID=America/Los_Angeles:20251204T210000
STATUS:CONFIRMED
SUMMARY:Off the Wall vs Peace, Love, Bocce
URL:/League/Schedule/2850
DESCRIPTION:Regular Season match: Off the Wall vs Peace, Lov
 e, Bocce
LOCATION:CCIBA Court 4
END:VEVENT
BEGIN:VEVENT
DTSTAMP:20251104T000000Z
UID:26f2033c-affe-4f03-8f4a-276f7246967f@ClaytonBocce
DTSTART;TZID=America/Los_Angeles:20251211T183000
DTEND;TZID=America/Los_Angeles:20251211T210000
STATUS:CONFIRMED
SUMMARY:Off the Wall vs Bocce By The Bay
URL:/League/Schedule/2850
DESCRIPTION:Regular Season match: Off the Wall vs Bocce By T
 he Bay
LOCATION:CCIBA Court 5
END:VEVENT
BEGIN:VEVENT
DTSTAMP:20251104T000000Z
UID:bf0c74e5-9656-4637-a30b-0f1af6c37342@ClaytonBocce
DTSTART;TZID=America/Los_Angeles:20251218T183000
DTEND;TZID=America/Los_Angeles:20251218T210000
STATUS:CONFIRMED
SUMMARY:Off the Wall vs Lo2DFlo
URL:/League/Schedule/2850
DESCRIPTION:Regular Season match: Off the Wall vs Lo2DFlo
LOCATION:CCIBA Court 6
END:VEVENT
BEGIN:VEVENT
DTSTAMP:20251104T000000Z
UID:40366efc-2769-4f14-8453-0491a5b72f77@ClaytonBocce
DTSTART;TZID=America/Los_Angeles:20260108T183000
DTEND;TZID=America/Los_Angeles:20260108T210000
STATUS:CONFIRMED
SUMMARY:Off the Wall vs One Handers
URL:/League/Schedule/2850
DESCRIPTION:Regular Season match: Off the Wall vs One Hander
 s
LOCATION:CCIBA Court 3
END:VEVENT
BEGIN:VEVENT
DTSTAMP:20251104T000000Z
UID:90cec646-dd51-4291-b884-e9cd32686124@ClaytonBocce
DTSTART;TZID=America/Los_Angeles:20260115T183000
DTEND;TZID=America/Los_Angeles:20260115T210000
STATUS:CONFIRMED
SUMMARY:Off the Wall vs Johnny B's
URL:/League/Schedule/2850
DESCRIPTION:Regular Season match: Off the Wall vs Johnny B's
LOCATION:CCIBA Court 2
END:VEVENT
BEGIN:VEVENT
DTSTAMP:20251104T000000Z
UID:700a2a74-6f3a-4fc4-8485-0b9f496b7fa1@ClaytonBocce
DTSTART;TZID=America/Los_Angeles:20260122T183000
DTEND;TZID=America/Los_Angeles:20260122T210000
STATUS:CONFIRMED
SUMMARY:Off the Wall vs Casino Warriors
URL:/League/Schedule/2850
DESCRIPTION:Regular Season match: Off the Wall vs Casino War
 riors
LOCATION:CCIBA Court 1
END:VEVENT
BEGIN:VEVENT
DTSTAMP:20251104T000000Z
UID:44393736-a94a-46cb-bad4-1a428218356b@ClaytonBocce
DTSTART;TZID=America/Los_Angeles:20260129T183000
DTEND;TZID=America/Los_Angeles:20260129T210000
STATUS:CONFIRMED
SUMMARY:Off the Wall vs Too Bocce to Handle
URL:/League/Schedule/2850
DESCRIPTION:Regular Season match: Off the Wall vs Too Bocce 
 to Handle
LOCATION:CCIBA Court 3
END:VEVENT
BEGIN:VEVENT
DTSTAMP:20251104T000000Z
UID:aaad7c55-ed4f-4a6a-8c98-ab3a4bba8992@ClaytonBocce
DTSTART;TZID=America/Los_Angeles:20260205T183000
DTEND;TZID=America/Los_Angeles:20260205T210000
STATUS:CONFIRMED
SUMMARY:Off the Wall vs Bravo Bocce
URL:/League/Schedule/2850
DESCRIPTION:Regular Season match: Off the Wall vs Bravo Bocc
 e
LOCATION:CCIBA Court 6
END:VEVENT
BEGIN:VEVENT
DTSTAMP:20251104T000000Z
UID:ef736ab3-b46d-462e-a4d2-2f1144058941@ClaytonBocce
DTSTART;TZID=America/Los_Angeles:20260212T183000
DTEND;TZID=America/Los_Angeles:20260212T210000
STATUS:CONFIRMED
SUMMARY:Off the Wall vs Rockin Rollers
URL:/League/Schedule/2850
DESCRIPTION:Regular Season match: Off the Wall vs Rockin Rol
 lers
LOCATION:CCIBA Court 1
END:VEVENT
BEGIN:VEVENT
DTSTAMP:20251104T000000Z
UID:8603d2b4-810e-41fa-a096-c031a33f4e2f@ClaytonBocce
DTSTART;TZID=America/Los_Angeles:20260226T183000
DTEND;TZID=America/Los_Angeles:20260226T210000
STATUS:CONFIRMED
SUMMARY:Off the Wall vs Johnny B's
URL:/League/Schedule/2850
DESCRIPTION:Regular Season match: Off the Wall vs Johnny B's
LOCATION:CCIBA Court 6
END:VEVENT
END:VCALENDAR
