BEGIN:VCALENDAR
VERSION:2.0
PRODID:-//Clayton Bocce League
METHOD:PUBLISH
BEGIN:VTIMEZONE
TZID:America/Los_Angeles
X-LIC-LOCATION:America/Los_Angeles
BEGIN:DAYLIGHT
TZOFFSETFROM:-0800
TZOFFSETTO:-0700
TZNAME:PDT
DTSTART:20070311T020000
RRULE:FREQ=YEARLY;BYMONTH=3;BYDAY=2SU
END:DAYLIGHT
BEGIN:STANDARD
TZOFFSETFROM:-0700
TZOFFSETTO:-0800
TZNAME:PST
DTSTART:20071104T020000
RRULE:FREQ=YEARLY;BYMONTH=11;BYDAY=1SU
END:STANDARD
END:VTIMEZONE
BEGIN:VEVENT
DTSTAMP:20251104T000000Z
UID:3ea4f4b5-ecc7-4e14-964e-321331c98385@ClaytonBocce
DTSTART;TZID=America/Los_Angeles:20251106T183000
DTEND;TZID=America/Los_Angeles:20251106T210000
STATUS:CONFIRMED
SUMMARY:Team Recycle vs Off the Wall
URL:/League/Schedule/2847
DESCRIPTION:Regular Season match: Team Recycle vs Off the Wa
 ll
LOCATION:CCIBA Court 4
END:VEVENT
BEGIN:VEVENT
DTSTAMP:20251104T000000Z
UID:daba882a-5a66-4939-8e2b-e7f0cfc390d0@ClaytonBocce
DTSTART;TZID=America/Los_Angeles:20251113T183000
DTEND;TZID=America/Los_Angeles:20251113T210000
STATUS:CONFIRMED
SUMMARY:Team Recycle vs Lo2DFlo
URL:/League/Schedule/2847
DESCRIPTION:Regular Season match: Team Recycle vs Lo2DFlo
LOCATION:CCIBA Court 3
END:VEVENT
BEGIN:VEVENT
DTSTAMP:20251104T000000Z
UID:fd7ea223-7f01-4580-9b91-2c69feaa36cf@ClaytonBocce
DTSTART;TZID=America/Los_Angeles:20251204T183000
DTEND;TZID=America/Los_Angeles:20251204T210000
STATUS:CONFIRMED
SUMMARY:Team Recycle vs One Handers
URL:/League/Schedule/2847
DESCRIPTION:Regular Season match: Team Recycle vs One Hander
 s
LOCATION:CCIBA Court 2
END:VEVENT
BEGIN:VEVENT
DTSTAMP:20251104T000000Z
UID:d9a32d19-3812-49ff-8b2e-459a5fc0b749@ClaytonBocce
DTSTART;TZID=America/Los_Angeles:20251211T183000
DTEND;TZID=America/Los_Angeles:20251211T210000
STATUS:CONFIRMED
SUMMARY:Team Recycle vs Johnny B's
URL:/League/Schedule/2847
DESCRIPTION:Regular Season match: Team Recycle vs Johnny B's
LOCATION:CCIBA Court 1
END:VEVENT
BEGIN:VEVENT
DTSTAMP:20251104T000000Z
UID:691256a3-a172-42f8-ba11-e407119a07e6@ClaytonBocce
DTSTART;TZID=America/Los_Angeles:20251218T183000
DTEND;TZID=America/Los_Angeles:20251218T210000
STATUS:CONFIRMED
SUMMARY:Team Recycle vs Casino Warriors
URL:/League/Schedule/2847
DESCRIPTION:Regular Season match: Team Recycle vs Casino War
 riors
LOCATION:CCIBA Court 5
END:VEVENT
BEGIN:VEVENT
DTSTAMP:20251104T000000Z
UID:6abfcd7d-4e33-42b5-80c4-7748dadfd274@ClaytonBocce
DTSTART;TZID=America/Los_Angeles:20260108T183000
DTEND;TZID=America/Los_Angeles:20260108T210000
STATUS:CONFIRMED
SUMMARY:Team Recycle vs Too Bocce to Handle
URL:/League/Schedule/2847
DESCRIPTION:Regular Season match: Team Recycle vs Too Bocce 
 to Handle
LOCATION:CCIBA Court 2
END:VEVENT
BEGIN:VEVENT
DTSTAMP:20251104T000000Z
UID:8a0046ea-345c-4099-8ee9-ad7ab0f6fc46@ClaytonBocce
DTSTART;TZID=America/Los_Angeles:20260115T183000
DTEND;TZID=America/Los_Angeles:20260115T210000
STATUS:CONFIRMED
SUMMARY:Team Recycle vs Bravo Bocce
URL:/League/Schedule/2847
DESCRIPTION:Regular Season match: Team Recycle vs Bravo Bocc
 e
LOCATION:CCIBA Court 1
END:VEVENT
BEGIN:VEVENT
DTSTAMP:20251104T000000Z
UID:b04654e9-80b8-41eb-979e-0729baaa686d@ClaytonBocce
DTSTART;TZID=America/Los_Angeles:20260122T183000
DTEND;TZID=America/Los_Angeles:20260122T210000
STATUS:CONFIRMED
SUMMARY:Team Recycle vs Rockin Rollers
URL:/League/Schedule/2847
DESCRIPTION:Regular Season match: Team Recycle vs Rockin Rol
 lers
LOCATION:CCIBA Court 6
END:VEVENT
BEGIN:VEVENT
DTSTAMP:20251104T000000Z
UID:3589cd2a-b196-43b4-98d6-50716196d13b@ClaytonBocce
DTSTART;TZID=America/Los_Angeles:20260129T183000
DTEND;TZID=America/Los_Angeles:20260129T210000
STATUS:CONFIRMED
SUMMARY:Team Recycle vs Bocce By The Bay
URL:/League/Schedule/2847
DESCRIPTION:Regular Season match: Team Recycle vs Bocce By T
 he Bay
LOCATION:CCIBA Court 1
END:VEVENT
BEGIN:VEVENT
DTSTAMP:20251104T000000Z
UID:1fbe2755-cb14-46aa-9037-fef13f64a1ba@ClaytonBocce
DTSTART;TZID=America/Los_Angeles:20260205T183000
DTEND;TZID=America/Los_Angeles:20260205T210000
STATUS:CONFIRMED
SUMMARY:Team Recycle vs Roll Models
URL:/League/Schedule/2847
DESCRIPTION:Regular Season match: Team Recycle vs Roll Model
 s
LOCATION:CCIBA Court 4
END:VEVENT
BEGIN:VEVENT
DTSTAMP:20251104T000000Z
UID:d53060e7-6575-4b23-8ae8-53edf7361a58@ClaytonBocce
DTSTART;TZID=America/Los_Angeles:20260212T183000
DTEND;TZID=America/Los_Angeles:20260212T210000
STATUS:CONFIRMED
SUMMARY:Team Recycle vs Peace, Love, Bocce
URL:/League/Schedule/2847
DESCRIPTION:Regular Season match: Team Recycle vs Peace, Lov
 e, Bocce
LOCATION:CCIBA Court 3
END:VEVENT
BEGIN:VEVENT
DTSTAMP:20251104T000000Z
UID:d70de39f-d408-42bb-95ed-b67a8b0ba662@ClaytonBocce
DTSTART;TZID=America/Los_Angeles:20260226T183000
DTEND;TZID=America/Los_Angeles:20260226T210000
STATUS:CONFIRMED
SUMMARY:Team Recycle vs One Handers
URL:/League/Schedule/2847
DESCRIPTION:Regular Season match: Team Recycle vs One Hander
 s
LOCATION:CCIBA Court 4
END:VEVENT
END:VCALENDAR
