BEGIN:VCALENDAR
VERSION:2.0
PRODID:-//Clayton Bocce League
METHOD:PUBLISH
BEGIN:VTIMEZONE
TZID:America/Los_Angeles
X-LIC-LOCATION:America/Los_Angeles
BEGIN:DAYLIGHT
TZOFFSETFROM:-0800
TZOFFSETTO:-0700
TZNAME:PDT
DTSTART:20070311T020000
RRULE:FREQ=YEARLY;BYMONTH=3;BYDAY=2SU
END:DAYLIGHT
BEGIN:STANDARD
TZOFFSETFROM:-0700
TZOFFSETTO:-0800
TZNAME:PST
DTSTART:20071104T020000
RRULE:FREQ=YEARLY;BYMONTH=11;BYDAY=1SU
END:STANDARD
END:VTIMEZONE
BEGIN:VEVENT
DTSTAMP:20251104T000000Z
UID:a5c920c3-c6de-4ea2-9d31-d606ebc518d4@ClaytonBocce
DTSTART;TZID=America/Los_Angeles:20251106T183000
DTEND;TZID=America/Los_Angeles:20251106T210000
STATUS:CONFIRMED
SUMMARY:Roll Models vs Peace, Love, Bocce
URL:/League/Schedule/2846
DESCRIPTION:Regular Season match: Roll Models vs Peace, Love
 , Bocce
LOCATION:CCIBA Court 3
END:VEVENT
BEGIN:VEVENT
DTSTAMP:20251104T000000Z
UID:a5d08dec-b7a8-410e-a55b-801f745c5b6e@ClaytonBocce
DTSTART;TZID=America/Los_Angeles:20251113T183000
DTEND;TZID=America/Los_Angeles:20251113T210000
STATUS:CONFIRMED
SUMMARY:Roll Models vs Off the Wall
URL:/League/Schedule/2846
DESCRIPTION:Regular Season match: Roll Models vs Off the Wal
 l
LOCATION:CCIBA Court 2
END:VEVENT
BEGIN:VEVENT
DTSTAMP:20251104T000000Z
UID:2a6d5b47-add5-456f-af1e-40d926648424@ClaytonBocce
DTSTART;TZID=America/Los_Angeles:20251204T183000
DTEND;TZID=America/Los_Angeles:20251204T210000
STATUS:CONFIRMED
SUMMARY:Roll Models vs Lo2DFlo
URL:/League/Schedule/2846
DESCRIPTION:Regular Season match: Roll Models vs Lo2DFlo
LOCATION:CCIBA Court 1
END:VEVENT
BEGIN:VEVENT
DTSTAMP:20251104T000000Z
UID:0976ee73-da05-448b-b91c-c997a14e2a15@ClaytonBocce
DTSTART;TZID=America/Los_Angeles:20251211T183000
DTEND;TZID=America/Los_Angeles:20251211T210000
STATUS:CONFIRMED
SUMMARY:Roll Models vs One Handers
URL:/League/Schedule/2846
DESCRIPTION:Regular Season match: Roll Models vs One Handers
LOCATION:CCIBA Court 3
END:VEVENT
BEGIN:VEVENT
DTSTAMP:20251104T000000Z
UID:dee944b0-9a2c-4479-bc56-6323a5b87134@ClaytonBocce
DTSTART;TZID=America/Los_Angeles:20251218T183000
DTEND;TZID=America/Los_Angeles:20251218T210000
STATUS:CONFIRMED
SUMMARY:Roll Models vs Johnny B's
URL:/League/Schedule/2846
DESCRIPTION:Regular Season match: Roll Models vs Johnny B's
LOCATION:CCIBA Court 4
END:VEVENT
BEGIN:VEVENT
DTSTAMP:20251104T000000Z
UID:049d53a5-d447-4b78-8254-d01d2ff1ed6a@ClaytonBocce
DTSTART;TZID=America/Los_Angeles:20260108T183000
DTEND;TZID=America/Los_Angeles:20260108T210000
STATUS:CONFIRMED
SUMMARY:Roll Models vs Casino Warriors
URL:/League/Schedule/2846
DESCRIPTION:Regular Season match: Roll Models vs Casino Warr
 iors
LOCATION:CCIBA Court 1
END:VEVENT
BEGIN:VEVENT
DTSTAMP:20251104T000000Z
UID:5a8c6c15-b354-435f-a783-fd9996e57395@ClaytonBocce
DTSTART;TZID=America/Los_Angeles:20260115T183000
DTEND;TZID=America/Los_Angeles:20260115T210000
STATUS:CONFIRMED
SUMMARY:Roll Models vs Too Bocce to Handle
URL:/League/Schedule/2846
DESCRIPTION:Regular Season match: Roll Models vs Too Bocce t
 o Handle
LOCATION:CCIBA Court 6
END:VEVENT
BEGIN:VEVENT
DTSTAMP:20251104T000000Z
UID:4afd7cec-b161-4cb2-87f0-1ddbcfd670ba@ClaytonBocce
DTSTART;TZID=America/Los_Angeles:20260122T183000
DTEND;TZID=America/Los_Angeles:20260122T210000
STATUS:CONFIRMED
SUMMARY:Roll Models vs Bravo Bocce
URL:/League/Schedule/2846
DESCRIPTION:Regular Season match: Roll Models vs Bravo Bocce
LOCATION:CCIBA Court 2
END:VEVENT
BEGIN:VEVENT
DTSTAMP:20251104T000000Z
UID:a01969c5-15dc-4c7c-9a43-0f046902fbb6@ClaytonBocce
DTSTART;TZID=America/Los_Angeles:20260129T183000
DTEND;TZID=America/Los_Angeles:20260129T210000
STATUS:CONFIRMED
SUMMARY:Roll Models vs Rockin Rollers
URL:/League/Schedule/2846
DESCRIPTION:Regular Season match: Roll Models vs Rockin Roll
 ers
LOCATION:CCIBA Court 5
END:VEVENT
BEGIN:VEVENT
DTSTAMP:20251104T000000Z
UID:1fbe2755-cb14-46aa-9037-fef13f64a1ba@ClaytonBocce
DTSTART;TZID=America/Los_Angeles:20260205T183000
DTEND;TZID=America/Los_Angeles:20260205T210000
STATUS:CONFIRMED
SUMMARY:Roll Models vs Team Recycle
URL:/League/Schedule/2846
DESCRIPTION:Regular Season match: Roll Models vs Team Recycl
 e
LOCATION:CCIBA Court 4
END:VEVENT
BEGIN:VEVENT
DTSTAMP:20251104T000000Z
UID:f85173f5-6a5a-4f0d-ab35-50055d6e52b6@ClaytonBocce
DTSTART;TZID=America/Los_Angeles:20260212T183000
DTEND;TZID=America/Los_Angeles:20260212T210000
STATUS:CONFIRMED
SUMMARY:Roll Models vs Bocce By The Bay
URL:/League/Schedule/2846
DESCRIPTION:Regular Season match: Roll Models vs Bocce By Th
 e Bay
LOCATION:CCIBA Court 6
END:VEVENT
BEGIN:VEVENT
DTSTAMP:20251104T000000Z
UID:3f5f9aa3-5e50-43e3-b991-a7d2a8fed57f@ClaytonBocce
DTSTART;TZID=America/Los_Angeles:20260226T183000
DTEND;TZID=America/Los_Angeles:20260226T210000
STATUS:CONFIRMED
SUMMARY:Roll Models vs Lo2DFlo
URL:/League/Schedule/2846
DESCRIPTION:Regular Season match: Roll Models vs Lo2DFlo
LOCATION:CCIBA Court 1
END:VEVENT
END:VCALENDAR
