BEGIN:VCALENDAR
VERSION:2.0
PRODID:-//Clayton Bocce League
METHOD:PUBLISH
BEGIN:VTIMEZONE
TZID:America/Los_Angeles
X-LIC-LOCATION:America/Los_Angeles
BEGIN:DAYLIGHT
TZOFFSETFROM:-0800
TZOFFSETTO:-0700
TZNAME:PDT
DTSTART:20070311T020000
RRULE:FREQ=YEARLY;BYMONTH=3;BYDAY=2SU
END:DAYLIGHT
BEGIN:STANDARD
TZOFFSETFROM:-0700
TZOFFSETTO:-0800
TZNAME:PST
DTSTART:20071104T020000
RRULE:FREQ=YEARLY;BYMONTH=11;BYDAY=1SU
END:STANDARD
END:VTIMEZONE
BEGIN:VEVENT
DTSTAMP:20251104T000000Z
UID:a5c920c3-c6de-4ea2-9d31-d606ebc518d4@ClaytonBocce
DTSTART;TZID=America/Los_Angeles:20251106T183000
DTEND;TZID=America/Los_Angeles:20251106T210000
STATUS:CONFIRMED
SUMMARY:Peace, Love, Bocce vs Roll Models
URL:/League/Schedule/2851
DESCRIPTION:Regular Season match: Peace, Love, Bocce vs Roll
  Models
LOCATION:CCIBA Court 3
END:VEVENT
BEGIN:VEVENT
DTSTAMP:20251104T000000Z
UID:37597541-6c1f-4a4c-847e-de7103a2cc9b@ClaytonBocce
DTSTART;TZID=America/Los_Angeles:20251113T183000
DTEND;TZID=America/Los_Angeles:20251113T210000
STATUS:CONFIRMED
SUMMARY:Peace, Love, Bocce vs Bocce By The Bay
URL:/League/Schedule/2851
DESCRIPTION:Regular Season match: Peace, Love, Bocce vs Bocc
 e By The Bay
LOCATION:CCIBA Court 1
END:VEVENT
BEGIN:VEVENT
DTSTAMP:20251104T000000Z
UID:397f9b3f-e2ca-4db1-b0c9-4c8903830208@ClaytonBocce
DTSTART;TZID=America/Los_Angeles:20251204T183000
DTEND;TZID=America/Los_Angeles:20251204T210000
STATUS:CONFIRMED
SUMMARY:Peace, Love, Bocce vs Off the Wall
URL:/League/Schedule/2851
DESCRIPTION:Regular Season match: Peace, Love, Bocce vs Off 
 the Wall
LOCATION:CCIBA Court 4
END:VEVENT
BEGIN:VEVENT
DTSTAMP:20251104T000000Z
UID:95ebba91-dfdd-4338-8e73-ac96abe5ef22@ClaytonBocce
DTSTART;TZID=America/Los_Angeles:20251211T183000
DTEND;TZID=America/Los_Angeles:20251211T210000
STATUS:CONFIRMED
SUMMARY:Peace, Love, Bocce vs Lo2DFlo
URL:/League/Schedule/2851
DESCRIPTION:Regular Season match: Peace, Love, Bocce vs Lo2D
 Flo
LOCATION:CCIBA Court 2
END:VEVENT
BEGIN:VEVENT
DTSTAMP:20251104T000000Z
UID:ef06e028-2414-4fdc-bce9-b30392e1a915@ClaytonBocce
DTSTART;TZID=America/Los_Angeles:20251218T183000
DTEND;TZID=America/Los_Angeles:20251218T210000
STATUS:CONFIRMED
SUMMARY:Peace, Love, Bocce vs One Handers
URL:/League/Schedule/2851
DESCRIPTION:Regular Season match: Peace, Love, Bocce vs One 
 Handers
LOCATION:CCIBA Court 1
END:VEVENT
BEGIN:VEVENT
DTSTAMP:20251104T000000Z
UID:acb0966f-bc4c-43d1-9e8e-5735ef25d363@ClaytonBocce
DTSTART;TZID=America/Los_Angeles:20260108T183000
DTEND;TZID=America/Los_Angeles:20260108T210000
STATUS:CONFIRMED
SUMMARY:Peace, Love, Bocce vs Johnny B's
URL:/League/Schedule/2851
DESCRIPTION:Regular Season match: Peace, Love, Bocce vs John
 ny B's
LOCATION:CCIBA Court 6
END:VEVENT
BEGIN:VEVENT
DTSTAMP:20251104T000000Z
UID:90d24da6-3949-4c8f-8ba0-aedaa53503ec@ClaytonBocce
DTSTART;TZID=America/Los_Angeles:20260115T183000
DTEND;TZID=America/Los_Angeles:20260115T210000
STATUS:CONFIRMED
SUMMARY:Peace, Love, Bocce vs Casino Warriors
URL:/League/Schedule/2851
DESCRIPTION:Regular Season match: Peace, Love, Bocce vs Casi
 no Warriors
LOCATION:CCIBA Court 4
END:VEVENT
BEGIN:VEVENT
DTSTAMP:20251104T000000Z
UID:770c37e5-d713-4d74-957d-163de7d25377@ClaytonBocce
DTSTART;TZID=America/Los_Angeles:20260122T183000
DTEND;TZID=America/Los_Angeles:20260122T210000
STATUS:CONFIRMED
SUMMARY:Peace, Love, Bocce vs Too Bocce to Handle
URL:/League/Schedule/2851
DESCRIPTION:Regular Season match: Peace, Love, Bocce vs Too 
 Bocce to Handle
LOCATION:CCIBA Court 5
END:VEVENT
BEGIN:VEVENT
DTSTAMP:20251104T000000Z
UID:126e074d-efee-4448-8ced-3807c059007a@ClaytonBocce
DTSTART;TZID=America/Los_Angeles:20260129T183000
DTEND;TZID=America/Los_Angeles:20260129T210000
STATUS:CONFIRMED
SUMMARY:Peace, Love, Bocce vs Bravo Bocce
URL:/League/Schedule/2851
DESCRIPTION:Regular Season match: Peace, Love, Bocce vs Brav
 o Bocce
LOCATION:CCIBA Court 4
END:VEVENT
BEGIN:VEVENT
DTSTAMP:20251104T000000Z
UID:7ad8db66-e6d6-4c78-95e1-e339d9816540@ClaytonBocce
DTSTART;TZID=America/Los_Angeles:20260205T183000
DTEND;TZID=America/Los_Angeles:20260205T210000
STATUS:CONFIRMED
SUMMARY:Peace, Love, Bocce vs Rockin Rollers
URL:/League/Schedule/2851
DESCRIPTION:Regular Season match: Peace, Love, Bocce vs Rock
 in Rollers
LOCATION:CCIBA Court 2
END:VEVENT
BEGIN:VEVENT
DTSTAMP:20251104T000000Z
UID:d53060e7-6575-4b23-8ae8-53edf7361a58@ClaytonBocce
DTSTART;TZID=America/Los_Angeles:20260212T183000
DTEND;TZID=America/Los_Angeles:20260212T210000
STATUS:CONFIRMED
SUMMARY:Peace, Love, Bocce vs Team Recycle
URL:/League/Schedule/2851
DESCRIPTION:Regular Season match: Peace, Love, Bocce vs Team
  Recycle
LOCATION:CCIBA Court 3
END:VEVENT
BEGIN:VEVENT
DTSTAMP:20251104T000000Z
UID:2f67991f-123b-401f-a98c-a31be0847757@ClaytonBocce
DTSTART;TZID=America/Los_Angeles:20260226T183000
DTEND;TZID=America/Los_Angeles:20260226T210000
STATUS:CONFIRMED
SUMMARY:Peace, Love, Bocce vs Too Bocce to Handle
URL:/League/Schedule/2851
DESCRIPTION:Regular Season match: Peace, Love, Bocce vs Too 
 Bocce to Handle
LOCATION:CCIBA Court 5
END:VEVENT
END:VCALENDAR
