BEGIN:VCALENDAR
VERSION:2.0
PRODID:-//Clayton Bocce League
METHOD:PUBLISH
BEGIN:VTIMEZONE
TZID:America/Los_Angeles
X-LIC-LOCATION:America/Los_Angeles
BEGIN:DAYLIGHT
TZOFFSETFROM:-0800
TZOFFSETTO:-0700
TZNAME:PDT
DTSTART:20070311T020000
RRULE:FREQ=YEARLY;BYMONTH=3;BYDAY=2SU
END:DAYLIGHT
BEGIN:STANDARD
TZOFFSETFROM:-0700
TZOFFSETTO:-0800
TZNAME:PST
DTSTART:20071104T020000
RRULE:FREQ=YEARLY;BYMONTH=11;BYDAY=1SU
END:STANDARD
END:VTIMEZONE
BEGIN:VEVENT
DTSTAMP:20251104T000000Z
UID:def1c13f-30a9-48b1-a24e-1f8aa793c283@ClaytonBocce
DTSTART;TZID=America/Los_Angeles:20251106T183000
DTEND;TZID=America/Los_Angeles:20251106T210000
STATUS:CONFIRMED
SUMMARY:Johnny B's vs Too Bocce to Handle
URL:/League/Schedule/2853
DESCRIPTION:Regular Season match: Johnny B's vs Too Bocce to
  Handle
LOCATION:CCIBA Court 1
END:VEVENT
BEGIN:VEVENT
DTSTAMP:20251104T000000Z
UID:8e98180a-29cd-472e-9df8-77bb68361f73@ClaytonBocce
DTSTART;TZID=America/Los_Angeles:20251113T183000
DTEND;TZID=America/Los_Angeles:20251113T210000
STATUS:CONFIRMED
SUMMARY:Johnny B's vs Bravo Bocce
URL:/League/Schedule/2853
DESCRIPTION:Regular Season match: Johnny B's vs Bravo Bocce
LOCATION:CCIBA Court 6
END:VEVENT
BEGIN:VEVENT
DTSTAMP:20251104T000000Z
UID:57362939-2ecb-4b4b-b318-ec21f4d62d40@ClaytonBocce
DTSTART;TZID=America/Los_Angeles:20251204T183000
DTEND;TZID=America/Los_Angeles:20251204T210000
STATUS:CONFIRMED
SUMMARY:Johnny B's vs Rockin Rollers
URL:/League/Schedule/2853
DESCRIPTION:Regular Season match: Johnny B's vs Rockin Rolle
 rs
LOCATION:CCIBA Court 5
END:VEVENT
BEGIN:VEVENT
DTSTAMP:20251104T000000Z
UID:d9a32d19-3812-49ff-8b2e-459a5fc0b749@ClaytonBocce
DTSTART;TZID=America/Los_Angeles:20251211T183000
DTEND;TZID=America/Los_Angeles:20251211T210000
STATUS:CONFIRMED
SUMMARY:Johnny B's vs Team Recycle
URL:/League/Schedule/2853
DESCRIPTION:Regular Season match: Johnny B's vs Team Recycle
LOCATION:CCIBA Court 1
END:VEVENT
BEGIN:VEVENT
DTSTAMP:20251104T000000Z
UID:dee944b0-9a2c-4479-bc56-6323a5b87134@ClaytonBocce
DTSTART;TZID=America/Los_Angeles:20251218T183000
DTEND;TZID=America/Los_Angeles:20251218T210000
STATUS:CONFIRMED
SUMMARY:Johnny B's vs Roll Models
URL:/League/Schedule/2853
DESCRIPTION:Regular Season match: Johnny B's vs Roll Models
LOCATION:CCIBA Court 4
END:VEVENT
BEGIN:VEVENT
DTSTAMP:20251104T000000Z
UID:acb0966f-bc4c-43d1-9e8e-5735ef25d363@ClaytonBocce
DTSTART;TZID=America/Los_Angeles:20260108T183000
DTEND;TZID=America/Los_Angeles:20260108T210000
STATUS:CONFIRMED
SUMMARY:Johnny B's vs Peace, Love, Bocce
URL:/League/Schedule/2853
DESCRIPTION:Regular Season match: Johnny B's vs Peace, Love,
  Bocce
LOCATION:CCIBA Court 6
END:VEVENT
BEGIN:VEVENT
DTSTAMP:20251104T000000Z
UID:90cec646-dd51-4291-b884-e9cd32686124@ClaytonBocce
DTSTART;TZID=America/Los_Angeles:20260115T183000
DTEND;TZID=America/Los_Angeles:20260115T210000
STATUS:CONFIRMED
SUMMARY:Johnny B's vs Off the Wall
URL:/League/Schedule/2853
DESCRIPTION:Regular Season match: Johnny B's vs Off the Wall
LOCATION:CCIBA Court 2
END:VEVENT
BEGIN:VEVENT
DTSTAMP:20251104T000000Z
UID:acef8232-d44b-4418-8185-c9e619f862c9@ClaytonBocce
DTSTART;TZID=America/Los_Angeles:20260122T183000
DTEND;TZID=America/Los_Angeles:20260122T210000
STATUS:CONFIRMED
SUMMARY:Johnny B's vs Lo2DFlo
URL:/League/Schedule/2853
DESCRIPTION:Regular Season match: Johnny B's vs Lo2DFlo
LOCATION:CCIBA Court 3
END:VEVENT
BEGIN:VEVENT
DTSTAMP:20251104T000000Z
UID:a492d475-7f29-4cdb-b72c-59651ab78c15@ClaytonBocce
DTSTART;TZID=America/Los_Angeles:20260129T183000
DTEND;TZID=America/Los_Angeles:20260129T210000
STATUS:CONFIRMED
SUMMARY:Johnny B's vs One Handers
URL:/League/Schedule/2853
DESCRIPTION:Regular Season match: Johnny B's vs One Handers
LOCATION:CCIBA Court 6
END:VEVENT
BEGIN:VEVENT
DTSTAMP:20251104T000000Z
UID:42f6912d-27d1-4de8-84c2-d2e896b26e00@ClaytonBocce
DTSTART;TZID=America/Los_Angeles:20260205T183000
DTEND;TZID=America/Los_Angeles:20260205T210000
STATUS:CONFIRMED
SUMMARY:Johnny B's vs Bocce By The Bay
URL:/League/Schedule/2853
DESCRIPTION:Regular Season match: Johnny B's vs Bocce By The
  Bay
LOCATION:CCIBA Court 5
END:VEVENT
BEGIN:VEVENT
DTSTAMP:20251104T000000Z
UID:5399ebc8-f5cc-45a3-9cd2-362fcc2f9659@ClaytonBocce
DTSTART;TZID=America/Los_Angeles:20260212T183000
DTEND;TZID=America/Los_Angeles:20260212T210000
STATUS:CONFIRMED
SUMMARY:Johnny B's vs Casino Warriors
URL:/League/Schedule/2853
DESCRIPTION:Regular Season match: Johnny B's vs Casino Warri
 ors
LOCATION:CCIBA Court 4
END:VEVENT
BEGIN:VEVENT
DTSTAMP:20251104T000000Z
UID:8603d2b4-810e-41fa-a096-c031a33f4e2f@ClaytonBocce
DTSTART;TZID=America/Los_Angeles:20260226T183000
DTEND;TZID=America/Los_Angeles:20260226T210000
STATUS:CONFIRMED
SUMMARY:Johnny B's vs Off the Wall
URL:/League/Schedule/2853
DESCRIPTION:Regular Season match: Johnny B's vs Off the Wall
LOCATION:CCIBA Court 6
END:VEVENT
END:VCALENDAR
