BEGIN:VCALENDAR
VERSION:2.0
PRODID:-//Clayton Bocce League
METHOD:PUBLISH
BEGIN:VTIMEZONE
TZID:America/Los_Angeles
X-LIC-LOCATION:America/Los_Angeles
BEGIN:DAYLIGHT
TZOFFSETFROM:-0800
TZOFFSETTO:-0700
TZNAME:PDT
DTSTART:20070311T020000
RRULE:FREQ=YEARLY;BYMONTH=3;BYDAY=2SU
END:DAYLIGHT
BEGIN:STANDARD
TZOFFSETFROM:-0700
TZOFFSETTO:-0800
TZNAME:PST
DTSTART:20071104T020000
RRULE:FREQ=YEARLY;BYMONTH=11;BYDAY=1SU
END:STANDARD
END:VTIMEZONE
BEGIN:VEVENT
DTSTAMP:20251104T000000Z
UID:def1c13f-30a9-48b1-a24e-1f8aa793c283@ClaytonBocce
DTSTART;TZID=America/Los_Angeles:20251106T183000
DTEND;TZID=America/Los_Angeles:20251106T210000
STATUS:CONFIRMED
SUMMARY:Too Bocce to Handle vs Johnny B's
URL:/League/Schedule/2855
DESCRIPTION:Regular Season match: Too Bocce to Handle vs Joh
 nny B's
LOCATION:CCIBA Court 1
END:VEVENT
BEGIN:VEVENT
DTSTAMP:20251104T000000Z
UID:7c416649-0183-46cf-bf2d-a03e05c91506@ClaytonBocce
DTSTART;TZID=America/Los_Angeles:20251113T183000
DTEND;TZID=America/Los_Angeles:20251113T210000
STATUS:CONFIRMED
SUMMARY:Too Bocce to Handle vs Casino Warriors
URL:/League/Schedule/2855
DESCRIPTION:Regular Season match: Too Bocce to Handle vs Cas
 ino Warriors
LOCATION:CCIBA Court 5
END:VEVENT
BEGIN:VEVENT
DTSTAMP:20251104T000000Z
UID:589d3d2a-d7ca-4401-a264-5893241066ae@ClaytonBocce
DTSTART;TZID=America/Los_Angeles:20251204T183000
DTEND;TZID=America/Los_Angeles:20251204T210000
STATUS:CONFIRMED
SUMMARY:Too Bocce to Handle vs Bocce By The Bay
URL:/League/Schedule/2855
DESCRIPTION:Regular Season match: Too Bocce to Handle vs Boc
 ce By The Bay
LOCATION:CCIBA Court 6
END:VEVENT
BEGIN:VEVENT
DTSTAMP:20251104T000000Z
UID:8e75015b-454a-4627-9458-c41c7bae36a5@ClaytonBocce
DTSTART;TZID=America/Los_Angeles:20251211T183000
DTEND;TZID=America/Los_Angeles:20251211T210000
STATUS:CONFIRMED
SUMMARY:Too Bocce to Handle vs Bravo Bocce
URL:/League/Schedule/2855
DESCRIPTION:Regular Season match: Too Bocce to Handle vs Bra
 vo Bocce
LOCATION:CCIBA Court 4
END:VEVENT
BEGIN:VEVENT
DTSTAMP:20251104T000000Z
UID:07ac7f8a-3175-4c35-9034-d491130ad640@ClaytonBocce
DTSTART;TZID=America/Los_Angeles:20251218T183000
DTEND;TZID=America/Los_Angeles:20251218T210000
STATUS:CONFIRMED
SUMMARY:Too Bocce to Handle vs Rockin Rollers
URL:/League/Schedule/2855
DESCRIPTION:Regular Season match: Too Bocce to Handle vs Roc
 kin Rollers
LOCATION:CCIBA Court 3
END:VEVENT
BEGIN:VEVENT
DTSTAMP:20251104T000000Z
UID:6abfcd7d-4e33-42b5-80c4-7748dadfd274@ClaytonBocce
DTSTART;TZID=America/Los_Angeles:20260108T183000
DTEND;TZID=America/Los_Angeles:20260108T210000
STATUS:CONFIRMED
SUMMARY:Too Bocce to Handle vs Team Recycle
URL:/League/Schedule/2855
DESCRIPTION:Regular Season match: Too Bocce to Handle vs Tea
 m Recycle
LOCATION:CCIBA Court 2
END:VEVENT
BEGIN:VEVENT
DTSTAMP:20251104T000000Z
UID:5a8c6c15-b354-435f-a783-fd9996e57395@ClaytonBocce
DTSTART;TZID=America/Los_Angeles:20260115T183000
DTEND;TZID=America/Los_Angeles:20260115T210000
STATUS:CONFIRMED
SUMMARY:Too Bocce to Handle vs Roll Models
URL:/League/Schedule/2855
DESCRIPTION:Regular Season match: Too Bocce to Handle vs Rol
 l Models
LOCATION:CCIBA Court 6
END:VEVENT
BEGIN:VEVENT
DTSTAMP:20251104T000000Z
UID:770c37e5-d713-4d74-957d-163de7d25377@ClaytonBocce
DTSTART;TZID=America/Los_Angeles:20260122T183000
DTEND;TZID=America/Los_Angeles:20260122T210000
STATUS:CONFIRMED
SUMMARY:Too Bocce to Handle vs Peace, Love, Bocce
URL:/League/Schedule/2855
DESCRIPTION:Regular Season match: Too Bocce to Handle vs Pea
 ce, Love, Bocce
LOCATION:CCIBA Court 5
END:VEVENT
BEGIN:VEVENT
DTSTAMP:20251104T000000Z
UID:44393736-a94a-46cb-bad4-1a428218356b@ClaytonBocce
DTSTART;TZID=America/Los_Angeles:20260129T183000
DTEND;TZID=America/Los_Angeles:20260129T210000
STATUS:CONFIRMED
SUMMARY:Too Bocce to Handle vs Off the Wall
URL:/League/Schedule/2855
DESCRIPTION:Regular Season match: Too Bocce to Handle vs Off
  the Wall
LOCATION:CCIBA Court 3
END:VEVENT
BEGIN:VEVENT
DTSTAMP:20251104T000000Z
UID:e05909e7-16c1-4ae1-8022-fe3961cfe18d@ClaytonBocce
DTSTART;TZID=America/Los_Angeles:20260205T183000
DTEND;TZID=America/Los_Angeles:20260205T210000
STATUS:CONFIRMED
SUMMARY:Too Bocce to Handle vs Lo2DFlo
URL:/League/Schedule/2855
DESCRIPTION:Regular Season match: Too Bocce to Handle vs Lo2
 DFlo
LOCATION:CCIBA Court 1
END:VEVENT
BEGIN:VEVENT
DTSTAMP:20251104T000000Z
UID:47855e1d-448b-4b76-a5f3-f6338139bea5@ClaytonBocce
DTSTART;TZID=America/Los_Angeles:20260212T183000
DTEND;TZID=America/Los_Angeles:20260212T210000
STATUS:CONFIRMED
SUMMARY:Too Bocce to Handle vs One Handers
URL:/League/Schedule/2855
DESCRIPTION:Regular Season match: Too Bocce to Handle vs One
  Handers
LOCATION:CCIBA Court 2
END:VEVENT
BEGIN:VEVENT
DTSTAMP:20251104T000000Z
UID:2f67991f-123b-401f-a98c-a31be0847757@ClaytonBocce
DTSTART;TZID=America/Los_Angeles:20260226T183000
DTEND;TZID=America/Los_Angeles:20260226T210000
STATUS:CONFIRMED
SUMMARY:Too Bocce to Handle vs Peace, Love, Bocce
URL:/League/Schedule/2855
DESCRIPTION:Regular Season match: Too Bocce to Handle vs Pea
 ce, Love, Bocce
LOCATION:CCIBA Court 5
END:VEVENT
END:VCALENDAR
