BEGIN:VCALENDAR
VERSION:2.0
PRODID:-//Clayton Bocce League
METHOD:PUBLISH
BEGIN:VTIMEZONE
TZID:America/Los_Angeles
X-LIC-LOCATION:America/Los_Angeles
BEGIN:DAYLIGHT
TZOFFSETFROM:-0800
TZOFFSETTO:-0700
TZNAME:PDT
DTSTART:20070311T020000
RRULE:FREQ=YEARLY;BYMONTH=3;BYDAY=2SU
END:DAYLIGHT
BEGIN:STANDARD
TZOFFSETFROM:-0700
TZOFFSETTO:-0800
TZNAME:PST
DTSTART:20071104T020000
RRULE:FREQ=YEARLY;BYMONTH=11;BYDAY=1SU
END:STANDARD
END:VTIMEZONE
BEGIN:VEVENT
DTSTAMP:20251104T000000Z
UID:e02b97f7-c66b-4d0d-b8dd-aa55801b9420@ClaytonBocce
DTSTART;TZID=America/Los_Angeles:20251104T183000
DTEND;TZID=America/Los_Angeles:20251104T210000
STATUS:CONFIRMED
SUMMARY:Take it to Mudville vs 4th Qrt
URL:/League/Schedule/2827
DESCRIPTION:Regular Season match: Take it to Mudville vs 4th
  Qrt
LOCATION:CCIBA Court 3
END:VEVENT
BEGIN:VEVENT
DTSTAMP:20251104T000000Z
UID:9a83cade-f1f1-4d71-af45-745ce819f723@ClaytonBocce
DTSTART;TZID=America/Los_Angeles:20251111T183000
DTEND;TZID=America/Los_Angeles:20251111T210000
STATUS:CONFIRMED
SUMMARY:Take it to Mudville vs Zandonella Catering
URL:/League/Schedule/2827
DESCRIPTION:Regular Season match: Take it to Mudville vs Zan
 donella Catering
LOCATION:CCIBA Court 1
END:VEVENT
BEGIN:VEVENT
DTSTAMP:20251104T000000Z
UID:8eccc2fe-edaa-42ba-8155-229fb702a00b@ClaytonBocce
DTSTART;TZID=America/Los_Angeles:20251202T183000
DTEND;TZID=America/Los_Angeles:20251202T210000
STATUS:CONFIRMED
SUMMARY:Take it to Mudville vs Advance Auto
URL:/League/Schedule/2827
DESCRIPTION:Regular Season match: Take it to Mudville vs Adv
 ance Auto
LOCATION:CCIBA Court 2
END:VEVENT
BEGIN:VEVENT
DTSTAMP:20251104T000000Z
UID:97fcef99-5218-4e55-8b71-d326f0805e3d@ClaytonBocce
DTSTART;TZID=America/Los_Angeles:20251209T183000
DTEND;TZID=America/Los_Angeles:20251209T210000
STATUS:CONFIRMED
SUMMARY:Take it to Mudville vs Bocce Avengers
URL:/League/Schedule/2827
DESCRIPTION:Regular Season match: Take it to Mudville vs Boc
 ce Avengers
LOCATION:CCIBA Court 6
END:VEVENT
BEGIN:VEVENT
DTSTAMP:20251104T000000Z
UID:2eaf9bf4-3d44-4e2f-9da9-97235195c8b2@ClaytonBocce
DTSTART;TZID=America/Los_Angeles:20251216T183000
DTEND;TZID=America/Los_Angeles:20251216T210000
STATUS:CONFIRMED
SUMMARY:Take it to Mudville vs Il Giardino
URL:/League/Schedule/2827
DESCRIPTION:Regular Season match: Take it to Mudville vs Il 
 Giardino
LOCATION:CCIBA Court 5
END:VEVENT
BEGIN:VEVENT
DTSTAMP:20251104T000000Z
UID:835ea729-6d73-4d9c-904e-0279d28ba248@ClaytonBocce
DTSTART;TZID=America/Los_Angeles:20260106T183000
DTEND;TZID=America/Los_Angeles:20260106T210000
STATUS:CONFIRMED
SUMMARY:Take it to Mudville vs Bada Bing
URL:/League/Schedule/2827
DESCRIPTION:Regular Season match: Take it to Mudville vs Bad
 a Bing
LOCATION:CCIBA Court 1
END:VEVENT
BEGIN:VEVENT
DTSTAMP:20251104T000000Z
UID:34d3bad7-b359-4dac-a2f3-b04a8f6e1e17@ClaytonBocce
DTSTART;TZID=America/Los_Angeles:20260113T183000
DTEND;TZID=America/Los_Angeles:20260113T210000
STATUS:CONFIRMED
SUMMARY:Take it to Mudville vs On a Roll
URL:/League/Schedule/2827
DESCRIPTION:Regular Season match: Take it to Mudville vs On 
 a Roll
LOCATION:CCIBA Court 4
END:VEVENT
BEGIN:VEVENT
DTSTAMP:20251104T000000Z
UID:15ffcfa0-cf0b-43eb-9f1d-921f998c3cc0@ClaytonBocce
DTSTART;TZID=America/Los_Angeles:20260120T183000
DTEND;TZID=America/Los_Angeles:20260120T210000
STATUS:CONFIRMED
SUMMARY:Take it to Mudville vs Double Shot
URL:/League/Schedule/2827
DESCRIPTION:Regular Season match: Take it to Mudville vs Dou
 ble Shot
LOCATION:CCIBA Court 2
END:VEVENT
BEGIN:VEVENT
DTSTAMP:20251104T000000Z
UID:722c0e19-1761-4459-9939-ba8537ad6b2c@ClaytonBocce
DTSTART;TZID=America/Los_Angeles:20260127T183000
DTEND;TZID=America/Los_Angeles:20260127T210000
STATUS:CONFIRMED
SUMMARY:Take it to Mudville vs I Meant to Do That
URL:/League/Schedule/2827
DESCRIPTION:Regular Season match: Take it to Mudville vs I M
 eant to Do That
LOCATION:CCIBA Court 5
END:VEVENT
BEGIN:VEVENT
DTSTAMP:20251104T000000Z
UID:2e5d347a-b8dd-4cca-890c-96f013cab02e@ClaytonBocce
DTSTART;TZID=America/Los_Angeles:20260203T183000
DTEND;TZID=America/Los_Angeles:20260203T210000
STATUS:CONFIRMED
SUMMARY:Take it to Mudville vs 4th Qrt
URL:/League/Schedule/2827
DESCRIPTION:Regular Season match: Take it to Mudville vs 4th
  Qrt
LOCATION:CCIBA Court 2
END:VEVENT
BEGIN:VEVENT
DTSTAMP:20251104T000000Z
UID:63097207-0348-4b85-9134-f9c7d9ef120d@ClaytonBocce
DTSTART;TZID=America/Los_Angeles:20260210T183000
DTEND;TZID=America/Los_Angeles:20260210T210000
STATUS:CONFIRMED
SUMMARY:Take it to Mudville vs Zandonella Catering
URL:/League/Schedule/2827
DESCRIPTION:Regular Season match: Take it to Mudville vs Zan
 donella Catering
LOCATION:CCIBA Court 4
END:VEVENT
BEGIN:VEVENT
DTSTAMP:20251104T000000Z
UID:4ccd9556-8e11-46ce-9404-91b9348f5cb3@ClaytonBocce
DTSTART;TZID=America/Los_Angeles:20260217T183000
DTEND;TZID=America/Los_Angeles:20260217T210000
STATUS:CONFIRMED
SUMMARY:Take it to Mudville vs Double Shot
URL:/League/Schedule/2827
DESCRIPTION:Regular Season match: Take it to Mudville vs Dou
 ble Shot
LOCATION:CCIBA Court 2
END:VEVENT
BEGIN:VEVENT
DTSTAMP:20251104T000000Z
UID:d0a2f9c2-c742-4cd3-9a87-1bb7b5170358@ClaytonBocce
DTSTART;TZID=America/Los_Angeles:20260224T183000
DTEND;TZID=America/Los_Angeles:20260224T210000
STATUS:CONFIRMED
SUMMARY:Take it to Mudville vs Advance Auto
URL:/League/Schedule/2827
DESCRIPTION:Regular Season match: Take it to Mudville vs Adv
 ance Auto
LOCATION:CCIBA Court 3
END:VEVENT
END:VCALENDAR
