BEGIN:VCALENDAR
VERSION:2.0
PRODID:-//Clayton Bocce League
METHOD:PUBLISH
BEGIN:VTIMEZONE
TZID:America/Los_Angeles
X-LIC-LOCATION:America/Los_Angeles
BEGIN:DAYLIGHT
TZOFFSETFROM:-0800
TZOFFSETTO:-0700
TZNAME:PDT
DTSTART:20070311T020000
RRULE:FREQ=YEARLY;BYMONTH=3;BYDAY=2SU
END:DAYLIGHT
BEGIN:STANDARD
TZOFFSETFROM:-0700
TZOFFSETTO:-0800
TZNAME:PST
DTSTART:20071104T020000
RRULE:FREQ=YEARLY;BYMONTH=11;BYDAY=1SU
END:STANDARD
END:VTIMEZONE
BEGIN:VEVENT
DTSTAMP:20251104T000000Z
UID:e02b97f7-c66b-4d0d-b8dd-aa55801b9420@ClaytonBocce
DTSTART;TZID=America/Los_Angeles:20251104T183000
DTEND;TZID=America/Los_Angeles:20251104T210000
STATUS:CONFIRMED
SUMMARY:4th Qrt vs Take it to Mudville
URL:/League/Schedule/2829
DESCRIPTION:Regular Season match: 4th Qrt vs Take it to Mudv
 ille
LOCATION:CCIBA Court 3
END:VEVENT
BEGIN:VEVENT
DTSTAMP:20251104T000000Z
UID:e89b1092-c3b9-494c-969c-95ff19ac20a1@ClaytonBocce
DTSTART;TZID=America/Los_Angeles:20251111T183000
DTEND;TZID=America/Los_Angeles:20251111T210000
STATUS:CONFIRMED
SUMMARY:4th Qrt vs Double Shot
URL:/League/Schedule/2829
DESCRIPTION:Regular Season match: 4th Qrt vs Double Shot
LOCATION:CCIBA Court 2
END:VEVENT
BEGIN:VEVENT
DTSTAMP:20251104T000000Z
UID:a268938b-1466-45f5-9e72-c275e2ab1f82@ClaytonBocce
DTSTART;TZID=America/Los_Angeles:20251202T183000
DTEND;TZID=America/Los_Angeles:20251202T210000
STATUS:CONFIRMED
SUMMARY:4th Qrt vs I Meant to Do That
URL:/League/Schedule/2829
DESCRIPTION:Regular Season match: 4th Qrt vs I Meant to Do T
 hat
LOCATION:CCIBA Court 4
END:VEVENT
BEGIN:VEVENT
DTSTAMP:20251104T000000Z
UID:0360f9db-b411-4558-9196-e4bd6a4666fb@ClaytonBocce
DTSTART;TZID=America/Los_Angeles:20251209T183000
DTEND;TZID=America/Los_Angeles:20251209T210000
STATUS:CONFIRMED
SUMMARY:4th Qrt vs On a Roll
URL:/League/Schedule/2829
DESCRIPTION:Regular Season match: 4th Qrt vs On a Roll
LOCATION:CCIBA Court 1
END:VEVENT
BEGIN:VEVENT
DTSTAMP:20251104T000000Z
UID:816dd6b1-5ab7-4577-9fe6-7bffe62253dd@ClaytonBocce
DTSTART;TZID=America/Los_Angeles:20251216T183000
DTEND;TZID=America/Los_Angeles:20251216T210000
STATUS:CONFIRMED
SUMMARY:4th Qrt vs Zandonella Catering
URL:/League/Schedule/2829
DESCRIPTION:Regular Season match: 4th Qrt vs Zandonella Cate
 ring
LOCATION:CCIBA Court 6
END:VEVENT
BEGIN:VEVENT
DTSTAMP:20251104T000000Z
UID:b1d41437-7eef-4d03-89f8-af4fc76c90dd@ClaytonBocce
DTSTART;TZID=America/Los_Angeles:20260106T183000
DTEND;TZID=America/Los_Angeles:20260106T210000
STATUS:CONFIRMED
SUMMARY:4th Qrt vs Advance Auto
URL:/League/Schedule/2829
DESCRIPTION:Regular Season match: 4th Qrt vs Advance Auto
LOCATION:CCIBA Court 4
END:VEVENT
BEGIN:VEVENT
DTSTAMP:20251104T000000Z
UID:6f28104a-0b79-4d55-a5b7-64a598c8fa65@ClaytonBocce
DTSTART;TZID=America/Los_Angeles:20260113T183000
DTEND;TZID=America/Los_Angeles:20260113T210000
STATUS:CONFIRMED
SUMMARY:4th Qrt vs Bocce Avengers
URL:/League/Schedule/2829
DESCRIPTION:Regular Season match: 4th Qrt vs Bocce Avengers
LOCATION:CCIBA Court 2
END:VEVENT
BEGIN:VEVENT
DTSTAMP:20251104T000000Z
UID:c3648a86-60fc-466e-ae95-f9ce11be7cc1@ClaytonBocce
DTSTART;TZID=America/Los_Angeles:20260120T183000
DTEND;TZID=America/Los_Angeles:20260120T210000
STATUS:CONFIRMED
SUMMARY:4th Qrt vs Il Giardino
URL:/League/Schedule/2829
DESCRIPTION:Regular Season match: 4th Qrt vs Il Giardino
LOCATION:CCIBA Court 6
END:VEVENT
BEGIN:VEVENT
DTSTAMP:20251104T000000Z
UID:439699de-8077-4bb6-b761-c6cb8cc56a44@ClaytonBocce
DTSTART;TZID=America/Los_Angeles:20260127T183000
DTEND;TZID=America/Los_Angeles:20260127T210000
STATUS:CONFIRMED
SUMMARY:4th Qrt vs Bada Bing
URL:/League/Schedule/2829
DESCRIPTION:Regular Season match: 4th Qrt vs Bada Bing
LOCATION:CCIBA Court 1
END:VEVENT
BEGIN:VEVENT
DTSTAMP:20251104T000000Z
UID:2e5d347a-b8dd-4cca-890c-96f013cab02e@ClaytonBocce
DTSTART;TZID=America/Los_Angeles:20260203T183000
DTEND;TZID=America/Los_Angeles:20260203T210000
STATUS:CONFIRMED
SUMMARY:4th Qrt vs Take it to Mudville
URL:/League/Schedule/2829
DESCRIPTION:Regular Season match: 4th Qrt vs Take it to Mudv
 ille
LOCATION:CCIBA Court 2
END:VEVENT
BEGIN:VEVENT
DTSTAMP:20251104T000000Z
UID:1bd99a65-444b-4d92-a9ad-51d1ad95b18b@ClaytonBocce
DTSTART;TZID=America/Los_Angeles:20260210T183000
DTEND;TZID=America/Los_Angeles:20260210T210000
STATUS:CONFIRMED
SUMMARY:4th Qrt vs Double Shot
URL:/League/Schedule/2829
DESCRIPTION:Regular Season match: 4th Qrt vs Double Shot
LOCATION:CCIBA Court 6
END:VEVENT
BEGIN:VEVENT
DTSTAMP:20251104T000000Z
UID:56247652-94bf-4604-a18c-f256cb6c8323@ClaytonBocce
DTSTART;TZID=America/Los_Angeles:20260217T183000
DTEND;TZID=America/Los_Angeles:20260217T210000
STATUS:CONFIRMED
SUMMARY:4th Qrt vs Il Giardino
URL:/League/Schedule/2829
DESCRIPTION:Regular Season match: 4th Qrt vs Il Giardino
LOCATION:CCIBA Court 6
END:VEVENT
BEGIN:VEVENT
DTSTAMP:20251104T000000Z
UID:d08e353d-1e89-47b1-bdf4-719ba90dd4a6@ClaytonBocce
DTSTART;TZID=America/Los_Angeles:20260224T183000
DTEND;TZID=America/Los_Angeles:20260224T210000
STATUS:CONFIRMED
SUMMARY:4th Qrt vs I Meant to Do That
URL:/League/Schedule/2829
DESCRIPTION:Regular Season match: 4th Qrt vs I Meant to Do T
 hat
LOCATION:CCIBA Court 5
END:VEVENT
END:VCALENDAR
