BEGIN:VCALENDAR
VERSION:2.0
PRODID:-//Clayton Bocce League
METHOD:PUBLISH
BEGIN:VTIMEZONE
TZID:America/Los_Angeles
X-LIC-LOCATION:America/Los_Angeles
BEGIN:DAYLIGHT
TZOFFSETFROM:-0800
TZOFFSETTO:-0700
TZNAME:PDT
DTSTART:20070311T020000
RRULE:FREQ=YEARLY;BYMONTH=3;BYDAY=2SU
END:DAYLIGHT
BEGIN:STANDARD
TZOFFSETFROM:-0700
TZOFFSETTO:-0800
TZNAME:PST
DTSTART:20071104T020000
RRULE:FREQ=YEARLY;BYMONTH=11;BYDAY=1SU
END:STANDARD
END:VTIMEZONE
BEGIN:VEVENT
DTSTAMP:20251104T000000Z
UID:1c76b6fd-bd29-482a-a08a-0cf2f228d540@ClaytonBocce
DTSTART;TZID=America/Los_Angeles:20251104T183000
DTEND;TZID=America/Los_Angeles:20251104T210000
STATUS:CONFIRMED
SUMMARY:Il Giardino vs Advance Auto
URL:/League/Schedule/2825
DESCRIPTION:Regular Season match: Il Giardino vs Advance Aut
 o
LOCATION:CCIBA Court 5
END:VEVENT
BEGIN:VEVENT
DTSTAMP:20251104T000000Z
UID:984c1b4c-96cd-493e-bb6b-ae9cc641094a@ClaytonBocce
DTSTART;TZID=America/Los_Angeles:20251111T183000
DTEND;TZID=America/Los_Angeles:20251111T210000
STATUS:CONFIRMED
SUMMARY:Il Giardino vs Bocce Avengers
URL:/League/Schedule/2825
DESCRIPTION:Regular Season match: Il Giardino vs Bocce Aveng
 ers
LOCATION:CCIBA Court 4
END:VEVENT
BEGIN:VEVENT
DTSTAMP:20251104T000000Z
UID:368d29b0-0937-4fa1-a4a5-cdf66d8c1a93@ClaytonBocce
DTSTART;TZID=America/Los_Angeles:20251202T183000
DTEND;TZID=America/Los_Angeles:20251202T210000
STATUS:CONFIRMED
SUMMARY:Il Giardino vs On a Roll
URL:/League/Schedule/2825
DESCRIPTION:Regular Season match: Il Giardino vs On a Roll
LOCATION:CCIBA Court 6
END:VEVENT
BEGIN:VEVENT
DTSTAMP:20251104T000000Z
UID:160093e6-0475-448d-920b-b7ec85e6fc34@ClaytonBocce
DTSTART;TZID=America/Los_Angeles:20251209T183000
DTEND;TZID=America/Los_Angeles:20251209T210000
STATUS:CONFIRMED
SUMMARY:Il Giardino vs Bada Bing
URL:/League/Schedule/2825
DESCRIPTION:Regular Season match: Il Giardino vs Bada Bing
LOCATION:CCIBA Court 2
END:VEVENT
BEGIN:VEVENT
DTSTAMP:20251104T000000Z
UID:2eaf9bf4-3d44-4e2f-9da9-97235195c8b2@ClaytonBocce
DTSTART;TZID=America/Los_Angeles:20251216T183000
DTEND;TZID=America/Los_Angeles:20251216T210000
STATUS:CONFIRMED
SUMMARY:Il Giardino vs Take it to Mudville
URL:/League/Schedule/2825
DESCRIPTION:Regular Season match: Il Giardino vs Take it to 
 Mudville
LOCATION:CCIBA Court 5
END:VEVENT
BEGIN:VEVENT
DTSTAMP:20251104T000000Z
UID:5de6ba77-b762-4eaa-ac1e-4cfbf551cf79@ClaytonBocce
DTSTART;TZID=America/Los_Angeles:20260106T183000
DTEND;TZID=America/Los_Angeles:20260106T210000
STATUS:CONFIRMED
SUMMARY:Il Giardino vs Double Shot
URL:/League/Schedule/2825
DESCRIPTION:Regular Season match: Il Giardino vs Double Shot
LOCATION:CCIBA Court 3
END:VEVENT
BEGIN:VEVENT
DTSTAMP:20251104T000000Z
UID:401f6db6-9308-478b-bce6-5f7bf0ab19b8@ClaytonBocce
DTSTART;TZID=America/Los_Angeles:20260113T183000
DTEND;TZID=America/Los_Angeles:20260113T210000
STATUS:CONFIRMED
SUMMARY:Il Giardino vs I Meant to Do That
URL:/League/Schedule/2825
DESCRIPTION:Regular Season match: Il Giardino vs I Meant to 
 Do That
LOCATION:CCIBA Court 1
END:VEVENT
BEGIN:VEVENT
DTSTAMP:20251104T000000Z
UID:c3648a86-60fc-466e-ae95-f9ce11be7cc1@ClaytonBocce
DTSTART;TZID=America/Los_Angeles:20260120T183000
DTEND;TZID=America/Los_Angeles:20260120T210000
STATUS:CONFIRMED
SUMMARY:Il Giardino vs 4th Qrt
URL:/League/Schedule/2825
DESCRIPTION:Regular Season match: Il Giardino vs 4th Qrt
LOCATION:CCIBA Court 6
END:VEVENT
BEGIN:VEVENT
DTSTAMP:20251104T000000Z
UID:b0c7fefb-9f68-4213-9c64-11e2089e8897@ClaytonBocce
DTSTART;TZID=America/Los_Angeles:20260127T183000
DTEND;TZID=America/Los_Angeles:20260127T210000
STATUS:CONFIRMED
SUMMARY:Il Giardino vs Zandonella Catering
URL:/League/Schedule/2825
DESCRIPTION:Regular Season match: Il Giardino vs Zandonella 
 Catering
LOCATION:CCIBA Court 4
END:VEVENT
BEGIN:VEVENT
DTSTAMP:20251104T000000Z
UID:6e7f446a-53eb-4ec8-ab25-96e6d8b09c99@ClaytonBocce
DTSTART;TZID=America/Los_Angeles:20260203T183000
DTEND;TZID=America/Los_Angeles:20260203T210000
STATUS:CONFIRMED
SUMMARY:Il Giardino vs Advance Auto
URL:/League/Schedule/2825
DESCRIPTION:Regular Season match: Il Giardino vs Advance Aut
 o
LOCATION:CCIBA Court 3
END:VEVENT
BEGIN:VEVENT
DTSTAMP:20251104T000000Z
UID:9cb24fba-5d94-4330-85c8-05d0de187983@ClaytonBocce
DTSTART;TZID=America/Los_Angeles:20260210T183000
DTEND;TZID=America/Los_Angeles:20260210T210000
STATUS:CONFIRMED
SUMMARY:Il Giardino vs Bocce Avengers
URL:/League/Schedule/2825
DESCRIPTION:Regular Season match: Il Giardino vs Bocce Aveng
 ers
LOCATION:CCIBA Court 1
END:VEVENT
BEGIN:VEVENT
DTSTAMP:20251104T000000Z
UID:56247652-94bf-4604-a18c-f256cb6c8323@ClaytonBocce
DTSTART;TZID=America/Los_Angeles:20260217T183000
DTEND;TZID=America/Los_Angeles:20260217T210000
STATUS:CONFIRMED
SUMMARY:Il Giardino vs 4th Qrt
URL:/League/Schedule/2825
DESCRIPTION:Regular Season match: Il Giardino vs 4th Qrt
LOCATION:CCIBA Court 6
END:VEVENT
BEGIN:VEVENT
DTSTAMP:20251104T000000Z
UID:f1998cb2-f849-4656-a15b-633f01a5c129@ClaytonBocce
DTSTART;TZID=America/Los_Angeles:20260224T183000
DTEND;TZID=America/Los_Angeles:20260224T210000
STATUS:CONFIRMED
SUMMARY:Il Giardino vs On a Roll
URL:/League/Schedule/2825
DESCRIPTION:Regular Season match: Il Giardino vs On a Roll
LOCATION:CCIBA Court 6
END:VEVENT
END:VCALENDAR
