BEGIN:VCALENDAR
VERSION:2.0
PRODID:-//Clayton Bocce League
METHOD:PUBLISH
BEGIN:VTIMEZONE
TZID:America/Los_Angeles
X-LIC-LOCATION:America/Los_Angeles
BEGIN:DAYLIGHT
TZOFFSETFROM:-0800
TZOFFSETTO:-0700
TZNAME:PDT
DTSTART:20070311T020000
RRULE:FREQ=YEARLY;BYMONTH=3;BYDAY=2SU
END:DAYLIGHT
BEGIN:STANDARD
TZOFFSETFROM:-0700
TZOFFSETTO:-0800
TZNAME:PST
DTSTART:20071104T020000
RRULE:FREQ=YEARLY;BYMONTH=11;BYDAY=1SU
END:STANDARD
END:VTIMEZONE
BEGIN:VEVENT
DTSTAMP:20251104T000000Z
UID:1c76b6fd-bd29-482a-a08a-0cf2f228d540@ClaytonBocce
DTSTART;TZID=America/Los_Angeles:20251104T183000
DTEND;TZID=America/Los_Angeles:20251104T210000
STATUS:CONFIRMED
SUMMARY:Advance Auto vs Il Giardino
URL:/League/Schedule/2831
DESCRIPTION:Regular Season match: Advance Auto vs Il Giardin
 o
LOCATION:CCIBA Court 5
END:VEVENT
BEGIN:VEVENT
DTSTAMP:20251104T000000Z
UID:87bee51c-6678-48ce-9482-fc5c24f789e9@ClaytonBocce
DTSTART;TZID=America/Los_Angeles:20251111T183000
DTEND;TZID=America/Los_Angeles:20251111T210000
STATUS:CONFIRMED
SUMMARY:Advance Auto vs Bada Bing
URL:/League/Schedule/2831
DESCRIPTION:Regular Season match: Advance Auto vs Bada Bing
LOCATION:CCIBA Court 6
END:VEVENT
BEGIN:VEVENT
DTSTAMP:20251104T000000Z
UID:8eccc2fe-edaa-42ba-8155-229fb702a00b@ClaytonBocce
DTSTART;TZID=America/Los_Angeles:20251202T183000
DTEND;TZID=America/Los_Angeles:20251202T210000
STATUS:CONFIRMED
SUMMARY:Advance Auto vs Take it to Mudville
URL:/League/Schedule/2831
DESCRIPTION:Regular Season match: Advance Auto vs Take it to
  Mudville
LOCATION:CCIBA Court 2
END:VEVENT
BEGIN:VEVENT
DTSTAMP:20251104T000000Z
UID:9a1f82d7-d766-4617-9149-b14451c3ee9f@ClaytonBocce
DTSTART;TZID=America/Los_Angeles:20251209T183000
DTEND;TZID=America/Los_Angeles:20251209T210000
STATUS:CONFIRMED
SUMMARY:Advance Auto vs Double Shot
URL:/League/Schedule/2831
DESCRIPTION:Regular Season match: Advance Auto vs Double Sho
 t
LOCATION:CCIBA Court 4
END:VEVENT
BEGIN:VEVENT
DTSTAMP:20251104T000000Z
UID:f1194974-1de4-4836-a7f7-b1e5e3735770@ClaytonBocce
DTSTART;TZID=America/Los_Angeles:20251216T183000
DTEND;TZID=America/Los_Angeles:20251216T210000
STATUS:CONFIRMED
SUMMARY:Advance Auto vs I Meant to Do That
URL:/League/Schedule/2831
DESCRIPTION:Regular Season match: Advance Auto vs I Meant to
  Do That
LOCATION:CCIBA Court 2
END:VEVENT
BEGIN:VEVENT
DTSTAMP:20251104T000000Z
UID:b1d41437-7eef-4d03-89f8-af4fc76c90dd@ClaytonBocce
DTSTART;TZID=America/Los_Angeles:20260106T183000
DTEND;TZID=America/Los_Angeles:20260106T210000
STATUS:CONFIRMED
SUMMARY:Advance Auto vs 4th Qrt
URL:/League/Schedule/2831
DESCRIPTION:Regular Season match: Advance Auto vs 4th Qrt
LOCATION:CCIBA Court 4
END:VEVENT
BEGIN:VEVENT
DTSTAMP:20251104T000000Z
UID:030a3669-cd6c-488b-9bef-425ea123ba21@ClaytonBocce
DTSTART;TZID=America/Los_Angeles:20260113T183000
DTEND;TZID=America/Los_Angeles:20260113T210000
STATUS:CONFIRMED
SUMMARY:Advance Auto vs Zandonella Catering
URL:/League/Schedule/2831
DESCRIPTION:Regular Season match: Advance Auto vs Zandonella
  Catering
LOCATION:CCIBA Court 3
END:VEVENT
BEGIN:VEVENT
DTSTAMP:20251104T000000Z
UID:9a5862ec-e9f8-4ad9-ab03-bd7b9df16f47@ClaytonBocce
DTSTART;TZID=America/Los_Angeles:20260120T183000
DTEND;TZID=America/Los_Angeles:20260120T210000
STATUS:CONFIRMED
SUMMARY:Advance Auto vs On a Roll
URL:/League/Schedule/2831
DESCRIPTION:Regular Season match: Advance Auto vs On a Roll
LOCATION:CCIBA Court 1
END:VEVENT
BEGIN:VEVENT
DTSTAMP:20251104T000000Z
UID:dd97b286-a74b-49c2-88df-682176e41dce@ClaytonBocce
DTSTART;TZID=America/Los_Angeles:20260127T183000
DTEND;TZID=America/Los_Angeles:20260127T210000
STATUS:CONFIRMED
SUMMARY:Advance Auto vs Bocce Avengers
URL:/League/Schedule/2831
DESCRIPTION:Regular Season match: Advance Auto vs Bocce Aven
 gers
LOCATION:CCIBA Court 6
END:VEVENT
BEGIN:VEVENT
DTSTAMP:20251104T000000Z
UID:6e7f446a-53eb-4ec8-ab25-96e6d8b09c99@ClaytonBocce
DTSTART;TZID=America/Los_Angeles:20260203T183000
DTEND;TZID=America/Los_Angeles:20260203T210000
STATUS:CONFIRMED
SUMMARY:Advance Auto vs Il Giardino
URL:/League/Schedule/2831
DESCRIPTION:Regular Season match: Advance Auto vs Il Giardin
 o
LOCATION:CCIBA Court 3
END:VEVENT
BEGIN:VEVENT
DTSTAMP:20251104T000000Z
UID:bb5b1c0d-06ad-4815-9beb-54613e9921b9@ClaytonBocce
DTSTART;TZID=America/Los_Angeles:20260210T183000
DTEND;TZID=America/Los_Angeles:20260210T210000
STATUS:CONFIRMED
SUMMARY:Advance Auto vs Bada Bing
URL:/League/Schedule/2831
DESCRIPTION:Regular Season match: Advance Auto vs Bada Bing
LOCATION:CCIBA Court 5
END:VEVENT
BEGIN:VEVENT
DTSTAMP:20251104T000000Z
UID:67a6dade-ab69-4add-a6f2-a0ae260ee55d@ClaytonBocce
DTSTART;TZID=America/Los_Angeles:20260217T183000
DTEND;TZID=America/Los_Angeles:20260217T210000
STATUS:CONFIRMED
SUMMARY:Advance Auto vs On a Roll
URL:/League/Schedule/2831
DESCRIPTION:Regular Season match: Advance Auto vs On a Roll
LOCATION:CCIBA Court 1
END:VEVENT
BEGIN:VEVENT
DTSTAMP:20251104T000000Z
UID:d0a2f9c2-c742-4cd3-9a87-1bb7b5170358@ClaytonBocce
DTSTART;TZID=America/Los_Angeles:20260224T183000
DTEND;TZID=America/Los_Angeles:20260224T210000
STATUS:CONFIRMED
SUMMARY:Advance Auto vs Take it to Mudville
URL:/League/Schedule/2831
DESCRIPTION:Regular Season match: Advance Auto vs Take it to
  Mudville
LOCATION:CCIBA Court 3
END:VEVENT
END:VCALENDAR
