BEGIN:VCALENDAR
VERSION:2.0
PRODID:-//Clayton Bocce League
METHOD:PUBLISH
BEGIN:VTIMEZONE
TZID:America/Los_Angeles
X-LIC-LOCATION:America/Los_Angeles
BEGIN:DAYLIGHT
TZOFFSETFROM:-0800
TZOFFSETTO:-0700
TZNAME:PDT
DTSTART:20070311T020000
RRULE:FREQ=YEARLY;BYMONTH=3;BYDAY=2SU
END:DAYLIGHT
BEGIN:STANDARD
TZOFFSETFROM:-0700
TZOFFSETTO:-0800
TZNAME:PST
DTSTART:20071104T020000
RRULE:FREQ=YEARLY;BYMONTH=11;BYDAY=1SU
END:STANDARD
END:VTIMEZONE
BEGIN:VEVENT
DTSTAMP:20251104T000000Z
UID:b50df194-5afe-4f42-8d53-4e46640053a2@ClaytonBocce
DTSTART;TZID=America/Los_Angeles:20251104T183000
DTEND;TZID=America/Los_Angeles:20251104T210000
STATUS:CONFIRMED
SUMMARY:Zandonella Catering vs Bada Bing
URL:/League/Schedule/2830
DESCRIPTION:Regular Season match: Zandonella Catering vs Bad
 a Bing
LOCATION:CCIBA Court 4
END:VEVENT
BEGIN:VEVENT
DTSTAMP:20251104T000000Z
UID:9a83cade-f1f1-4d71-af45-745ce819f723@ClaytonBocce
DTSTART;TZID=America/Los_Angeles:20251111T183000
DTEND;TZID=America/Los_Angeles:20251111T210000
STATUS:CONFIRMED
SUMMARY:Zandonella Catering vs Take it to Mudville
URL:/League/Schedule/2830
DESCRIPTION:Regular Season match: Zandonella Catering vs Tak
 e it to Mudville
LOCATION:CCIBA Court 1
END:VEVENT
BEGIN:VEVENT
DTSTAMP:20251104T000000Z
UID:d3c16f42-cdc4-4fa4-aed3-9ebae1b103f7@ClaytonBocce
DTSTART;TZID=America/Los_Angeles:20251202T183000
DTEND;TZID=America/Los_Angeles:20251202T210000
STATUS:CONFIRMED
SUMMARY:Zandonella Catering vs Double Shot
URL:/League/Schedule/2830
DESCRIPTION:Regular Season match: Zandonella Catering vs Dou
 ble Shot
LOCATION:CCIBA Court 5
END:VEVENT
BEGIN:VEVENT
DTSTAMP:20251104T000000Z
UID:76c74194-4fa1-4106-9970-3fe15c2aa453@ClaytonBocce
DTSTART;TZID=America/Los_Angeles:20251209T183000
DTEND;TZID=America/Los_Angeles:20251209T210000
STATUS:CONFIRMED
SUMMARY:Zandonella Catering vs I Meant to Do That
URL:/League/Schedule/2830
DESCRIPTION:Regular Season match: Zandonella Catering vs I M
 eant to Do That
LOCATION:CCIBA Court 3
END:VEVENT
BEGIN:VEVENT
DTSTAMP:20251104T000000Z
UID:816dd6b1-5ab7-4577-9fe6-7bffe62253dd@ClaytonBocce
DTSTART;TZID=America/Los_Angeles:20251216T183000
DTEND;TZID=America/Los_Angeles:20251216T210000
STATUS:CONFIRMED
SUMMARY:Zandonella Catering vs 4th Qrt
URL:/League/Schedule/2830
DESCRIPTION:Regular Season match: Zandonella Catering vs 4th
  Qrt
LOCATION:CCIBA Court 6
END:VEVENT
BEGIN:VEVENT
DTSTAMP:20251104T000000Z
UID:5e31bfdc-dbb8-4011-8032-122ddea53f87@ClaytonBocce
DTSTART;TZID=America/Los_Angeles:20260106T183000
DTEND;TZID=America/Los_Angeles:20260106T210000
STATUS:CONFIRMED
SUMMARY:Zandonella Catering vs On a Roll
URL:/League/Schedule/2830
DESCRIPTION:Regular Season match: Zandonella Catering vs On 
 a Roll
LOCATION:CCIBA Court 2
END:VEVENT
BEGIN:VEVENT
DTSTAMP:20251104T000000Z
UID:030a3669-cd6c-488b-9bef-425ea123ba21@ClaytonBocce
DTSTART;TZID=America/Los_Angeles:20260113T183000
DTEND;TZID=America/Los_Angeles:20260113T210000
STATUS:CONFIRMED
SUMMARY:Zandonella Catering vs Advance Auto
URL:/League/Schedule/2830
DESCRIPTION:Regular Season match: Zandonella Catering vs Adv
 ance Auto
LOCATION:CCIBA Court 3
END:VEVENT
BEGIN:VEVENT
DTSTAMP:20251104T000000Z
UID:e51aff90-c029-4505-9a8d-ee4e692bd5a7@ClaytonBocce
DTSTART;TZID=America/Los_Angeles:20260120T183000
DTEND;TZID=America/Los_Angeles:20260120T210000
STATUS:CONFIRMED
SUMMARY:Zandonella Catering vs Bocce Avengers
URL:/League/Schedule/2830
DESCRIPTION:Regular Season match: Zandonella Catering vs Boc
 ce Avengers
LOCATION:CCIBA Court 5
END:VEVENT
BEGIN:VEVENT
DTSTAMP:20251104T000000Z
UID:b0c7fefb-9f68-4213-9c64-11e2089e8897@ClaytonBocce
DTSTART;TZID=America/Los_Angeles:20260127T183000
DTEND;TZID=America/Los_Angeles:20260127T210000
STATUS:CONFIRMED
SUMMARY:Zandonella Catering vs Il Giardino
URL:/League/Schedule/2830
DESCRIPTION:Regular Season match: Zandonella Catering vs Il 
 Giardino
LOCATION:CCIBA Court 4
END:VEVENT
BEGIN:VEVENT
DTSTAMP:20251104T000000Z
UID:4af3b033-7ee2-4dc7-be1d-d45535d1dec3@ClaytonBocce
DTSTART;TZID=America/Los_Angeles:20260203T183000
DTEND;TZID=America/Los_Angeles:20260203T210000
STATUS:CONFIRMED
SUMMARY:Zandonella Catering vs Bada Bing
URL:/League/Schedule/2830
DESCRIPTION:Regular Season match: Zandonella Catering vs Bad
 a Bing
LOCATION:CCIBA Court 6
END:VEVENT
BEGIN:VEVENT
DTSTAMP:20251104T000000Z
UID:63097207-0348-4b85-9134-f9c7d9ef120d@ClaytonBocce
DTSTART;TZID=America/Los_Angeles:20260210T183000
DTEND;TZID=America/Los_Angeles:20260210T210000
STATUS:CONFIRMED
SUMMARY:Zandonella Catering vs Take it to Mudville
URL:/League/Schedule/2830
DESCRIPTION:Regular Season match: Zandonella Catering vs Tak
 e it to Mudville
LOCATION:CCIBA Court 4
END:VEVENT
BEGIN:VEVENT
DTSTAMP:20251104T000000Z
UID:fd8abc57-0e48-44a4-ae9a-75cb61934f42@ClaytonBocce
DTSTART;TZID=America/Los_Angeles:20260217T183000
DTEND;TZID=America/Los_Angeles:20260217T210000
STATUS:CONFIRMED
SUMMARY:Zandonella Catering vs Bocce Avengers
URL:/League/Schedule/2830
DESCRIPTION:Regular Season match: Zandonella Catering vs Boc
 ce Avengers
LOCATION:CCIBA Court 5
END:VEVENT
BEGIN:VEVENT
DTSTAMP:20251104T000000Z
UID:8dae105b-e377-41ca-8e67-e7daab7d50f5@ClaytonBocce
DTSTART;TZID=America/Los_Angeles:20260224T183000
DTEND;TZID=America/Los_Angeles:20260224T210000
STATUS:CONFIRMED
SUMMARY:Zandonella Catering vs Double Shot
URL:/League/Schedule/2830
DESCRIPTION:Regular Season match: Zandonella Catering vs Dou
 ble Shot
LOCATION:CCIBA Court 1
END:VEVENT
END:VCALENDAR
