BEGIN:VCALENDAR
VERSION:2.0
PRODID:-//Clayton Bocce League
METHOD:PUBLISH
BEGIN:VTIMEZONE
TZID:America/Los_Angeles
X-LIC-LOCATION:America/Los_Angeles
BEGIN:DAYLIGHT
TZOFFSETFROM:-0800
TZOFFSETTO:-0700
TZNAME:PDT
DTSTART:20070311T020000
RRULE:FREQ=YEARLY;BYMONTH=3;BYDAY=2SU
END:DAYLIGHT
BEGIN:STANDARD
TZOFFSETFROM:-0700
TZOFFSETTO:-0800
TZNAME:PST
DTSTART:20071104T020000
RRULE:FREQ=YEARLY;BYMONTH=11;BYDAY=1SU
END:STANDARD
END:VTIMEZONE
BEGIN:VEVENT
DTSTAMP:20251104T000000Z
UID:b50df194-5afe-4f42-8d53-4e46640053a2@ClaytonBocce
DTSTART;TZID=America/Los_Angeles:20251104T183000
DTEND;TZID=America/Los_Angeles:20251104T210000
STATUS:CONFIRMED
SUMMARY:Bada Bing vs Zandonella Catering
URL:/League/Schedule/2824
DESCRIPTION:Regular Season match: Bada Bing vs Zandonella Ca
 tering
LOCATION:CCIBA Court 4
END:VEVENT
BEGIN:VEVENT
DTSTAMP:20251104T000000Z
UID:87bee51c-6678-48ce-9482-fc5c24f789e9@ClaytonBocce
DTSTART;TZID=America/Los_Angeles:20251111T183000
DTEND;TZID=America/Los_Angeles:20251111T210000
STATUS:CONFIRMED
SUMMARY:Bada Bing vs Advance Auto
URL:/League/Schedule/2824
DESCRIPTION:Regular Season match: Bada Bing vs Advance Auto
LOCATION:CCIBA Court 6
END:VEVENT
BEGIN:VEVENT
DTSTAMP:20251104T000000Z
UID:7964d726-d8ed-479b-bfe5-e65c9fc9828c@ClaytonBocce
DTSTART;TZID=America/Los_Angeles:20251202T183000
DTEND;TZID=America/Los_Angeles:20251202T210000
STATUS:CONFIRMED
SUMMARY:Bada Bing vs Bocce Avengers
URL:/League/Schedule/2824
DESCRIPTION:Regular Season match: Bada Bing vs Bocce Avenger
 s
LOCATION:CCIBA Court 3
END:VEVENT
BEGIN:VEVENT
DTSTAMP:20251104T000000Z
UID:160093e6-0475-448d-920b-b7ec85e6fc34@ClaytonBocce
DTSTART;TZID=America/Los_Angeles:20251209T183000
DTEND;TZID=America/Los_Angeles:20251209T210000
STATUS:CONFIRMED
SUMMARY:Bada Bing vs Il Giardino
URL:/League/Schedule/2824
DESCRIPTION:Regular Season match: Bada Bing vs Il Giardino
LOCATION:CCIBA Court 2
END:VEVENT
BEGIN:VEVENT
DTSTAMP:20251104T000000Z
UID:6eccc0e7-c806-459e-8f7c-38b3b054c14c@ClaytonBocce
DTSTART;TZID=America/Los_Angeles:20251216T183000
DTEND;TZID=America/Los_Angeles:20251216T210000
STATUS:CONFIRMED
SUMMARY:Bada Bing vs On a Roll
URL:/League/Schedule/2824
DESCRIPTION:Regular Season match: Bada Bing vs On a Roll
LOCATION:CCIBA Court 4
END:VEVENT
BEGIN:VEVENT
DTSTAMP:20251104T000000Z
UID:835ea729-6d73-4d9c-904e-0279d28ba248@ClaytonBocce
DTSTART;TZID=America/Los_Angeles:20260106T183000
DTEND;TZID=America/Los_Angeles:20260106T210000
STATUS:CONFIRMED
SUMMARY:Bada Bing vs Take it to Mudville
URL:/League/Schedule/2824
DESCRIPTION:Regular Season match: Bada Bing vs Take it to Mu
 dville
LOCATION:CCIBA Court 1
END:VEVENT
BEGIN:VEVENT
DTSTAMP:20251104T000000Z
UID:9021695c-e1d8-4aff-8b14-510ac976907c@ClaytonBocce
DTSTART;TZID=America/Los_Angeles:20260113T183000
DTEND;TZID=America/Los_Angeles:20260113T210000
STATUS:CONFIRMED
SUMMARY:Bada Bing vs Double Shot
URL:/League/Schedule/2824
DESCRIPTION:Regular Season match: Bada Bing vs Double Shot
LOCATION:CCIBA Court 5
END:VEVENT
BEGIN:VEVENT
DTSTAMP:20251104T000000Z
UID:2999465b-7499-4e00-95f7-4375d37048e1@ClaytonBocce
DTSTART;TZID=America/Los_Angeles:20260120T183000
DTEND;TZID=America/Los_Angeles:20260120T210000
STATUS:CONFIRMED
SUMMARY:Bada Bing vs I Meant to Do That
URL:/League/Schedule/2824
DESCRIPTION:Regular Season match: Bada Bing vs I Meant to Do
  That
LOCATION:CCIBA Court 3
END:VEVENT
BEGIN:VEVENT
DTSTAMP:20251104T000000Z
UID:439699de-8077-4bb6-b761-c6cb8cc56a44@ClaytonBocce
DTSTART;TZID=America/Los_Angeles:20260127T183000
DTEND;TZID=America/Los_Angeles:20260127T210000
STATUS:CONFIRMED
SUMMARY:Bada Bing vs 4th Qrt
URL:/League/Schedule/2824
DESCRIPTION:Regular Season match: Bada Bing vs 4th Qrt
LOCATION:CCIBA Court 1
END:VEVENT
BEGIN:VEVENT
DTSTAMP:20251104T000000Z
UID:4af3b033-7ee2-4dc7-be1d-d45535d1dec3@ClaytonBocce
DTSTART;TZID=America/Los_Angeles:20260203T183000
DTEND;TZID=America/Los_Angeles:20260203T210000
STATUS:CONFIRMED
SUMMARY:Bada Bing vs Zandonella Catering
URL:/League/Schedule/2824
DESCRIPTION:Regular Season match: Bada Bing vs Zandonella Ca
 tering
LOCATION:CCIBA Court 6
END:VEVENT
BEGIN:VEVENT
DTSTAMP:20251104T000000Z
UID:bb5b1c0d-06ad-4815-9beb-54613e9921b9@ClaytonBocce
DTSTART;TZID=America/Los_Angeles:20260210T183000
DTEND;TZID=America/Los_Angeles:20260210T210000
STATUS:CONFIRMED
SUMMARY:Bada Bing vs Advance Auto
URL:/League/Schedule/2824
DESCRIPTION:Regular Season match: Bada Bing vs Advance Auto
LOCATION:CCIBA Court 5
END:VEVENT
BEGIN:VEVENT
DTSTAMP:20251104T000000Z
UID:b91b2a95-7816-483f-8ebb-3fd4b69e2c97@ClaytonBocce
DTSTART;TZID=America/Los_Angeles:20260217T183000
DTEND;TZID=America/Los_Angeles:20260217T210000
STATUS:CONFIRMED
SUMMARY:Bada Bing vs I Meant to Do That
URL:/League/Schedule/2824
DESCRIPTION:Regular Season match: Bada Bing vs I Meant to Do
  That
LOCATION:CCIBA Court 3
END:VEVENT
BEGIN:VEVENT
DTSTAMP:20251104T000000Z
UID:a65090d4-ef5b-4aa9-a9d5-3cc3987670e4@ClaytonBocce
DTSTART;TZID=America/Los_Angeles:20260224T183000
DTEND;TZID=America/Los_Angeles:20260224T210000
STATUS:CONFIRMED
SUMMARY:Bada Bing vs Bocce Avengers
URL:/League/Schedule/2824
DESCRIPTION:Regular Season match: Bada Bing vs Bocce Avenger
 s
LOCATION:CCIBA Court 4
END:VEVENT
END:VCALENDAR
