BEGIN:VCALENDAR
VERSION:2.0
PRODID:-//Clayton Bocce League
METHOD:PUBLISH
BEGIN:VTIMEZONE
TZID:America/Los_Angeles
X-LIC-LOCATION:America/Los_Angeles
BEGIN:DAYLIGHT
TZOFFSETFROM:-0800
TZOFFSETTO:-0700
TZNAME:PDT
DTSTART:20070311T020000
RRULE:FREQ=YEARLY;BYMONTH=3;BYDAY=2SU
END:DAYLIGHT
BEGIN:STANDARD
TZOFFSETFROM:-0700
TZOFFSETTO:-0800
TZNAME:PST
DTSTART:20071104T020000
RRULE:FREQ=YEARLY;BYMONTH=11;BYDAY=1SU
END:STANDARD
END:VTIMEZONE
BEGIN:VEVENT
DTSTAMP:20251104T000000Z
UID:e36e5604-3cbb-4bf5-b982-695b93c8e511@ClaytonBocce
DTSTART;TZID=America/Los_Angeles:20251104T183000
DTEND;TZID=America/Los_Angeles:20251104T210000
STATUS:CONFIRMED
SUMMARY:I Meant to Do That vs Double Shot
URL:/League/Schedule/2823
DESCRIPTION:Regular Season match: I Meant to Do That vs Doub
 le Shot
LOCATION:CCIBA Court 6
END:VEVENT
BEGIN:VEVENT
DTSTAMP:20251104T000000Z
UID:609bf263-096e-410c-bb1b-a8545a2c8987@ClaytonBocce
DTSTART;TZID=America/Los_Angeles:20251111T183000
DTEND;TZID=America/Los_Angeles:20251111T210000
STATUS:CONFIRMED
SUMMARY:I Meant to Do That vs On a Roll
URL:/League/Schedule/2823
DESCRIPTION:Regular Season match: I Meant to Do That vs On a
  Roll
LOCATION:CCIBA Court 5
END:VEVENT
BEGIN:VEVENT
DTSTAMP:20251104T000000Z
UID:a268938b-1466-45f5-9e72-c275e2ab1f82@ClaytonBocce
DTSTART;TZID=America/Los_Angeles:20251202T183000
DTEND;TZID=America/Los_Angeles:20251202T210000
STATUS:CONFIRMED
SUMMARY:I Meant to Do That vs 4th Qrt
URL:/League/Schedule/2823
DESCRIPTION:Regular Season match: I Meant to Do That vs 4th 
 Qrt
LOCATION:CCIBA Court 4
END:VEVENT
BEGIN:VEVENT
DTSTAMP:20251104T000000Z
UID:76c74194-4fa1-4106-9970-3fe15c2aa453@ClaytonBocce
DTSTART;TZID=America/Los_Angeles:20251209T183000
DTEND;TZID=America/Los_Angeles:20251209T210000
STATUS:CONFIRMED
SUMMARY:I Meant to Do That vs Zandonella Catering
URL:/League/Schedule/2823
DESCRIPTION:Regular Season match: I Meant to Do That vs Zand
 onella Catering
LOCATION:CCIBA Court 3
END:VEVENT
BEGIN:VEVENT
DTSTAMP:20251104T000000Z
UID:f1194974-1de4-4836-a7f7-b1e5e3735770@ClaytonBocce
DTSTART;TZID=America/Los_Angeles:20251216T183000
DTEND;TZID=America/Los_Angeles:20251216T210000
STATUS:CONFIRMED
SUMMARY:I Meant to Do That vs Advance Auto
URL:/League/Schedule/2823
DESCRIPTION:Regular Season match: I Meant to Do That vs Adva
 nce Auto
LOCATION:CCIBA Court 2
END:VEVENT
BEGIN:VEVENT
DTSTAMP:20251104T000000Z
UID:c9dad61b-cf9d-4af6-a425-c3ddc9d37b8d@ClaytonBocce
DTSTART;TZID=America/Los_Angeles:20260106T183000
DTEND;TZID=America/Los_Angeles:20260106T210000
STATUS:CONFIRMED
SUMMARY:I Meant to Do That vs Bocce Avengers
URL:/League/Schedule/2823
DESCRIPTION:Regular Season match: I Meant to Do That vs Bocc
 e Avengers
LOCATION:CCIBA Court 6
END:VEVENT
BEGIN:VEVENT
DTSTAMP:20251104T000000Z
UID:401f6db6-9308-478b-bce6-5f7bf0ab19b8@ClaytonBocce
DTSTART;TZID=America/Los_Angeles:20260113T183000
DTEND;TZID=America/Los_Angeles:20260113T210000
STATUS:CONFIRMED
SUMMARY:I Meant to Do That vs Il Giardino
URL:/League/Schedule/2823
DESCRIPTION:Regular Season match: I Meant to Do That vs Il G
 iardino
LOCATION:CCIBA Court 1
END:VEVENT
BEGIN:VEVENT
DTSTAMP:20251104T000000Z
UID:2999465b-7499-4e00-95f7-4375d37048e1@ClaytonBocce
DTSTART;TZID=America/Los_Angeles:20260120T183000
DTEND;TZID=America/Los_Angeles:20260120T210000
STATUS:CONFIRMED
SUMMARY:I Meant to Do That vs Bada Bing
URL:/League/Schedule/2823
DESCRIPTION:Regular Season match: I Meant to Do That vs Bada
  Bing
LOCATION:CCIBA Court 3
END:VEVENT
BEGIN:VEVENT
DTSTAMP:20251104T000000Z
UID:722c0e19-1761-4459-9939-ba8537ad6b2c@ClaytonBocce
DTSTART;TZID=America/Los_Angeles:20260127T183000
DTEND;TZID=America/Los_Angeles:20260127T210000
STATUS:CONFIRMED
SUMMARY:I Meant to Do That vs Take it to Mudville
URL:/League/Schedule/2823
DESCRIPTION:Regular Season match: I Meant to Do That vs Take
  it to Mudville
LOCATION:CCIBA Court 5
END:VEVENT
BEGIN:VEVENT
DTSTAMP:20251104T000000Z
UID:d3f0f88c-9ee8-4ce0-9aea-025aa452889e@ClaytonBocce
DTSTART;TZID=America/Los_Angeles:20260203T183000
DTEND;TZID=America/Los_Angeles:20260203T210000
STATUS:CONFIRMED
SUMMARY:I Meant to Do That vs Double Shot
URL:/League/Schedule/2823
DESCRIPTION:Regular Season match: I Meant to Do That vs Doub
 le Shot
LOCATION:CCIBA Court 4
END:VEVENT
BEGIN:VEVENT
DTSTAMP:20251104T000000Z
UID:f4c923c6-ebbb-4491-a20a-d2ee396ee61d@ClaytonBocce
DTSTART;TZID=America/Los_Angeles:20260210T183000
DTEND;TZID=America/Los_Angeles:20260210T210000
STATUS:CONFIRMED
SUMMARY:I Meant to Do That vs On a Roll
URL:/League/Schedule/2823
DESCRIPTION:Regular Season match: I Meant to Do That vs On a
  Roll
LOCATION:CCIBA Court 3
END:VEVENT
BEGIN:VEVENT
DTSTAMP:20251104T000000Z
UID:b91b2a95-7816-483f-8ebb-3fd4b69e2c97@ClaytonBocce
DTSTART;TZID=America/Los_Angeles:20260217T183000
DTEND;TZID=America/Los_Angeles:20260217T210000
STATUS:CONFIRMED
SUMMARY:I Meant to Do That vs Bada Bing
URL:/League/Schedule/2823
DESCRIPTION:Regular Season match: I Meant to Do That vs Bada
  Bing
LOCATION:CCIBA Court 3
END:VEVENT
BEGIN:VEVENT
DTSTAMP:20251104T000000Z
UID:d08e353d-1e89-47b1-bdf4-719ba90dd4a6@ClaytonBocce
DTSTART;TZID=America/Los_Angeles:20260224T183000
DTEND;TZID=America/Los_Angeles:20260224T210000
STATUS:CONFIRMED
SUMMARY:I Meant to Do That vs 4th Qrt
URL:/League/Schedule/2823
DESCRIPTION:Regular Season match: I Meant to Do That vs 4th 
 Qrt
LOCATION:CCIBA Court 5
END:VEVENT
END:VCALENDAR
