BEGIN:VCALENDAR
VERSION:2.0
PRODID:-//Clayton Bocce League
METHOD:PUBLISH
BEGIN:VTIMEZONE
TZID:America/Los_Angeles
X-LIC-LOCATION:America/Los_Angeles
BEGIN:DAYLIGHT
TZOFFSETFROM:-0800
TZOFFSETTO:-0700
TZNAME:PDT
DTSTART:20070311T020000
RRULE:FREQ=YEARLY;BYMONTH=3;BYDAY=2SU
END:DAYLIGHT
BEGIN:STANDARD
TZOFFSETFROM:-0700
TZOFFSETTO:-0800
TZNAME:PST
DTSTART:20071104T020000
RRULE:FREQ=YEARLY;BYMONTH=11;BYDAY=1SU
END:STANDARD
END:VTIMEZONE
BEGIN:VEVENT
DTSTAMP:20251104T000000Z
UID:e36e5604-3cbb-4bf5-b982-695b93c8e511@ClaytonBocce
DTSTART;TZID=America/Los_Angeles:20251104T183000
DTEND;TZID=America/Los_Angeles:20251104T210000
STATUS:CONFIRMED
SUMMARY:Double Shot vs I Meant to Do That
URL:/League/Schedule/2822
DESCRIPTION:Regular Season match: Double Shot vs I Meant to 
 Do That
LOCATION:CCIBA Court 6
END:VEVENT
BEGIN:VEVENT
DTSTAMP:20251104T000000Z
UID:e89b1092-c3b9-494c-969c-95ff19ac20a1@ClaytonBocce
DTSTART;TZID=America/Los_Angeles:20251111T183000
DTEND;TZID=America/Los_Angeles:20251111T210000
STATUS:CONFIRMED
SUMMARY:Double Shot vs 4th Qrt
URL:/League/Schedule/2822
DESCRIPTION:Regular Season match: Double Shot vs 4th Qrt
LOCATION:CCIBA Court 2
END:VEVENT
BEGIN:VEVENT
DTSTAMP:20251104T000000Z
UID:d3c16f42-cdc4-4fa4-aed3-9ebae1b103f7@ClaytonBocce
DTSTART;TZID=America/Los_Angeles:20251202T183000
DTEND;TZID=America/Los_Angeles:20251202T210000
STATUS:CONFIRMED
SUMMARY:Double Shot vs Zandonella Catering
URL:/League/Schedule/2822
DESCRIPTION:Regular Season match: Double Shot vs Zandonella 
 Catering
LOCATION:CCIBA Court 5
END:VEVENT
BEGIN:VEVENT
DTSTAMP:20251104T000000Z
UID:9a1f82d7-d766-4617-9149-b14451c3ee9f@ClaytonBocce
DTSTART;TZID=America/Los_Angeles:20251209T183000
DTEND;TZID=America/Los_Angeles:20251209T210000
STATUS:CONFIRMED
SUMMARY:Double Shot vs Advance Auto
URL:/League/Schedule/2822
DESCRIPTION:Regular Season match: Double Shot vs Advance Aut
 o
LOCATION:CCIBA Court 4
END:VEVENT
BEGIN:VEVENT
DTSTAMP:20251104T000000Z
UID:08466483-999e-45c6-8fc9-36daa8e9a437@ClaytonBocce
DTSTART;TZID=America/Los_Angeles:20251216T183000
DTEND;TZID=America/Los_Angeles:20251216T210000
STATUS:CONFIRMED
SUMMARY:Double Shot vs Bocce Avengers
URL:/League/Schedule/2822
DESCRIPTION:Regular Season match: Double Shot vs Bocce Aveng
 ers
LOCATION:CCIBA Court 1
END:VEVENT
BEGIN:VEVENT
DTSTAMP:20251104T000000Z
UID:5de6ba77-b762-4eaa-ac1e-4cfbf551cf79@ClaytonBocce
DTSTART;TZID=America/Los_Angeles:20260106T183000
DTEND;TZID=America/Los_Angeles:20260106T210000
STATUS:CONFIRMED
SUMMARY:Double Shot vs Il Giardino
URL:/League/Schedule/2822
DESCRIPTION:Regular Season match: Double Shot vs Il Giardino
LOCATION:CCIBA Court 3
END:VEVENT
BEGIN:VEVENT
DTSTAMP:20251104T000000Z
UID:9021695c-e1d8-4aff-8b14-510ac976907c@ClaytonBocce
DTSTART;TZID=America/Los_Angeles:20260113T183000
DTEND;TZID=America/Los_Angeles:20260113T210000
STATUS:CONFIRMED
SUMMARY:Double Shot vs Bada Bing
URL:/League/Schedule/2822
DESCRIPTION:Regular Season match: Double Shot vs Bada Bing
LOCATION:CCIBA Court 5
END:VEVENT
BEGIN:VEVENT
DTSTAMP:20251104T000000Z
UID:15ffcfa0-cf0b-43eb-9f1d-921f998c3cc0@ClaytonBocce
DTSTART;TZID=America/Los_Angeles:20260120T183000
DTEND;TZID=America/Los_Angeles:20260120T210000
STATUS:CONFIRMED
SUMMARY:Double Shot vs Take it to Mudville
URL:/League/Schedule/2822
DESCRIPTION:Regular Season match: Double Shot vs Take it to 
 Mudville
LOCATION:CCIBA Court 2
END:VEVENT
BEGIN:VEVENT
DTSTAMP:20251104T000000Z
UID:d8b37951-a21b-40b2-a471-58e125c64bda@ClaytonBocce
DTSTART;TZID=America/Los_Angeles:20260127T183000
DTEND;TZID=America/Los_Angeles:20260127T210000
STATUS:CONFIRMED
SUMMARY:Double Shot vs On a Roll
URL:/League/Schedule/2822
DESCRIPTION:Regular Season match: Double Shot vs On a Roll
LOCATION:CCIBA Court 3
END:VEVENT
BEGIN:VEVENT
DTSTAMP:20251104T000000Z
UID:d3f0f88c-9ee8-4ce0-9aea-025aa452889e@ClaytonBocce
DTSTART;TZID=America/Los_Angeles:20260203T183000
DTEND;TZID=America/Los_Angeles:20260203T210000
STATUS:CONFIRMED
SUMMARY:Double Shot vs I Meant to Do That
URL:/League/Schedule/2822
DESCRIPTION:Regular Season match: Double Shot vs I Meant to 
 Do That
LOCATION:CCIBA Court 4
END:VEVENT
BEGIN:VEVENT
DTSTAMP:20251104T000000Z
UID:1bd99a65-444b-4d92-a9ad-51d1ad95b18b@ClaytonBocce
DTSTART;TZID=America/Los_Angeles:20260210T183000
DTEND;TZID=America/Los_Angeles:20260210T210000
STATUS:CONFIRMED
SUMMARY:Double Shot vs 4th Qrt
URL:/League/Schedule/2822
DESCRIPTION:Regular Season match: Double Shot vs 4th Qrt
LOCATION:CCIBA Court 6
END:VEVENT
BEGIN:VEVENT
DTSTAMP:20251104T000000Z
UID:4ccd9556-8e11-46ce-9404-91b9348f5cb3@ClaytonBocce
DTSTART;TZID=America/Los_Angeles:20260217T183000
DTEND;TZID=America/Los_Angeles:20260217T210000
STATUS:CONFIRMED
SUMMARY:Double Shot vs Take it to Mudville
URL:/League/Schedule/2822
DESCRIPTION:Regular Season match: Double Shot vs Take it to 
 Mudville
LOCATION:CCIBA Court 2
END:VEVENT
BEGIN:VEVENT
DTSTAMP:20251104T000000Z
UID:8dae105b-e377-41ca-8e67-e7daab7d50f5@ClaytonBocce
DTSTART;TZID=America/Los_Angeles:20260224T183000
DTEND;TZID=America/Los_Angeles:20260224T210000
STATUS:CONFIRMED
SUMMARY:Double Shot vs Zandonella Catering
URL:/League/Schedule/2822
DESCRIPTION:Regular Season match: Double Shot vs Zandonella 
 Catering
LOCATION:CCIBA Court 1
END:VEVENT
END:VCALENDAR
