BEGIN:VCALENDAR
VERSION:2.0
PRODID:-//Clayton Bocce League
METHOD:PUBLISH
BEGIN:VTIMEZONE
TZID:America/Los_Angeles
X-LIC-LOCATION:America/Los_Angeles
BEGIN:DAYLIGHT
TZOFFSETFROM:-0800
TZOFFSETTO:-0700
TZNAME:PDT
DTSTART:20070311T020000
RRULE:FREQ=YEARLY;BYMONTH=3;BYDAY=2SU
END:DAYLIGHT
BEGIN:STANDARD
TZOFFSETFROM:-0700
TZOFFSETTO:-0800
TZNAME:PST
DTSTART:20071104T020000
RRULE:FREQ=YEARLY;BYMONTH=11;BYDAY=1SU
END:STANDARD
END:VTIMEZONE
BEGIN:VEVENT
DTSTAMP:20251104T000000Z
UID:c715a3fe-fded-42cf-849f-1402d44e95b2@ClaytonBocce
DTSTART;TZID=America/Los_Angeles:20251104T183000
DTEND;TZID=America/Los_Angeles:20251104T210000
STATUS:CONFIRMED
SUMMARY:On a Roll vs Bocce Avengers
URL:/League/Schedule/2826
DESCRIPTION:Regular Season match: On a Roll vs Bocce Avenger
 s
LOCATION:CCIBA Court 2
END:VEVENT
BEGIN:VEVENT
DTSTAMP:20251104T000000Z
UID:609bf263-096e-410c-bb1b-a8545a2c8987@ClaytonBocce
DTSTART;TZID=America/Los_Angeles:20251111T183000
DTEND;TZID=America/Los_Angeles:20251111T210000
STATUS:CONFIRMED
SUMMARY:On a Roll vs I Meant to Do That
URL:/League/Schedule/2826
DESCRIPTION:Regular Season match: On a Roll vs I Meant to Do
  That
LOCATION:CCIBA Court 5
END:VEVENT
BEGIN:VEVENT
DTSTAMP:20251104T000000Z
UID:368d29b0-0937-4fa1-a4a5-cdf66d8c1a93@ClaytonBocce
DTSTART;TZID=America/Los_Angeles:20251202T183000
DTEND;TZID=America/Los_Angeles:20251202T210000
STATUS:CONFIRMED
SUMMARY:On a Roll vs Il Giardino
URL:/League/Schedule/2826
DESCRIPTION:Regular Season match: On a Roll vs Il Giardino
LOCATION:CCIBA Court 6
END:VEVENT
BEGIN:VEVENT
DTSTAMP:20251104T000000Z
UID:0360f9db-b411-4558-9196-e4bd6a4666fb@ClaytonBocce
DTSTART;TZID=America/Los_Angeles:20251209T183000
DTEND;TZID=America/Los_Angeles:20251209T210000
STATUS:CONFIRMED
SUMMARY:On a Roll vs 4th Qrt
URL:/League/Schedule/2826
DESCRIPTION:Regular Season match: On a Roll vs 4th Qrt
LOCATION:CCIBA Court 1
END:VEVENT
BEGIN:VEVENT
DTSTAMP:20251104T000000Z
UID:6eccc0e7-c806-459e-8f7c-38b3b054c14c@ClaytonBocce
DTSTART;TZID=America/Los_Angeles:20251216T183000
DTEND;TZID=America/Los_Angeles:20251216T210000
STATUS:CONFIRMED
SUMMARY:On a Roll vs Bada Bing
URL:/League/Schedule/2826
DESCRIPTION:Regular Season match: On a Roll vs Bada Bing
LOCATION:CCIBA Court 4
END:VEVENT
BEGIN:VEVENT
DTSTAMP:20251104T000000Z
UID:5e31bfdc-dbb8-4011-8032-122ddea53f87@ClaytonBocce
DTSTART;TZID=America/Los_Angeles:20260106T183000
DTEND;TZID=America/Los_Angeles:20260106T210000
STATUS:CONFIRMED
SUMMARY:On a Roll vs Zandonella Catering
URL:/League/Schedule/2826
DESCRIPTION:Regular Season match: On a Roll vs Zandonella Ca
 tering
LOCATION:CCIBA Court 2
END:VEVENT
BEGIN:VEVENT
DTSTAMP:20251104T000000Z
UID:34d3bad7-b359-4dac-a2f3-b04a8f6e1e17@ClaytonBocce
DTSTART;TZID=America/Los_Angeles:20260113T183000
DTEND;TZID=America/Los_Angeles:20260113T210000
STATUS:CONFIRMED
SUMMARY:On a Roll vs Take it to Mudville
URL:/League/Schedule/2826
DESCRIPTION:Regular Season match: On a Roll vs Take it to Mu
 dville
LOCATION:CCIBA Court 4
END:VEVENT
BEGIN:VEVENT
DTSTAMP:20251104T000000Z
UID:9a5862ec-e9f8-4ad9-ab03-bd7b9df16f47@ClaytonBocce
DTSTART;TZID=America/Los_Angeles:20260120T183000
DTEND;TZID=America/Los_Angeles:20260120T210000
STATUS:CONFIRMED
SUMMARY:On a Roll vs Advance Auto
URL:/League/Schedule/2826
DESCRIPTION:Regular Season match: On a Roll vs Advance Auto
LOCATION:CCIBA Court 1
END:VEVENT
BEGIN:VEVENT
DTSTAMP:20251104T000000Z
UID:d8b37951-a21b-40b2-a471-58e125c64bda@ClaytonBocce
DTSTART;TZID=America/Los_Angeles:20260127T183000
DTEND;TZID=America/Los_Angeles:20260127T210000
STATUS:CONFIRMED
SUMMARY:On a Roll vs Double Shot
URL:/League/Schedule/2826
DESCRIPTION:Regular Season match: On a Roll vs Double Shot
LOCATION:CCIBA Court 3
END:VEVENT
BEGIN:VEVENT
DTSTAMP:20251104T000000Z
UID:7a606e52-5dee-47a9-944e-75a72e9a344c@ClaytonBocce
DTSTART;TZID=America/Los_Angeles:20260203T183000
DTEND;TZID=America/Los_Angeles:20260203T210000
STATUS:CONFIRMED
SUMMARY:On a Roll vs Bocce Avengers
URL:/League/Schedule/2826
DESCRIPTION:Regular Season match: On a Roll vs Bocce Avenger
 s
LOCATION:CCIBA Court 5
END:VEVENT
BEGIN:VEVENT
DTSTAMP:20251104T000000Z
UID:f4c923c6-ebbb-4491-a20a-d2ee396ee61d@ClaytonBocce
DTSTART;TZID=America/Los_Angeles:20260210T183000
DTEND;TZID=America/Los_Angeles:20260210T210000
STATUS:CONFIRMED
SUMMARY:On a Roll vs I Meant to Do That
URL:/League/Schedule/2826
DESCRIPTION:Regular Season match: On a Roll vs I Meant to Do
  That
LOCATION:CCIBA Court 3
END:VEVENT
BEGIN:VEVENT
DTSTAMP:20251104T000000Z
UID:67a6dade-ab69-4add-a6f2-a0ae260ee55d@ClaytonBocce
DTSTART;TZID=America/Los_Angeles:20260217T183000
DTEND;TZID=America/Los_Angeles:20260217T210000
STATUS:CONFIRMED
SUMMARY:On a Roll vs Advance Auto
URL:/League/Schedule/2826
DESCRIPTION:Regular Season match: On a Roll vs Advance Auto
LOCATION:CCIBA Court 1
END:VEVENT
BEGIN:VEVENT
DTSTAMP:20251104T000000Z
UID:f1998cb2-f849-4656-a15b-633f01a5c129@ClaytonBocce
DTSTART;TZID=America/Los_Angeles:20260224T183000
DTEND;TZID=America/Los_Angeles:20260224T210000
STATUS:CONFIRMED
SUMMARY:On a Roll vs Il Giardino
URL:/League/Schedule/2826
DESCRIPTION:Regular Season match: On a Roll vs Il Giardino
LOCATION:CCIBA Court 6
END:VEVENT
END:VCALENDAR
