BEGIN:VCALENDAR
VERSION:2.0
PRODID:-//Clayton Bocce League
METHOD:PUBLISH
BEGIN:VTIMEZONE
TZID:America/Los_Angeles
X-LIC-LOCATION:America/Los_Angeles
BEGIN:DAYLIGHT
TZOFFSETFROM:-0800
TZOFFSETTO:-0700
TZNAME:PDT
DTSTART:20070311T020000
RRULE:FREQ=YEARLY;BYMONTH=3;BYDAY=2SU
END:DAYLIGHT
BEGIN:STANDARD
TZOFFSETFROM:-0700
TZOFFSETTO:-0800
TZNAME:PST
DTSTART:20071104T020000
RRULE:FREQ=YEARLY;BYMONTH=11;BYDAY=1SU
END:STANDARD
END:VTIMEZONE
BEGIN:VEVENT
DTSTAMP:20251104T000000Z
UID:c715a3fe-fded-42cf-849f-1402d44e95b2@ClaytonBocce
DTSTART;TZID=America/Los_Angeles:20251104T183000
DTEND;TZID=America/Los_Angeles:20251104T210000
STATUS:CONFIRMED
SUMMARY:Bocce Avengers vs On a Roll
URL:/League/Schedule/2828
DESCRIPTION:Regular Season match: Bocce Avengers vs On a Rol
 l
LOCATION:CCIBA Court 2
END:VEVENT
BEGIN:VEVENT
DTSTAMP:20251104T000000Z
UID:984c1b4c-96cd-493e-bb6b-ae9cc641094a@ClaytonBocce
DTSTART;TZID=America/Los_Angeles:20251111T183000
DTEND;TZID=America/Los_Angeles:20251111T210000
STATUS:CONFIRMED
SUMMARY:Bocce Avengers vs Il Giardino
URL:/League/Schedule/2828
DESCRIPTION:Regular Season match: Bocce Avengers vs Il Giard
 ino
LOCATION:CCIBA Court 4
END:VEVENT
BEGIN:VEVENT
DTSTAMP:20251104T000000Z
UID:7964d726-d8ed-479b-bfe5-e65c9fc9828c@ClaytonBocce
DTSTART;TZID=America/Los_Angeles:20251202T183000
DTEND;TZID=America/Los_Angeles:20251202T210000
STATUS:CONFIRMED
SUMMARY:Bocce Avengers vs Bada Bing
URL:/League/Schedule/2828
DESCRIPTION:Regular Season match: Bocce Avengers vs Bada Bin
 g
LOCATION:CCIBA Court 3
END:VEVENT
BEGIN:VEVENT
DTSTAMP:20251104T000000Z
UID:97fcef99-5218-4e55-8b71-d326f0805e3d@ClaytonBocce
DTSTART;TZID=America/Los_Angeles:20251209T183000
DTEND;TZID=America/Los_Angeles:20251209T210000
STATUS:CONFIRMED
SUMMARY:Bocce Avengers vs Take it to Mudville
URL:/League/Schedule/2828
DESCRIPTION:Regular Season match: Bocce Avengers vs Take it 
 to Mudville
LOCATION:CCIBA Court 6
END:VEVENT
BEGIN:VEVENT
DTSTAMP:20251104T000000Z
UID:08466483-999e-45c6-8fc9-36daa8e9a437@ClaytonBocce
DTSTART;TZID=America/Los_Angeles:20251216T183000
DTEND;TZID=America/Los_Angeles:20251216T210000
STATUS:CONFIRMED
SUMMARY:Bocce Avengers vs Double Shot
URL:/League/Schedule/2828
DESCRIPTION:Regular Season match: Bocce Avengers vs Double S
 hot
LOCATION:CCIBA Court 1
END:VEVENT
BEGIN:VEVENT
DTSTAMP:20251104T000000Z
UID:c9dad61b-cf9d-4af6-a425-c3ddc9d37b8d@ClaytonBocce
DTSTART;TZID=America/Los_Angeles:20260106T183000
DTEND;TZID=America/Los_Angeles:20260106T210000
STATUS:CONFIRMED
SUMMARY:Bocce Avengers vs I Meant to Do That
URL:/League/Schedule/2828
DESCRIPTION:Regular Season match: Bocce Avengers vs I Meant 
 to Do That
LOCATION:CCIBA Court 6
END:VEVENT
BEGIN:VEVENT
DTSTAMP:20251104T000000Z
UID:6f28104a-0b79-4d55-a5b7-64a598c8fa65@ClaytonBocce
DTSTART;TZID=America/Los_Angeles:20260113T183000
DTEND;TZID=America/Los_Angeles:20260113T210000
STATUS:CONFIRMED
SUMMARY:Bocce Avengers vs 4th Qrt
URL:/League/Schedule/2828
DESCRIPTION:Regular Season match: Bocce Avengers vs 4th Qrt
LOCATION:CCIBA Court 2
END:VEVENT
BEGIN:VEVENT
DTSTAMP:20251104T000000Z
UID:e51aff90-c029-4505-9a8d-ee4e692bd5a7@ClaytonBocce
DTSTART;TZID=America/Los_Angeles:20260120T183000
DTEND;TZID=America/Los_Angeles:20260120T210000
STATUS:CONFIRMED
SUMMARY:Bocce Avengers vs Zandonella Catering
URL:/League/Schedule/2828
DESCRIPTION:Regular Season match: Bocce Avengers vs Zandonel
 la Catering
LOCATION:CCIBA Court 5
END:VEVENT
BEGIN:VEVENT
DTSTAMP:20251104T000000Z
UID:dd97b286-a74b-49c2-88df-682176e41dce@ClaytonBocce
DTSTART;TZID=America/Los_Angeles:20260127T183000
DTEND;TZID=America/Los_Angeles:20260127T210000
STATUS:CONFIRMED
SUMMARY:Bocce Avengers vs Advance Auto
URL:/League/Schedule/2828
DESCRIPTION:Regular Season match: Bocce Avengers vs Advance 
 Auto
LOCATION:CCIBA Court 6
END:VEVENT
BEGIN:VEVENT
DTSTAMP:20251104T000000Z
UID:7a606e52-5dee-47a9-944e-75a72e9a344c@ClaytonBocce
DTSTART;TZID=America/Los_Angeles:20260203T183000
DTEND;TZID=America/Los_Angeles:20260203T210000
STATUS:CONFIRMED
SUMMARY:Bocce Avengers vs On a Roll
URL:/League/Schedule/2828
DESCRIPTION:Regular Season match: Bocce Avengers vs On a Rol
 l
LOCATION:CCIBA Court 5
END:VEVENT
BEGIN:VEVENT
DTSTAMP:20251104T000000Z
UID:9cb24fba-5d94-4330-85c8-05d0de187983@ClaytonBocce
DTSTART;TZID=America/Los_Angeles:20260210T183000
DTEND;TZID=America/Los_Angeles:20260210T210000
STATUS:CONFIRMED
SUMMARY:Bocce Avengers vs Il Giardino
URL:/League/Schedule/2828
DESCRIPTION:Regular Season match: Bocce Avengers vs Il Giard
 ino
LOCATION:CCIBA Court 1
END:VEVENT
BEGIN:VEVENT
DTSTAMP:20251104T000000Z
UID:fd8abc57-0e48-44a4-ae9a-75cb61934f42@ClaytonBocce
DTSTART;TZID=America/Los_Angeles:20260217T183000
DTEND;TZID=America/Los_Angeles:20260217T210000
STATUS:CONFIRMED
SUMMARY:Bocce Avengers vs Zandonella Catering
URL:/League/Schedule/2828
DESCRIPTION:Regular Season match: Bocce Avengers vs Zandonel
 la Catering
LOCATION:CCIBA Court 5
END:VEVENT
BEGIN:VEVENT
DTSTAMP:20251104T000000Z
UID:a65090d4-ef5b-4aa9-a9d5-3cc3987670e4@ClaytonBocce
DTSTART;TZID=America/Los_Angeles:20260224T183000
DTEND;TZID=America/Los_Angeles:20260224T210000
STATUS:CONFIRMED
SUMMARY:Bocce Avengers vs Bada Bing
URL:/League/Schedule/2828
DESCRIPTION:Regular Season match: Bocce Avengers vs Bada Bin
 g
LOCATION:CCIBA Court 4
END:VEVENT
END:VCALENDAR
