BEGIN:VCALENDAR
VERSION:2.0
PRODID:-//Clayton Bocce League
METHOD:PUBLISH
BEGIN:VTIMEZONE
TZID:America/Los_Angeles
X-LIC-LOCATION:America/Los_Angeles
BEGIN:DAYLIGHT
TZOFFSETFROM:-0800
TZOFFSETTO:-0700
TZNAME:PDT
DTSTART:20070311T020000
RRULE:FREQ=YEARLY;BYMONTH=3;BYDAY=2SU
END:DAYLIGHT
BEGIN:STANDARD
TZOFFSETFROM:-0700
TZOFFSETTO:-0800
TZNAME:PST
DTSTART:20071104T020000
RRULE:FREQ=YEARLY;BYMONTH=11;BYDAY=1SU
END:STANDARD
END:VTIMEZONE
BEGIN:VEVENT
DTSTAMP:20251104T000000Z
UID:ac2d82e9-5e1c-4e67-9372-f070c8010cab@ClaytonBocce
DTSTART;TZID=America/Los_Angeles:20251106T093000
DTEND;TZID=America/Los_Angeles:20251106T120000
STATUS:CONFIRMED
SUMMARY:La Vita E Bella vs Leo's Gang
URL:/League/Schedule/2810
DESCRIPTION:Regular Season match: La Vita E Bella vs Leo's G
 ang
LOCATION:CCIBA Court 5
END:VEVENT
BEGIN:VEVENT
DTSTAMP:20251104T000000Z
UID:8d35ccf2-875d-4c86-a506-ea253d5459a6@ClaytonBocce
DTSTART;TZID=America/Los_Angeles:20251113T093000
DTEND;TZID=America/Los_Angeles:20251113T120000
STATUS:CONFIRMED
SUMMARY:La Vita E Bella vs Wannabes
URL:/League/Schedule/2810
DESCRIPTION:Regular Season match: La Vita E Bella vs Wannabe
 s
LOCATION:CCIBA Court 6
END:VEVENT
BEGIN:VEVENT
DTSTAMP:20251104T000000Z
UID:ca5ea4a2-f9c4-4c8b-a08a-ee3331174903@ClaytonBocce
DTSTART;TZID=America/Los_Angeles:20251211T093000
DTEND;TZID=America/Los_Angeles:20251211T120000
STATUS:CONFIRMED
SUMMARY:La Vita E Bella vs Wild Bunch 2
URL:/League/Schedule/2810
DESCRIPTION:Regular Season match: La Vita E Bella vs Wild Bu
 nch 2
LOCATION:CCIBA Court 3
END:VEVENT
BEGIN:VEVENT
DTSTAMP:20251104T000000Z
UID:86d92524-2bfd-4d11-9715-22c41991018c@ClaytonBocce
DTSTART;TZID=America/Los_Angeles:20251218T093000
DTEND;TZID=America/Los_Angeles:20251218T120000
STATUS:CONFIRMED
SUMMARY:La Vita E Bella vs Pink Rollers
URL:/League/Schedule/2810
DESCRIPTION:Regular Season match: La Vita E Bella vs Pink Ro
 llers
LOCATION:CCIBA Court 2
END:VEVENT
BEGIN:VEVENT
DTSTAMP:20251104T000000Z
UID:c1a7d9fc-acaf-4a78-831e-e4b319edb638@ClaytonBocce
DTSTART;TZID=America/Los_Angeles:20260108T093000
DTEND;TZID=America/Los_Angeles:20260108T120000
STATUS:CONFIRMED
SUMMARY:La Vita E Bella vs Bocce Magic
URL:/League/Schedule/2810
DESCRIPTION:Regular Season match: La Vita E Bella vs Bocce M
 agic
LOCATION:CCIBA Court 5
END:VEVENT
BEGIN:VEVENT
DTSTAMP:20251104T000000Z
UID:f34de1f5-1e31-4f69-9863-f64ef97326c7@ClaytonBocce
DTSTART;TZID=America/Los_Angeles:20260115T093000
DTEND;TZID=America/Los_Angeles:20260115T120000
STATUS:CONFIRMED
SUMMARY:La Vita E Bella vs Bocce Addicts
URL:/League/Schedule/2810
DESCRIPTION:Regular Season match: La Vita E Bella vs Bocce A
 ddicts
LOCATION:CCIBA Court 2
END:VEVENT
BEGIN:VEVENT
DTSTAMP:20251104T000000Z
UID:56abdbed-00cb-4ff3-be1d-21796d1ed5ba@ClaytonBocce
DTSTART;TZID=America/Los_Angeles:20260122T093000
DTEND;TZID=America/Los_Angeles:20260122T120000
STATUS:CONFIRMED
SUMMARY:La Vita E Bella vs Lucky 8
URL:/League/Schedule/2810
DESCRIPTION:Regular Season match: La Vita E Bella vs Lucky 8
LOCATION:CCIBA Court 4
END:VEVENT
BEGIN:VEVENT
DTSTAMP:20251104T000000Z
UID:6b816647-a01e-4413-8021-5699857921dc@ClaytonBocce
DTSTART;TZID=America/Los_Angeles:20260129T093000
DTEND;TZID=America/Los_Angeles:20260129T120000
STATUS:CONFIRMED
SUMMARY:La Vita E Bella vs Sams Gang
URL:/League/Schedule/2810
DESCRIPTION:Regular Season match: La Vita E Bella vs Sams Ga
 ng
LOCATION:CCIBA Court 6
END:VEVENT
BEGIN:VEVENT
DTSTAMP:20251104T000000Z
UID:4dd969af-e1e6-461f-bb0b-dbf01feda65f@ClaytonBocce
DTSTART;TZID=America/Los_Angeles:20260205T093000
DTEND;TZID=America/Los_Angeles:20260205T120000
STATUS:CONFIRMED
SUMMARY:La Vita E Bella vs Mavericks
URL:/League/Schedule/2810
DESCRIPTION:Regular Season match: La Vita E Bella vs Maveric
 ks
LOCATION:CCIBA Court 5
END:VEVENT
BEGIN:VEVENT
DTSTAMP:20251104T000000Z
UID:8096286d-66cb-4234-a884-323e14264365@ClaytonBocce
DTSTART;TZID=America/Los_Angeles:20260212T093000
DTEND;TZID=America/Los_Angeles:20260212T120000
STATUS:CONFIRMED
SUMMARY:La Vita E Bella vs Hit and Miss
URL:/League/Schedule/2810
DESCRIPTION:Regular Season match: La Vita E Bella vs Hit and
  Miss
LOCATION:CCIBA Court 6
END:VEVENT
BEGIN:VEVENT
DTSTAMP:20251104T000000Z
UID:99ef7615-9868-4526-84b9-df5250c44eda@ClaytonBocce
DTSTART;TZID=America/Los_Angeles:20260226T093000
DTEND;TZID=America/Los_Angeles:20260226T120000
STATUS:CONFIRMED
SUMMARY:La Vita E Bella vs Shorts No Good
URL:/League/Schedule/2810
DESCRIPTION:Regular Season match: La Vita E Bella vs Shorts 
 No Good
LOCATION:CCIBA Court 1
END:VEVENT
BEGIN:VEVENT
DTSTAMP:20251104T000000Z
UID:431fb32d-4c5b-4452-8b0e-155a21ca397e@ClaytonBocce
DTSTART;TZID=America/Los_Angeles:20260305T093000
DTEND;TZID=America/Los_Angeles:20260305T120000
STATUS:CONFIRMED
SUMMARY:La Vita E Bella vs Amici
URL:/League/Schedule/2810
DESCRIPTION:Regular Season match: La Vita E Bella vs Amici
LOCATION:CCIBA Court 3
END:VEVENT
END:VCALENDAR
