BEGIN:VCALENDAR
VERSION:2.0
PRODID:-//Clayton Bocce League
METHOD:PUBLISH
BEGIN:VTIMEZONE
TZID:America/Los_Angeles
X-LIC-LOCATION:America/Los_Angeles
BEGIN:DAYLIGHT
TZOFFSETFROM:-0800
TZOFFSETTO:-0700
TZNAME:PDT
DTSTART:20070311T020000
RRULE:FREQ=YEARLY;BYMONTH=3;BYDAY=2SU
END:DAYLIGHT
BEGIN:STANDARD
TZOFFSETFROM:-0700
TZOFFSETTO:-0800
TZNAME:PST
DTSTART:20071104T020000
RRULE:FREQ=YEARLY;BYMONTH=11;BYDAY=1SU
END:STANDARD
END:VTIMEZONE
BEGIN:VEVENT
DTSTAMP:20251104T000000Z
UID:24aae930-6dba-4a15-8d84-2eb7104bfa5c@ClaytonBocce
DTSTART;TZID=America/Los_Angeles:20251106T093000
DTEND;TZID=America/Los_Angeles:20251106T120000
STATUS:CONFIRMED
SUMMARY:Lucky 8 vs Sams Gang
URL:/League/Schedule/2808
DESCRIPTION:Regular Season match: Lucky 8 vs Sams Gang
LOCATION:CCIBA Court 1
END:VEVENT
BEGIN:VEVENT
DTSTAMP:20251104T000000Z
UID:f624fcd1-ab33-416a-a8aa-b510160e8a78@ClaytonBocce
DTSTART;TZID=America/Los_Angeles:20251113T093000
DTEND;TZID=America/Los_Angeles:20251113T120000
STATUS:CONFIRMED
SUMMARY:Lucky 8 vs Mavericks
URL:/League/Schedule/2808
DESCRIPTION:Regular Season match: Lucky 8 vs Mavericks
LOCATION:CCIBA Court 2
END:VEVENT
BEGIN:VEVENT
DTSTAMP:20251104T000000Z
UID:d7aadf2f-2b5d-479c-8370-36b9b58b26c1@ClaytonBocce
DTSTART;TZID=America/Los_Angeles:20251204T093000
DTEND;TZID=America/Los_Angeles:20251204T120000
STATUS:CONFIRMED
SUMMARY:Lucky 8 vs Hit and Miss
URL:/League/Schedule/2808
DESCRIPTION:Regular Season match: Lucky 8 vs Hit and Miss
LOCATION:CCIBA Court 3
END:VEVENT
BEGIN:VEVENT
DTSTAMP:20251104T000000Z
UID:9ddd33d2-afd0-49d1-9cb4-25b777dc798d@ClaytonBocce
DTSTART;TZID=America/Los_Angeles:20251211T093000
DTEND;TZID=America/Los_Angeles:20251211T120000
STATUS:CONFIRMED
SUMMARY:Lucky 8 vs Shorts No Good
URL:/League/Schedule/2808
DESCRIPTION:Regular Season match: Lucky 8 vs Shorts No Good
LOCATION:CCIBA Court 6
END:VEVENT
BEGIN:VEVENT
DTSTAMP:20251104T000000Z
UID:4d02429e-b0ed-48a5-91f8-5747819bebfa@ClaytonBocce
DTSTART;TZID=America/Los_Angeles:20251218T093000
DTEND;TZID=America/Los_Angeles:20251218T120000
STATUS:CONFIRMED
SUMMARY:Lucky 8 vs Amici
URL:/League/Schedule/2808
DESCRIPTION:Regular Season match: Lucky 8 vs Amici
LOCATION:CCIBA Court 3
END:VEVENT
BEGIN:VEVENT
DTSTAMP:20251104T000000Z
UID:792d03c9-bbde-4fb6-9333-0fecf088476e@ClaytonBocce
DTSTART;TZID=America/Los_Angeles:20260108T093000
DTEND;TZID=America/Los_Angeles:20260108T120000
STATUS:CONFIRMED
SUMMARY:Lucky 8 vs Leo's Gang
URL:/League/Schedule/2808
DESCRIPTION:Regular Season match: Lucky 8 vs Leo's Gang
LOCATION:CCIBA Court 2
END:VEVENT
BEGIN:VEVENT
DTSTAMP:20251104T000000Z
UID:32e78421-e554-4ed7-b68c-6d075550e5cd@ClaytonBocce
DTSTART;TZID=America/Los_Angeles:20260115T093000
DTEND;TZID=America/Los_Angeles:20260115T120000
STATUS:CONFIRMED
SUMMARY:Lucky 8 vs Wannabes
URL:/League/Schedule/2808
DESCRIPTION:Regular Season match: Lucky 8 vs Wannabes
LOCATION:CCIBA Court 5
END:VEVENT
BEGIN:VEVENT
DTSTAMP:20251104T000000Z
UID:56abdbed-00cb-4ff3-be1d-21796d1ed5ba@ClaytonBocce
DTSTART;TZID=America/Los_Angeles:20260122T093000
DTEND;TZID=America/Los_Angeles:20260122T120000
STATUS:CONFIRMED
SUMMARY:Lucky 8 vs La Vita E Bella
URL:/League/Schedule/2808
DESCRIPTION:Regular Season match: Lucky 8 vs La Vita E Bella
LOCATION:CCIBA Court 4
END:VEVENT
BEGIN:VEVENT
DTSTAMP:20251104T000000Z
UID:c1478a19-7e61-4b81-8d53-45fe20de3e45@ClaytonBocce
DTSTART;TZID=America/Los_Angeles:20260129T093000
DTEND;TZID=America/Los_Angeles:20260129T120000
STATUS:CONFIRMED
SUMMARY:Lucky 8 vs Wild Bunch 2
URL:/League/Schedule/2808
DESCRIPTION:Regular Season match: Lucky 8 vs Wild Bunch 2
LOCATION:CCIBA Court 2
END:VEVENT
BEGIN:VEVENT
DTSTAMP:20251104T000000Z
UID:7331a2b7-819a-493d-aee8-3d74fe428bfd@ClaytonBocce
DTSTART;TZID=America/Los_Angeles:20260205T093000
DTEND;TZID=America/Los_Angeles:20260205T120000
STATUS:CONFIRMED
SUMMARY:Lucky 8 vs Pink Rollers
URL:/League/Schedule/2808
DESCRIPTION:Regular Season match: Lucky 8 vs Pink Rollers
LOCATION:CCIBA Court 3
END:VEVENT
BEGIN:VEVENT
DTSTAMP:20251104T000000Z
UID:ea55516e-2cf4-4080-b6d7-96cf56f892a9@ClaytonBocce
DTSTART;TZID=America/Los_Angeles:20260212T093000
DTEND;TZID=America/Los_Angeles:20260212T120000
STATUS:CONFIRMED
SUMMARY:Lucky 8 vs Bocce Magic
URL:/League/Schedule/2808
DESCRIPTION:Regular Season match: Lucky 8 vs Bocce Magic
LOCATION:CCIBA Court 1
END:VEVENT
BEGIN:VEVENT
DTSTAMP:20251104T000000Z
UID:d7dd4437-18ea-47be-91c0-ce496b9ab27e@ClaytonBocce
DTSTART;TZID=America/Los_Angeles:20260226T093000
DTEND;TZID=America/Los_Angeles:20260226T120000
STATUS:CONFIRMED
SUMMARY:Lucky 8 vs Bocce Addicts
URL:/League/Schedule/2808
DESCRIPTION:Regular Season match: Lucky 8 vs Bocce Addicts
LOCATION:CCIBA Court 6
END:VEVENT
END:VCALENDAR
