BEGIN:VCALENDAR
VERSION:2.0
PRODID:-//Clayton Bocce League
METHOD:PUBLISH
BEGIN:VTIMEZONE
TZID:America/Los_Angeles
X-LIC-LOCATION:America/Los_Angeles
BEGIN:DAYLIGHT
TZOFFSETFROM:-0800
TZOFFSETTO:-0700
TZNAME:PDT
DTSTART:20070311T020000
RRULE:FREQ=YEARLY;BYMONTH=3;BYDAY=2SU
END:DAYLIGHT
BEGIN:STANDARD
TZOFFSETFROM:-0700
TZOFFSETTO:-0800
TZNAME:PST
DTSTART:20071104T020000
RRULE:FREQ=YEARLY;BYMONTH=11;BYDAY=1SU
END:STANDARD
END:VTIMEZONE
BEGIN:VEVENT
DTSTAMP:20251104T000000Z
UID:843e17e6-e09d-473f-ad6a-b8f8383f4924@ClaytonBocce
DTSTART;TZID=America/Los_Angeles:20251104T093000
DTEND;TZID=America/Los_Angeles:20251104T120000
STATUS:CONFIRMED
SUMMARY:Golden Agers vs Lockdown Rollers
URL:/League/Schedule/2798
DESCRIPTION:Regular Season match: Golden Agers vs Lockdown R
 ollers
LOCATION:CCIBA Court 2
END:VEVENT
BEGIN:VEVENT
DTSTAMP:20251104T000000Z
UID:74fdff20-cffd-4ec2-96c9-b9572785d8ff@ClaytonBocce
DTSTART;TZID=America/Los_Angeles:20251111T093000
DTEND;TZID=America/Los_Angeles:20251111T120000
STATUS:CONFIRMED
SUMMARY:Golden Agers vs 4th Qrt
URL:/League/Schedule/2798
DESCRIPTION:Regular Season match: Golden Agers vs 4th Qrt
LOCATION:CCIBA Court 1
END:VEVENT
BEGIN:VEVENT
DTSTAMP:20251104T000000Z
UID:2a61a95f-3322-44ca-9cbf-cee2c9db89c5@ClaytonBocce
DTSTART;TZID=America/Los_Angeles:20251202T093000
DTEND;TZID=America/Los_Angeles:20251202T120000
STATUS:CONFIRMED
SUMMARY:Golden Agers vs Bocce Rollers
URL:/League/Schedule/2798
DESCRIPTION:Regular Season match: Golden Agers vs Bocce Roll
 ers
LOCATION:CCIBA Court 2
END:VEVENT
BEGIN:VEVENT
DTSTAMP:20251104T000000Z
UID:cbf9731b-f243-4095-a650-431c6247f83f@ClaytonBocce
DTSTART;TZID=America/Los_Angeles:20251209T093000
DTEND;TZID=America/Los_Angeles:20251209T120000
STATUS:CONFIRMED
SUMMARY:Golden Agers vs Measure This
URL:/League/Schedule/2798
DESCRIPTION:Regular Season match: Golden Agers vs Measure Th
 is
LOCATION:CCIBA Court 4
END:VEVENT
BEGIN:VEVENT
DTSTAMP:20251104T000000Z
UID:a1e8c642-2cd9-49f5-825c-3ab7e0bb3a34@ClaytonBocce
DTSTART;TZID=America/Los_Angeles:20251216T093000
DTEND;TZID=America/Los_Angeles:20251216T120000
STATUS:CONFIRMED
SUMMARY:Golden Agers vs Bocce Guys
URL:/League/Schedule/2798
DESCRIPTION:Regular Season match: Golden Agers vs Bocce Guys
LOCATION:CCIBA Court 2
END:VEVENT
BEGIN:VEVENT
DTSTAMP:20251104T000000Z
UID:7186dfe7-2d36-407a-9de5-994c96e345af@ClaytonBocce
DTSTART;TZID=America/Los_Angeles:20260106T093000
DTEND;TZID=America/Los_Angeles:20260106T120000
STATUS:CONFIRMED
SUMMARY:Golden Agers vs The Bocce Life
URL:/League/Schedule/2798
DESCRIPTION:Regular Season match: Golden Agers vs The Bocce 
 Life
LOCATION:CCIBA Court 1
END:VEVENT
BEGIN:VEVENT
DTSTAMP:20251104T000000Z
UID:6b938eb6-2092-4524-a11f-55c13fabf8a4@ClaytonBocce
DTSTART;TZID=America/Los_Angeles:20260120T093000
DTEND;TZID=America/Los_Angeles:20260120T120000
STATUS:CONFIRMED
SUMMARY:Golden Agers vs Bocce Avengers
URL:/League/Schedule/2798
DESCRIPTION:Regular Season match: Golden Agers vs Bocce Aven
 gers
LOCATION:CCIBA Court 5
END:VEVENT
BEGIN:VEVENT
DTSTAMP:20251104T000000Z
UID:5e7eb141-d956-4e54-a3f8-589dd67a01c1@ClaytonBocce
DTSTART;TZID=America/Los_Angeles:20260127T093000
DTEND;TZID=America/Los_Angeles:20260127T120000
STATUS:CONFIRMED
SUMMARY:Golden Agers vs ABC
URL:/League/Schedule/2798
DESCRIPTION:Regular Season match: Golden Agers vs ABC
LOCATION:CCIBA Court 1
END:VEVENT
BEGIN:VEVENT
DTSTAMP:20251104T000000Z
UID:5b2d96ed-b148-41fe-82a8-a87abada2570@ClaytonBocce
DTSTART;TZID=America/Los_Angeles:20260203T093000
DTEND;TZID=America/Los_Angeles:20260203T120000
STATUS:CONFIRMED
SUMMARY:Golden Agers vs Close Enough
URL:/League/Schedule/2798
DESCRIPTION:Regular Season match: Golden Agers vs Close Enou
 gh
LOCATION:CCIBA Court 3
END:VEVENT
BEGIN:VEVENT
DTSTAMP:20251104T000000Z
UID:a76625a1-f603-4b79-9f56-a12b984a565b@ClaytonBocce
DTSTART;TZID=America/Los_Angeles:20260210T093000
DTEND;TZID=America/Los_Angeles:20260210T120000
STATUS:CONFIRMED
SUMMARY:Golden Agers vs Just for Fun
URL:/League/Schedule/2798
DESCRIPTION:Regular Season match: Golden Agers vs Just for F
 un
LOCATION:CCIBA Court 5
END:VEVENT
BEGIN:VEVENT
DTSTAMP:20251104T000000Z
UID:7eaf9e7c-3c85-4d40-b751-ea0d3cf18cef@ClaytonBocce
DTSTART;TZID=America/Los_Angeles:20260224T093000
DTEND;TZID=America/Los_Angeles:20260224T120000
STATUS:CONFIRMED
SUMMARY:Golden Agers vs Don't Be Short
URL:/League/Schedule/2798
DESCRIPTION:Regular Season match: Golden Agers vs Don't Be S
 hort
LOCATION:CCIBA Court 4
END:VEVENT
BEGIN:VEVENT
DTSTAMP:20251104T000000Z
UID:75e91c64-024a-481a-8783-ebb96b8684fc@ClaytonBocce
DTSTART;TZID=America/Los_Angeles:20260303T093000
DTEND;TZID=America/Los_Angeles:20260303T120000
STATUS:CONFIRMED
SUMMARY:Golden Agers vs Bocce Dogs
URL:/League/Schedule/2798
DESCRIPTION:Regular Season match: Golden Agers vs Bocce Dogs
LOCATION:CCIBA Court 6
END:VEVENT
END:VCALENDAR
