BEGIN:VCALENDAR
VERSION:2.0
PRODID:-//Clayton Bocce League
METHOD:PUBLISH
BEGIN:VTIMEZONE
TZID:America/Los_Angeles
X-LIC-LOCATION:America/Los_Angeles
BEGIN:DAYLIGHT
TZOFFSETFROM:-0800
TZOFFSETTO:-0700
TZNAME:PDT
DTSTART:20070311T020000
RRULE:FREQ=YEARLY;BYMONTH=3;BYDAY=2SU
END:DAYLIGHT
BEGIN:STANDARD
TZOFFSETFROM:-0700
TZOFFSETTO:-0800
TZNAME:PST
DTSTART:20071104T020000
RRULE:FREQ=YEARLY;BYMONTH=11;BYDAY=1SU
END:STANDARD
END:VTIMEZONE
BEGIN:VEVENT
DTSTAMP:20260428T000000Z
UID:a33e883d-eb0e-418b-a9c7-c959b82693ba@ClaytonBocce
DTSTART;TZID=America/Los_Angeles:20260430T183000
DTEND;TZID=America/Los_Angeles:20260430T210000
STATUS:CONFIRMED
SUMMARY:Lanter's Laggers vs Just Us
URL:/League/Schedule/2907
DESCRIPTION:Regular Season match: Lanter's Laggers vs Just U
 s
LOCATION:Chichibu Court 1
END:VEVENT
BEGIN:VEVENT
DTSTAMP:20260428T000000Z
UID:020bae15-899e-42d4-8d8d-f6e1b24789c5@ClaytonBocce
DTSTART;TZID=America/Los_Angeles:20260507T183000
DTEND;TZID=America/Los_Angeles:20260507T210000
STATUS:CONFIRMED
SUMMARY:Lanter's Laggers vs The Ducks
URL:/League/Schedule/2907
DESCRIPTION:Regular Season match: Lanter's Laggers vs The Du
 cks
LOCATION:Chichibu Court 3
END:VEVENT
BEGIN:VEVENT
DTSTAMP:20260428T000000Z
UID:ebeff25d-515f-456f-a362-42a5bb535ef1@ClaytonBocce
DTSTART;TZID=America/Los_Angeles:20260514T183000
DTEND;TZID=America/Los_Angeles:20260514T210000
STATUS:CONFIRMED
SUMMARY:Lanter's Laggers vs Hitmen
URL:/League/Schedule/2907
DESCRIPTION:Regular Season match: Lanter's Laggers vs Hitmen
LOCATION:Chichibu Court 4
END:VEVENT
BEGIN:VEVENT
DTSTAMP:20260428T000000Z
UID:6346ad4b-43ed-40d4-a6ed-3477ac8f57de@ClaytonBocce
DTSTART;TZID=America/Los_Angeles:20260528T183000
DTEND;TZID=America/Los_Angeles:20260528T210000
STATUS:CONFIRMED
SUMMARY:Lanter's Laggers vs La Vita E Bella
URL:/League/Schedule/2907
DESCRIPTION:Regular Season match: Lanter's Laggers vs La Vit
 a E Bella
LOCATION:Chichibu Court 1
END:VEVENT
BEGIN:VEVENT
DTSTAMP:20260428T000000Z
UID:668add65-cbef-4ebc-b3cf-81b9e0213fb9@ClaytonBocce
DTSTART;TZID=America/Los_Angeles:20260604T183000
DTEND;TZID=America/Los_Angeles:20260604T210000
STATUS:CONFIRMED
SUMMARY:Lanter's Laggers vs Peace Love & Bocce
URL:/League/Schedule/2907
DESCRIPTION:Regular Season match: Lanter's Laggers vs Peace 
 Love & Bocce
LOCATION:Chichibu Court 6
END:VEVENT
BEGIN:VEVENT
DTSTAMP:20260428T000000Z
UID:7f10d10d-7d68-4150-ac0d-bcf0a6473f5c@ClaytonBocce
DTSTART;TZID=America/Los_Angeles:20260611T183000
DTEND;TZID=America/Los_Angeles:20260611T210000
STATUS:CONFIRMED
SUMMARY:Lanter's Laggers vs Fugettabocce
URL:/League/Schedule/2907
DESCRIPTION:Regular Season match: Lanter's Laggers vs Fugett
 abocce
LOCATION:Chichibu Court 4
END:VEVENT
BEGIN:VEVENT
DTSTAMP:20260428T000000Z
UID:fe9e172c-2ad0-4a6e-8b86-110262d15c2d@ClaytonBocce
DTSTART;TZID=America/Los_Angeles:20260625T183000
DTEND;TZID=America/Los_Angeles:20260625T210000
STATUS:CONFIRMED
SUMMARY:Lanter's Laggers vs Sniff the Jack
URL:/League/Schedule/2907
DESCRIPTION:Regular Season match: Lanter's Laggers vs Sniff 
 the Jack
LOCATION:Chichibu Court 6
END:VEVENT
BEGIN:VEVENT
DTSTAMP:20260428T000000Z
UID:9e0afc00-4625-4bb9-862d-9403e44ee431@ClaytonBocce
DTSTART;TZID=America/Los_Angeles:20260702T183000
DTEND;TZID=America/Los_Angeles:20260702T210000
STATUS:CONFIRMED
SUMMARY:Lanter's Laggers vs Johnny B's
URL:/League/Schedule/2907
DESCRIPTION:Regular Season match: Lanter's Laggers vs Johnny
  B's
LOCATION:Chichibu Court 5
END:VEVENT
BEGIN:VEVENT
DTSTAMP:20260428T000000Z
UID:f5f92289-3580-4fce-a1c2-aa52a13d73b0@ClaytonBocce
DTSTART;TZID=America/Los_Angeles:20260709T183000
DTEND;TZID=America/Los_Angeles:20260709T210000
STATUS:CONFIRMED
SUMMARY:Lanter's Laggers vs The Central Addition
URL:/League/Schedule/2907
DESCRIPTION:Regular Season match: Lanter's Laggers vs The Ce
 ntral Addition
LOCATION:Chichibu Court 6
END:VEVENT
BEGIN:VEVENT
DTSTAMP:20260428T000000Z
UID:f3a34c36-62cf-43bf-bf90-d7a1f0e3a376@ClaytonBocce
DTSTART;TZID=America/Los_Angeles:20260723T183000
DTEND;TZID=America/Los_Angeles:20260723T210000
STATUS:CONFIRMED
SUMMARY:Lanter's Laggers vs Bocce Beocces
URL:/League/Schedule/2907
DESCRIPTION:Regular Season match: Lanter's Laggers vs Bocce 
 Beocces
LOCATION:Chichibu Court 2
END:VEVENT
BEGIN:VEVENT
DTSTAMP:20260428T000000Z
UID:1b1a85ea-99f0-46d7-bdb9-ac51dbb3f9c5@ClaytonBocce
DTSTART;TZID=America/Los_Angeles:20260730T183000
DTEND;TZID=America/Los_Angeles:20260730T210000
STATUS:CONFIRMED
SUMMARY:Lanter's Laggers vs Johnny B'ettes
URL:/League/Schedule/2907
DESCRIPTION:Regular Season match: Lanter's Laggers vs Johnny
  B'ettes
LOCATION:Chichibu Court 4
END:VEVENT
BEGIN:VEVENT
DTSTAMP:20260428T000000Z
UID:92cde11e-e9a8-4c24-89b6-9128b643caa8@ClaytonBocce
DTSTART;TZID=America/Los_Angeles:20260806T183000
DTEND;TZID=America/Los_Angeles:20260806T210000
STATUS:CONFIRMED
SUMMARY:Lanter's Laggers vs Just Us
URL:/League/Schedule/2907
DESCRIPTION:Regular Season match: Lanter's Laggers vs Just U
 s
LOCATION:Chichibu Court 3
END:VEVENT
BEGIN:VEVENT
DTSTAMP:20260428T000000Z
UID:c1e73b4c-8b9b-48f0-84fe-f71d6147494f@ClaytonBocce
DTSTART;TZID=America/Los_Angeles:20260820T183000
DTEND;TZID=America/Los_Angeles:20260820T210000
STATUS:CONFIRMED
SUMMARY:Lanter's Laggers vs La Vita E Bella
URL:/League/Schedule/2907
DESCRIPTION:Regular Season match: Lanter's Laggers vs La Vit
 a E Bella
LOCATION:Chichibu Court 2
END:VEVENT
BEGIN:VEVENT
DTSTAMP:20260428T000000Z
UID:fa4da37d-b870-4bcf-ba2b-70e56dfc6693@ClaytonBocce
DTSTART;TZID=America/Los_Angeles:20260827T183000
DTEND;TZID=America/Los_Angeles:20260827T210000
STATUS:CONFIRMED
SUMMARY:Lanter's Laggers vs Johnny B's
URL:/League/Schedule/2907
DESCRIPTION:Regular Season match: Lanter's Laggers vs Johnny
  B's
LOCATION:Chichibu Court 4
END:VEVENT
END:VCALENDAR
