BEGIN:VCALENDAR
VERSION:2.0
PRODID:-//Clayton Bocce League
METHOD:PUBLISH
BEGIN:VTIMEZONE
TZID:America/Los_Angeles
X-LIC-LOCATION:America/Los_Angeles
BEGIN:DAYLIGHT
TZOFFSETFROM:-0800
TZOFFSETTO:-0700
TZNAME:PDT
DTSTART:20070311T020000
RRULE:FREQ=YEARLY;BYMONTH=3;BYDAY=2SU
END:DAYLIGHT
BEGIN:STANDARD
TZOFFSETFROM:-0700
TZOFFSETTO:-0800
TZNAME:PST
DTSTART:20071104T020000
RRULE:FREQ=YEARLY;BYMONTH=11;BYDAY=1SU
END:STANDARD
END:VTIMEZONE
BEGIN:VEVENT
DTSTAMP:20260428T000000Z
UID:a33e883d-eb0e-418b-a9c7-c959b82693ba@ClaytonBocce
DTSTART;TZID=America/Los_Angeles:20260430T183000
DTEND;TZID=America/Los_Angeles:20260430T210000
STATUS:CONFIRMED
SUMMARY:Just Us vs Lanter's Laggers
URL:/League/Schedule/2902
DESCRIPTION:Regular Season match: Just Us vs Lanter's Lagger
 s
LOCATION:Chichibu Court 1
END:VEVENT
BEGIN:VEVENT
DTSTAMP:20260428T000000Z
UID:f37036e0-35e6-4acf-aa88-286e684b4963@ClaytonBocce
DTSTART;TZID=America/Los_Angeles:20260507T183000
DTEND;TZID=America/Los_Angeles:20260507T210000
STATUS:CONFIRMED
SUMMARY:Just Us vs Bocce Beocces
URL:/League/Schedule/2902
DESCRIPTION:Regular Season match: Just Us vs Bocce Beocces
LOCATION:Chichibu Court 4
END:VEVENT
BEGIN:VEVENT
DTSTAMP:20260428T000000Z
UID:d8ab9dd0-ab6e-4ab0-8567-8350ef994b1d@ClaytonBocce
DTSTART;TZID=America/Los_Angeles:20260514T183000
DTEND;TZID=America/Los_Angeles:20260514T210000
STATUS:CONFIRMED
SUMMARY:Just Us vs Johnny B'ettes
URL:/League/Schedule/2902
DESCRIPTION:Regular Season match: Just Us vs Johnny B'ettes
LOCATION:Chichibu Court 2
END:VEVENT
BEGIN:VEVENT
DTSTAMP:20260428T000000Z
UID:f8c4332f-7e87-4627-b311-066be1e046bc@ClaytonBocce
DTSTART;TZID=America/Los_Angeles:20260528T183000
DTEND;TZID=America/Los_Angeles:20260528T210000
STATUS:CONFIRMED
SUMMARY:Just Us vs Peace Love & Bocce
URL:/League/Schedule/2902
DESCRIPTION:Regular Season match: Just Us vs Peace Love & Bo
 cce
LOCATION:Chichibu Court 3
END:VEVENT
BEGIN:VEVENT
DTSTAMP:20260428T000000Z
UID:7212d5e6-6246-4564-bfd6-f077ebab70d2@ClaytonBocce
DTSTART;TZID=America/Los_Angeles:20260604T183000
DTEND;TZID=America/Los_Angeles:20260604T210000
STATUS:CONFIRMED
SUMMARY:Just Us vs The Ducks
URL:/League/Schedule/2902
DESCRIPTION:Regular Season match: Just Us vs The Ducks
LOCATION:Chichibu Court 5
END:VEVENT
BEGIN:VEVENT
DTSTAMP:20260428T000000Z
UID:c1e23dbe-e0c5-4528-bb30-3bce5e16987f@ClaytonBocce
DTSTART;TZID=America/Los_Angeles:20260611T183000
DTEND;TZID=America/Los_Angeles:20260611T210000
STATUS:CONFIRMED
SUMMARY:Just Us vs The Central Addition
URL:/League/Schedule/2902
DESCRIPTION:Regular Season match: Just Us vs The Central Add
 ition
LOCATION:Chichibu Court 6
END:VEVENT
BEGIN:VEVENT
DTSTAMP:20260428T000000Z
UID:e95bb449-7d35-43a3-9cbd-1754cb7cd5ba@ClaytonBocce
DTSTART;TZID=America/Los_Angeles:20260625T183000
DTEND;TZID=America/Los_Angeles:20260625T210000
STATUS:CONFIRMED
SUMMARY:Just Us vs La Vita E Bella
URL:/League/Schedule/2902
DESCRIPTION:Regular Season match: Just Us vs La Vita E Bella
LOCATION:Chichibu Court 4
END:VEVENT
BEGIN:VEVENT
DTSTAMP:20260428T000000Z
UID:4781e797-f3d0-48cd-b56b-8b75efef7a00@ClaytonBocce
DTSTART;TZID=America/Los_Angeles:20260702T183000
DTEND;TZID=America/Los_Angeles:20260702T210000
STATUS:CONFIRMED
SUMMARY:Just Us vs Fugettabocce
URL:/League/Schedule/2902
DESCRIPTION:Regular Season match: Just Us vs Fugettabocce
LOCATION:Chichibu Court 1
END:VEVENT
BEGIN:VEVENT
DTSTAMP:20260428T000000Z
UID:bdece428-1b15-4d28-a8b3-8bea12ddf54c@ClaytonBocce
DTSTART;TZID=America/Los_Angeles:20260709T183000
DTEND;TZID=America/Los_Angeles:20260709T210000
STATUS:CONFIRMED
SUMMARY:Just Us vs Sniff the Jack
URL:/League/Schedule/2902
DESCRIPTION:Regular Season match: Just Us vs Sniff the Jack
LOCATION:Chichibu Court 5
END:VEVENT
BEGIN:VEVENT
DTSTAMP:20260428T000000Z
UID:996da4e1-2698-43e1-ad4d-ca1dbcd29ea9@ClaytonBocce
DTSTART;TZID=America/Los_Angeles:20260723T183000
DTEND;TZID=America/Los_Angeles:20260723T210000
STATUS:CONFIRMED
SUMMARY:Just Us vs Hitmen
URL:/League/Schedule/2902
DESCRIPTION:Regular Season match: Just Us vs Hitmen
LOCATION:Chichibu Court 1
END:VEVENT
BEGIN:VEVENT
DTSTAMP:20260428T000000Z
UID:1f69002a-7743-431e-9a9b-f8280b8300c8@ClaytonBocce
DTSTART;TZID=America/Los_Angeles:20260730T183000
DTEND;TZID=America/Los_Angeles:20260730T210000
STATUS:CONFIRMED
SUMMARY:Just Us vs Johnny B's
URL:/League/Schedule/2902
DESCRIPTION:Regular Season match: Just Us vs Johnny B's
LOCATION:Chichibu Court 2
END:VEVENT
BEGIN:VEVENT
DTSTAMP:20260428T000000Z
UID:92cde11e-e9a8-4c24-89b6-9128b643caa8@ClaytonBocce
DTSTART;TZID=America/Los_Angeles:20260806T183000
DTEND;TZID=America/Los_Angeles:20260806T210000
STATUS:CONFIRMED
SUMMARY:Just Us vs Lanter's Laggers
URL:/League/Schedule/2902
DESCRIPTION:Regular Season match: Just Us vs Lanter's Lagger
 s
LOCATION:Chichibu Court 3
END:VEVENT
BEGIN:VEVENT
DTSTAMP:20260428T000000Z
UID:72b1ab04-4ac6-4e0e-86b4-e43acb10e327@ClaytonBocce
DTSTART;TZID=America/Los_Angeles:20260820T183000
DTEND;TZID=America/Los_Angeles:20260820T210000
STATUS:CONFIRMED
SUMMARY:Just Us vs Peace Love & Bocce
URL:/League/Schedule/2902
DESCRIPTION:Regular Season match: Just Us vs Peace Love & Bo
 cce
LOCATION:Chichibu Court 1
END:VEVENT
BEGIN:VEVENT
DTSTAMP:20260428T000000Z
UID:ad80c502-a92d-46e9-8be2-094a9fd46e52@ClaytonBocce
DTSTART;TZID=America/Los_Angeles:20260827T183000
DTEND;TZID=America/Los_Angeles:20260827T210000
STATUS:CONFIRMED
SUMMARY:Just Us vs Fugettabocce
URL:/League/Schedule/2902
DESCRIPTION:Regular Season match: Just Us vs Fugettabocce
LOCATION:Chichibu Court 5
END:VEVENT
END:VCALENDAR
