BEGIN:VCALENDAR
VERSION:2.0
PRODID:-//Clayton Bocce League
METHOD:PUBLISH
BEGIN:VTIMEZONE
TZID:America/Los_Angeles
X-LIC-LOCATION:America/Los_Angeles
BEGIN:DAYLIGHT
TZOFFSETFROM:-0800
TZOFFSETTO:-0700
TZNAME:PDT
DTSTART:20070311T020000
RRULE:FREQ=YEARLY;BYMONTH=3;BYDAY=2SU
END:DAYLIGHT
BEGIN:STANDARD
TZOFFSETFROM:-0700
TZOFFSETTO:-0800
TZNAME:PST
DTSTART:20071104T020000
RRULE:FREQ=YEARLY;BYMONTH=11;BYDAY=1SU
END:STANDARD
END:VTIMEZONE
BEGIN:VEVENT
DTSTAMP:20260428T000000Z
UID:34002735-afb0-4140-bb8f-a4bd1bb1e79b@ClaytonBocce
DTSTART;TZID=America/Los_Angeles:20260430T183000
DTEND;TZID=America/Los_Angeles:20260430T210000
STATUS:CONFIRMED
SUMMARY:Johnny B'ettes vs Fugettabocce
URL:/League/Schedule/2905
DESCRIPTION:Regular Season match: Johnny B'ettes vs Fugettab
 occe
LOCATION:Chichibu Court 3
END:VEVENT
BEGIN:VEVENT
DTSTAMP:20260428T000000Z
UID:7aacccf6-d924-4c31-b631-c7d8cb4495ab@ClaytonBocce
DTSTART;TZID=America/Los_Angeles:20260507T183000
DTEND;TZID=America/Los_Angeles:20260507T210000
STATUS:CONFIRMED
SUMMARY:Johnny B'ettes vs Sniff the Jack
URL:/League/Schedule/2905
DESCRIPTION:Regular Season match: Johnny B'ettes vs Sniff th
 e Jack
LOCATION:Chichibu Court 5
END:VEVENT
BEGIN:VEVENT
DTSTAMP:20260428T000000Z
UID:d8ab9dd0-ab6e-4ab0-8567-8350ef994b1d@ClaytonBocce
DTSTART;TZID=America/Los_Angeles:20260514T183000
DTEND;TZID=America/Los_Angeles:20260514T210000
STATUS:CONFIRMED
SUMMARY:Johnny B'ettes vs Just Us
URL:/League/Schedule/2905
DESCRIPTION:Regular Season match: Johnny B'ettes vs Just Us
LOCATION:Chichibu Court 2
END:VEVENT
BEGIN:VEVENT
DTSTAMP:20260428T000000Z
UID:83f1c5ab-d20a-4f2a-b30e-e60af0682767@ClaytonBocce
DTSTART;TZID=America/Los_Angeles:20260528T183000
DTEND;TZID=America/Los_Angeles:20260528T210000
STATUS:CONFIRMED
SUMMARY:Johnny B'ettes vs Johnny B's
URL:/League/Schedule/2905
DESCRIPTION:Regular Season match: Johnny B'ettes vs Johnny B
 's
LOCATION:Chichibu Court 6
END:VEVENT
BEGIN:VEVENT
DTSTAMP:20260428T000000Z
UID:58f443e9-8161-4478-8405-763a2bcdf95c@ClaytonBocce
DTSTART;TZID=America/Los_Angeles:20260604T183000
DTEND;TZID=America/Los_Angeles:20260604T210000
STATUS:CONFIRMED
SUMMARY:Johnny B'ettes vs The Central Addition
URL:/League/Schedule/2905
DESCRIPTION:Regular Season match: Johnny B'ettes vs The Cent
 ral Addition
LOCATION:Chichibu Court 1
END:VEVENT
BEGIN:VEVENT
DTSTAMP:20260428T000000Z
UID:193d83af-5136-4b74-956b-fa471a515d4d@ClaytonBocce
DTSTART;TZID=America/Los_Angeles:20260611T183000
DTEND;TZID=America/Los_Angeles:20260611T210000
STATUS:CONFIRMED
SUMMARY:Johnny B'ettes vs Bocce Beocces
URL:/League/Schedule/2905
DESCRIPTION:Regular Season match: Johnny B'ettes vs Bocce Be
 occes
LOCATION:Chichibu Court 2
END:VEVENT
BEGIN:VEVENT
DTSTAMP:20260428T000000Z
UID:7536de49-d923-45ac-a60d-f4866ceeb0d9@ClaytonBocce
DTSTART;TZID=America/Los_Angeles:20260625T183000
DTEND;TZID=America/Los_Angeles:20260625T210000
STATUS:CONFIRMED
SUMMARY:Johnny B'ettes vs Peace Love & Bocce
URL:/League/Schedule/2905
DESCRIPTION:Regular Season match: Johnny B'ettes vs Peace Lo
 ve & Bocce
LOCATION:Chichibu Court 5
END:VEVENT
BEGIN:VEVENT
DTSTAMP:20260428T000000Z
UID:5285b6d4-16cb-45e0-b1b6-ac72ca707e94@ClaytonBocce
DTSTART;TZID=America/Los_Angeles:20260702T183000
DTEND;TZID=America/Los_Angeles:20260702T210000
STATUS:CONFIRMED
SUMMARY:Johnny B'ettes vs The Ducks
URL:/League/Schedule/2905
DESCRIPTION:Regular Season match: Johnny B'ettes vs The Duck
 s
LOCATION:Chichibu Court 2
END:VEVENT
BEGIN:VEVENT
DTSTAMP:20260428T000000Z
UID:09ccc9b3-3441-4b86-8ae3-799e7bbefceb@ClaytonBocce
DTSTART;TZID=America/Los_Angeles:20260709T183000
DTEND;TZID=America/Los_Angeles:20260709T210000
STATUS:CONFIRMED
SUMMARY:Johnny B'ettes vs Hitmen
URL:/League/Schedule/2905
DESCRIPTION:Regular Season match: Johnny B'ettes vs Hitmen
LOCATION:Chichibu Court 4
END:VEVENT
BEGIN:VEVENT
DTSTAMP:20260428T000000Z
UID:1bc9d7c9-8eee-472d-b1d2-8cafe050c27c@ClaytonBocce
DTSTART;TZID=America/Los_Angeles:20260723T183000
DTEND;TZID=America/Los_Angeles:20260723T210000
STATUS:CONFIRMED
SUMMARY:Johnny B'ettes vs La Vita E Bella
URL:/League/Schedule/2905
DESCRIPTION:Regular Season match: Johnny B'ettes vs La Vita 
 E Bella
LOCATION:Chichibu Court 6
END:VEVENT
BEGIN:VEVENT
DTSTAMP:20260428T000000Z
UID:1b1a85ea-99f0-46d7-bdb9-ac51dbb3f9c5@ClaytonBocce
DTSTART;TZID=America/Los_Angeles:20260730T183000
DTEND;TZID=America/Los_Angeles:20260730T210000
STATUS:CONFIRMED
SUMMARY:Johnny B'ettes vs Lanter's Laggers
URL:/League/Schedule/2905
DESCRIPTION:Regular Season match: Johnny B'ettes vs Lanter's
  Laggers
LOCATION:Chichibu Court 4
END:VEVENT
BEGIN:VEVENT
DTSTAMP:20260428T000000Z
UID:10d6df45-24ac-4598-92cf-431a651c4e7f@ClaytonBocce
DTSTART;TZID=America/Los_Angeles:20260806T183000
DTEND;TZID=America/Los_Angeles:20260806T210000
STATUS:CONFIRMED
SUMMARY:Johnny B'ettes vs Fugettabocce
URL:/League/Schedule/2905
DESCRIPTION:Regular Season match: Johnny B'ettes vs Fugettab
 occe
LOCATION:Chichibu Court 6
END:VEVENT
BEGIN:VEVENT
DTSTAMP:20260428T000000Z
UID:e5cd7ea9-b7ec-41a9-a5bf-5836e1d87305@ClaytonBocce
DTSTART;TZID=America/Los_Angeles:20260820T183000
DTEND;TZID=America/Los_Angeles:20260820T210000
STATUS:CONFIRMED
SUMMARY:Johnny B'ettes vs Johnny B's
URL:/League/Schedule/2905
DESCRIPTION:Regular Season match: Johnny B'ettes vs Johnny B
 's
LOCATION:Chichibu Court 6
END:VEVENT
BEGIN:VEVENT
DTSTAMP:20260428T000000Z
UID:0dc736fa-2bd1-4ee5-83dd-004ec0465810@ClaytonBocce
DTSTART;TZID=America/Los_Angeles:20260827T183000
DTEND;TZID=America/Los_Angeles:20260827T210000
STATUS:CONFIRMED
SUMMARY:Johnny B'ettes vs The Ducks
URL:/League/Schedule/2905
DESCRIPTION:Regular Season match: Johnny B'ettes vs The Duck
 s
LOCATION:Chichibu Court 3
END:VEVENT
END:VCALENDAR
