BEGIN:VCALENDAR
VERSION:2.0
PRODID:-//Clayton Bocce League
METHOD:PUBLISH
BEGIN:VTIMEZONE
TZID:America/Los_Angeles
X-LIC-LOCATION:America/Los_Angeles
BEGIN:DAYLIGHT
TZOFFSETFROM:-0800
TZOFFSETTO:-0700
TZNAME:PDT
DTSTART:20070311T020000
RRULE:FREQ=YEARLY;BYMONTH=3;BYDAY=2SU
END:DAYLIGHT
BEGIN:STANDARD
TZOFFSETFROM:-0700
TZOFFSETTO:-0800
TZNAME:PST
DTSTART:20071104T020000
RRULE:FREQ=YEARLY;BYMONTH=11;BYDAY=1SU
END:STANDARD
END:VTIMEZONE
BEGIN:VEVENT
DTSTAMP:20260428T000000Z
UID:34002735-afb0-4140-bb8f-a4bd1bb1e79b@ClaytonBocce
DTSTART;TZID=America/Los_Angeles:20260430T183000
DTEND;TZID=America/Los_Angeles:20260430T210000
STATUS:CONFIRMED
SUMMARY:Fugettabocce vs Johnny B'ettes
URL:/League/Schedule/2904
DESCRIPTION:Regular Season match: Fugettabocce vs Johnny B'e
 ttes
LOCATION:Chichibu Court 3
END:VEVENT
BEGIN:VEVENT
DTSTAMP:20260428T000000Z
UID:46c75806-9d7b-40cc-9a27-3e84d0fbdf28@ClaytonBocce
DTSTART;TZID=America/Los_Angeles:20260507T183000
DTEND;TZID=America/Los_Angeles:20260507T210000
STATUS:CONFIRMED
SUMMARY:Fugettabocce vs Peace Love & Bocce
URL:/League/Schedule/2904
DESCRIPTION:Regular Season match: Fugettabocce vs Peace Love
  & Bocce
LOCATION:Chichibu Court 6
END:VEVENT
BEGIN:VEVENT
DTSTAMP:20260428T000000Z
UID:248e99ac-e881-4d4e-93e9-df24235ecb25@ClaytonBocce
DTSTART;TZID=America/Los_Angeles:20260514T183000
DTEND;TZID=America/Los_Angeles:20260514T210000
STATUS:CONFIRMED
SUMMARY:Fugettabocce vs Sniff the Jack
URL:/League/Schedule/2904
DESCRIPTION:Regular Season match: Fugettabocce vs Sniff the 
 Jack
LOCATION:Chichibu Court 1
END:VEVENT
BEGIN:VEVENT
DTSTAMP:20260428T000000Z
UID:ab597add-ab0a-4681-aff6-a1d94a421c67@ClaytonBocce
DTSTART;TZID=America/Los_Angeles:20260528T183000
DTEND;TZID=America/Los_Angeles:20260528T210000
STATUS:CONFIRMED
SUMMARY:Fugettabocce vs Hitmen
URL:/League/Schedule/2904
DESCRIPTION:Regular Season match: Fugettabocce vs Hitmen
LOCATION:Chichibu Court 5
END:VEVENT
BEGIN:VEVENT
DTSTAMP:20260428T000000Z
UID:702864ff-0bf2-4b9c-8bc6-9cee612075bb@ClaytonBocce
DTSTART;TZID=America/Los_Angeles:20260604T183000
DTEND;TZID=America/Los_Angeles:20260604T210000
STATUS:CONFIRMED
SUMMARY:Fugettabocce vs Johnny B's
URL:/League/Schedule/2904
DESCRIPTION:Regular Season match: Fugettabocce vs Johnny B's
LOCATION:Chichibu Court 2
END:VEVENT
BEGIN:VEVENT
DTSTAMP:20260428T000000Z
UID:7f10d10d-7d68-4150-ac0d-bcf0a6473f5c@ClaytonBocce
DTSTART;TZID=America/Los_Angeles:20260611T183000
DTEND;TZID=America/Los_Angeles:20260611T210000
STATUS:CONFIRMED
SUMMARY:Fugettabocce vs Lanter's Laggers
URL:/League/Schedule/2904
DESCRIPTION:Regular Season match: Fugettabocce vs Lanter's L
 aggers
LOCATION:Chichibu Court 4
END:VEVENT
BEGIN:VEVENT
DTSTAMP:20260428T000000Z
UID:ee871b5f-b5a3-4e03-ac9b-bfbee910ba0d@ClaytonBocce
DTSTART;TZID=America/Los_Angeles:20260625T183000
DTEND;TZID=America/Los_Angeles:20260625T210000
STATUS:CONFIRMED
SUMMARY:Fugettabocce vs Bocce Beocces
URL:/League/Schedule/2904
DESCRIPTION:Regular Season match: Fugettabocce vs Bocce Beoc
 ces
LOCATION:Chichibu Court 3
END:VEVENT
BEGIN:VEVENT
DTSTAMP:20260428T000000Z
UID:4781e797-f3d0-48cd-b56b-8b75efef7a00@ClaytonBocce
DTSTART;TZID=America/Los_Angeles:20260702T183000
DTEND;TZID=America/Los_Angeles:20260702T210000
STATUS:CONFIRMED
SUMMARY:Fugettabocce vs Just Us
URL:/League/Schedule/2904
DESCRIPTION:Regular Season match: Fugettabocce vs Just Us
LOCATION:Chichibu Court 1
END:VEVENT
BEGIN:VEVENT
DTSTAMP:20260428T000000Z
UID:f57affde-581a-4248-9d4f-7d7ed1f0fd44@ClaytonBocce
DTSTART;TZID=America/Los_Angeles:20260709T183000
DTEND;TZID=America/Los_Angeles:20260709T210000
STATUS:CONFIRMED
SUMMARY:Fugettabocce vs The Ducks
URL:/League/Schedule/2904
DESCRIPTION:Regular Season match: Fugettabocce vs The Ducks
LOCATION:Chichibu Court 3
END:VEVENT
BEGIN:VEVENT
DTSTAMP:20260428T000000Z
UID:cb9e809f-c114-4488-bd47-3076fece50ce@ClaytonBocce
DTSTART;TZID=America/Los_Angeles:20260723T183000
DTEND;TZID=America/Los_Angeles:20260723T210000
STATUS:CONFIRMED
SUMMARY:Fugettabocce vs The Central Addition
URL:/League/Schedule/2904
DESCRIPTION:Regular Season match: Fugettabocce vs The Centra
 l Addition
LOCATION:Chichibu Court 4
END:VEVENT
BEGIN:VEVENT
DTSTAMP:20260428T000000Z
UID:53ba2045-0bf1-452b-852a-463871edb965@ClaytonBocce
DTSTART;TZID=America/Los_Angeles:20260730T183000
DTEND;TZID=America/Los_Angeles:20260730T210000
STATUS:CONFIRMED
SUMMARY:Fugettabocce vs La Vita E Bella
URL:/League/Schedule/2904
DESCRIPTION:Regular Season match: Fugettabocce vs La Vita E 
 Bella
LOCATION:Chichibu Court 5
END:VEVENT
BEGIN:VEVENT
DTSTAMP:20260428T000000Z
UID:10d6df45-24ac-4598-92cf-431a651c4e7f@ClaytonBocce
DTSTART;TZID=America/Los_Angeles:20260806T183000
DTEND;TZID=America/Los_Angeles:20260806T210000
STATUS:CONFIRMED
SUMMARY:Fugettabocce vs Johnny B'ettes
URL:/League/Schedule/2904
DESCRIPTION:Regular Season match: Fugettabocce vs Johnny B'e
 ttes
LOCATION:Chichibu Court 6
END:VEVENT
BEGIN:VEVENT
DTSTAMP:20260428T000000Z
UID:a62d974d-4c1d-4dcd-baa7-b15e96556ac7@ClaytonBocce
DTSTART;TZID=America/Los_Angeles:20260820T183000
DTEND;TZID=America/Los_Angeles:20260820T210000
STATUS:CONFIRMED
SUMMARY:Fugettabocce vs Hitmen
URL:/League/Schedule/2904
DESCRIPTION:Regular Season match: Fugettabocce vs Hitmen
LOCATION:Chichibu Court 3
END:VEVENT
BEGIN:VEVENT
DTSTAMP:20260428T000000Z
UID:ad80c502-a92d-46e9-8be2-094a9fd46e52@ClaytonBocce
DTSTART;TZID=America/Los_Angeles:20260827T183000
DTEND;TZID=America/Los_Angeles:20260827T210000
STATUS:CONFIRMED
SUMMARY:Fugettabocce vs Just Us
URL:/League/Schedule/2904
DESCRIPTION:Regular Season match: Fugettabocce vs Just Us
LOCATION:Chichibu Court 5
END:VEVENT
END:VCALENDAR
