BEGIN:VCALENDAR
VERSION:2.0
PRODID:-//Clayton Bocce League
METHOD:PUBLISH
BEGIN:VTIMEZONE
TZID:America/Los_Angeles
X-LIC-LOCATION:America/Los_Angeles
BEGIN:DAYLIGHT
TZOFFSETFROM:-0800
TZOFFSETTO:-0700
TZNAME:PDT
DTSTART:20070311T020000
RRULE:FREQ=YEARLY;BYMONTH=3;BYDAY=2SU
END:DAYLIGHT
BEGIN:STANDARD
TZOFFSETFROM:-0700
TZOFFSETTO:-0800
TZNAME:PST
DTSTART:20071104T020000
RRULE:FREQ=YEARLY;BYMONTH=11;BYDAY=1SU
END:STANDARD
END:VTIMEZONE
BEGIN:VEVENT
DTSTAMP:20260428T000000Z
UID:dec75692-66c1-4433-a63b-2a0b2a34855f@ClaytonBocce
DTSTART;TZID=America/Los_Angeles:20260430T183000
DTEND;TZID=America/Los_Angeles:20260430T210000
STATUS:CONFIRMED
SUMMARY:The Ducks vs La Vita E Bella
URL:/League/Schedule/2901
DESCRIPTION:Regular Season match: The Ducks vs La Vita E Bel
 la
LOCATION:Chichibu Court 5
END:VEVENT
BEGIN:VEVENT
DTSTAMP:20260428T000000Z
UID:020bae15-899e-42d4-8d8d-f6e1b24789c5@ClaytonBocce
DTSTART;TZID=America/Los_Angeles:20260507T183000
DTEND;TZID=America/Los_Angeles:20260507T210000
STATUS:CONFIRMED
SUMMARY:The Ducks vs Lanter's Laggers
URL:/League/Schedule/2901
DESCRIPTION:Regular Season match: The Ducks vs Lanter's Lagg
 ers
LOCATION:Chichibu Court 3
END:VEVENT
BEGIN:VEVENT
DTSTAMP:20260428T000000Z
UID:43dfba81-126d-4b08-8eca-4bd172ad202a@ClaytonBocce
DTSTART;TZID=America/Los_Angeles:20260514T183000
DTEND;TZID=America/Los_Angeles:20260514T210000
STATUS:CONFIRMED
SUMMARY:The Ducks vs Bocce Beocces
URL:/League/Schedule/2901
DESCRIPTION:Regular Season match: The Ducks vs Bocce Beocces
LOCATION:Chichibu Court 6
END:VEVENT
BEGIN:VEVENT
DTSTAMP:20260428T000000Z
UID:aa13034a-151b-43c5-8543-3116ce069d1f@ClaytonBocce
DTSTART;TZID=America/Los_Angeles:20260528T183000
DTEND;TZID=America/Los_Angeles:20260528T210000
STATUS:CONFIRMED
SUMMARY:The Ducks vs Sniff the Jack
URL:/League/Schedule/2901
DESCRIPTION:Regular Season match: The Ducks vs Sniff the Jac
 k
LOCATION:Chichibu Court 4
END:VEVENT
BEGIN:VEVENT
DTSTAMP:20260428T000000Z
UID:7212d5e6-6246-4564-bfd6-f077ebab70d2@ClaytonBocce
DTSTART;TZID=America/Los_Angeles:20260604T183000
DTEND;TZID=America/Los_Angeles:20260604T210000
STATUS:CONFIRMED
SUMMARY:The Ducks vs Just Us
URL:/League/Schedule/2901
DESCRIPTION:Regular Season match: The Ducks vs Just Us
LOCATION:Chichibu Court 5
END:VEVENT
BEGIN:VEVENT
DTSTAMP:20260428T000000Z
UID:e403a5ac-2548-476b-981c-881223032f03@ClaytonBocce
DTSTART;TZID=America/Los_Angeles:20260611T183000
DTEND;TZID=America/Los_Angeles:20260611T210000
STATUS:CONFIRMED
SUMMARY:The Ducks vs Johnny B's
URL:/League/Schedule/2901
DESCRIPTION:Regular Season match: The Ducks vs Johnny B's
LOCATION:Chichibu Court 3
END:VEVENT
BEGIN:VEVENT
DTSTAMP:20260428T000000Z
UID:8af91955-34e6-41f4-a202-b9d70667ae9b@ClaytonBocce
DTSTART;TZID=America/Los_Angeles:20260625T183000
DTEND;TZID=America/Los_Angeles:20260625T210000
STATUS:CONFIRMED
SUMMARY:The Ducks vs The Central Addition
URL:/League/Schedule/2901
DESCRIPTION:Regular Season match: The Ducks vs The Central A
 ddition
LOCATION:Chichibu Court 1
END:VEVENT
BEGIN:VEVENT
DTSTAMP:20260428T000000Z
UID:5285b6d4-16cb-45e0-b1b6-ac72ca707e94@ClaytonBocce
DTSTART;TZID=America/Los_Angeles:20260702T183000
DTEND;TZID=America/Los_Angeles:20260702T210000
STATUS:CONFIRMED
SUMMARY:The Ducks vs Johnny B'ettes
URL:/League/Schedule/2901
DESCRIPTION:Regular Season match: The Ducks vs Johnny B'ette
 s
LOCATION:Chichibu Court 2
END:VEVENT
BEGIN:VEVENT
DTSTAMP:20260428T000000Z
UID:f57affde-581a-4248-9d4f-7d7ed1f0fd44@ClaytonBocce
DTSTART;TZID=America/Los_Angeles:20260709T183000
DTEND;TZID=America/Los_Angeles:20260709T210000
STATUS:CONFIRMED
SUMMARY:The Ducks vs Fugettabocce
URL:/League/Schedule/2901
DESCRIPTION:Regular Season match: The Ducks vs Fugettabocce
LOCATION:Chichibu Court 3
END:VEVENT
BEGIN:VEVENT
DTSTAMP:20260428T000000Z
UID:c8a9ccf8-b673-4f95-b92e-2a8382827ccd@ClaytonBocce
DTSTART;TZID=America/Los_Angeles:20260723T183000
DTEND;TZID=America/Los_Angeles:20260723T210000
STATUS:CONFIRMED
SUMMARY:The Ducks vs Peace Love & Bocce
URL:/League/Schedule/2901
DESCRIPTION:Regular Season match: The Ducks vs Peace Love & 
 Bocce
LOCATION:Chichibu Court 5
END:VEVENT
BEGIN:VEVENT
DTSTAMP:20260428T000000Z
UID:647d9ae5-7175-46e0-a190-f497929be920@ClaytonBocce
DTSTART;TZID=America/Los_Angeles:20260730T183000
DTEND;TZID=America/Los_Angeles:20260730T210000
STATUS:CONFIRMED
SUMMARY:The Ducks vs Hitmen
URL:/League/Schedule/2901
DESCRIPTION:Regular Season match: The Ducks vs Hitmen
LOCATION:Chichibu Court 6
END:VEVENT
BEGIN:VEVENT
DTSTAMP:20260428T000000Z
UID:ff9e6217-b535-4bf2-a94f-03c399460d12@ClaytonBocce
DTSTART;TZID=America/Los_Angeles:20260806T183000
DTEND;TZID=America/Los_Angeles:20260806T210000
STATUS:CONFIRMED
SUMMARY:The Ducks vs La Vita E Bella
URL:/League/Schedule/2901
DESCRIPTION:Regular Season match: The Ducks vs La Vita E Bel
 la
LOCATION:Chichibu Court 1
END:VEVENT
BEGIN:VEVENT
DTSTAMP:20260428T000000Z
UID:12f92d7e-bf8d-4681-9e92-87dd6be9c9ab@ClaytonBocce
DTSTART;TZID=America/Los_Angeles:20260820T183000
DTEND;TZID=America/Los_Angeles:20260820T210000
STATUS:CONFIRMED
SUMMARY:The Ducks vs Sniff the Jack
URL:/League/Schedule/2901
DESCRIPTION:Regular Season match: The Ducks vs Sniff the Jac
 k
LOCATION:Chichibu Court 4
END:VEVENT
BEGIN:VEVENT
DTSTAMP:20260428T000000Z
UID:0dc736fa-2bd1-4ee5-83dd-004ec0465810@ClaytonBocce
DTSTART;TZID=America/Los_Angeles:20260827T183000
DTEND;TZID=America/Los_Angeles:20260827T210000
STATUS:CONFIRMED
SUMMARY:The Ducks vs Johnny B'ettes
URL:/League/Schedule/2901
DESCRIPTION:Regular Season match: The Ducks vs Johnny B'ette
 s
LOCATION:Chichibu Court 3
END:VEVENT
END:VCALENDAR
