BEGIN:VCALENDAR
VERSION:2.0
PRODID:-//Clayton Bocce League
METHOD:PUBLISH
BEGIN:VTIMEZONE
TZID:America/Los_Angeles
X-LIC-LOCATION:America/Los_Angeles
BEGIN:DAYLIGHT
TZOFFSETFROM:-0800
TZOFFSETTO:-0700
TZNAME:PDT
DTSTART:20070311T020000
RRULE:FREQ=YEARLY;BYMONTH=3;BYDAY=2SU
END:DAYLIGHT
BEGIN:STANDARD
TZOFFSETFROM:-0700
TZOFFSETTO:-0800
TZNAME:PST
DTSTART:20071104T020000
RRULE:FREQ=YEARLY;BYMONTH=11;BYDAY=1SU
END:STANDARD
END:VTIMEZONE
BEGIN:VEVENT
DTSTAMP:20260428T000000Z
UID:dec75692-66c1-4433-a63b-2a0b2a34855f@ClaytonBocce
DTSTART;TZID=America/Los_Angeles:20260430T183000
DTEND;TZID=America/Los_Angeles:20260430T210000
STATUS:CONFIRMED
SUMMARY:La Vita E Bella vs The Ducks
URL:/League/Schedule/2908
DESCRIPTION:Regular Season match: La Vita E Bella vs The Duc
 ks
LOCATION:Chichibu Court 5
END:VEVENT
BEGIN:VEVENT
DTSTAMP:20260428T000000Z
UID:c0b0d1cf-2e72-4819-a60e-190dc3059fdb@ClaytonBocce
DTSTART;TZID=America/Los_Angeles:20260507T183000
DTEND;TZID=America/Los_Angeles:20260507T210000
STATUS:CONFIRMED
SUMMARY:La Vita E Bella vs Hitmen
URL:/League/Schedule/2908
DESCRIPTION:Regular Season match: La Vita E Bella vs Hitmen
LOCATION:Chichibu Court 2
END:VEVENT
BEGIN:VEVENT
DTSTAMP:20260428T000000Z
UID:7be5c827-d279-4273-87b5-047de33c9950@ClaytonBocce
DTSTART;TZID=America/Los_Angeles:20260514T183000
DTEND;TZID=America/Los_Angeles:20260514T210000
STATUS:CONFIRMED
SUMMARY:La Vita E Bella vs Johnny B's
URL:/League/Schedule/2908
DESCRIPTION:Regular Season match: La Vita E Bella vs Johnny 
 B's
LOCATION:Chichibu Court 3
END:VEVENT
BEGIN:VEVENT
DTSTAMP:20260428T000000Z
UID:6346ad4b-43ed-40d4-a6ed-3477ac8f57de@ClaytonBocce
DTSTART;TZID=America/Los_Angeles:20260528T183000
DTEND;TZID=America/Los_Angeles:20260528T210000
STATUS:CONFIRMED
SUMMARY:La Vita E Bella vs Lanter's Laggers
URL:/League/Schedule/2908
DESCRIPTION:Regular Season match: La Vita E Bella vs Lanter'
 s Laggers
LOCATION:Chichibu Court 1
END:VEVENT
BEGIN:VEVENT
DTSTAMP:20260428T000000Z
UID:2367c771-e827-4e38-b367-96e78700453e@ClaytonBocce
DTSTART;TZID=America/Los_Angeles:20260604T183000
DTEND;TZID=America/Los_Angeles:20260604T210000
STATUS:CONFIRMED
SUMMARY:La Vita E Bella vs Bocce Beocces
URL:/League/Schedule/2908
DESCRIPTION:Regular Season match: La Vita E Bella vs Bocce B
 eocces
LOCATION:Chichibu Court 4
END:VEVENT
BEGIN:VEVENT
DTSTAMP:20260428T000000Z
UID:8cce22ad-0184-452c-8909-c37f9729a5a1@ClaytonBocce
DTSTART;TZID=America/Los_Angeles:20260611T183000
DTEND;TZID=America/Los_Angeles:20260611T210000
STATUS:CONFIRMED
SUMMARY:La Vita E Bella vs Sniff the Jack
URL:/League/Schedule/2908
DESCRIPTION:Regular Season match: La Vita E Bella vs Sniff t
 he Jack
LOCATION:Chichibu Court 5
END:VEVENT
BEGIN:VEVENT
DTSTAMP:20260428T000000Z
UID:e95bb449-7d35-43a3-9cbd-1754cb7cd5ba@ClaytonBocce
DTSTART;TZID=America/Los_Angeles:20260625T183000
DTEND;TZID=America/Los_Angeles:20260625T210000
STATUS:CONFIRMED
SUMMARY:La Vita E Bella vs Just Us
URL:/League/Schedule/2908
DESCRIPTION:Regular Season match: La Vita E Bella vs Just Us
LOCATION:Chichibu Court 4
END:VEVENT
BEGIN:VEVENT
DTSTAMP:20260428T000000Z
UID:39935003-364e-4ce0-a82e-68aced9555a3@ClaytonBocce
DTSTART;TZID=America/Los_Angeles:20260702T183000
DTEND;TZID=America/Los_Angeles:20260702T210000
STATUS:CONFIRMED
SUMMARY:La Vita E Bella vs The Central Addition
URL:/League/Schedule/2908
DESCRIPTION:Regular Season match: La Vita E Bella vs The Cen
 tral Addition
LOCATION:Chichibu Court 3
END:VEVENT
BEGIN:VEVENT
DTSTAMP:20260428T000000Z
UID:79493e50-aaa7-4ca3-a70d-c8f5741ea51d@ClaytonBocce
DTSTART;TZID=America/Los_Angeles:20260709T183000
DTEND;TZID=America/Los_Angeles:20260709T210000
STATUS:CONFIRMED
SUMMARY:La Vita E Bella vs Peace Love & Bocce
URL:/League/Schedule/2908
DESCRIPTION:Regular Season match: La Vita E Bella vs Peace L
 ove & Bocce
LOCATION:Chichibu Court 2
END:VEVENT
BEGIN:VEVENT
DTSTAMP:20260428T000000Z
UID:1bc9d7c9-8eee-472d-b1d2-8cafe050c27c@ClaytonBocce
DTSTART;TZID=America/Los_Angeles:20260723T183000
DTEND;TZID=America/Los_Angeles:20260723T210000
STATUS:CONFIRMED
SUMMARY:La Vita E Bella vs Johnny B'ettes
URL:/League/Schedule/2908
DESCRIPTION:Regular Season match: La Vita E Bella vs Johnny 
 B'ettes
LOCATION:Chichibu Court 6
END:VEVENT
BEGIN:VEVENT
DTSTAMP:20260428T000000Z
UID:53ba2045-0bf1-452b-852a-463871edb965@ClaytonBocce
DTSTART;TZID=America/Los_Angeles:20260730T183000
DTEND;TZID=America/Los_Angeles:20260730T210000
STATUS:CONFIRMED
SUMMARY:La Vita E Bella vs Fugettabocce
URL:/League/Schedule/2908
DESCRIPTION:Regular Season match: La Vita E Bella vs Fugetta
 bocce
LOCATION:Chichibu Court 5
END:VEVENT
BEGIN:VEVENT
DTSTAMP:20260428T000000Z
UID:ff9e6217-b535-4bf2-a94f-03c399460d12@ClaytonBocce
DTSTART;TZID=America/Los_Angeles:20260806T183000
DTEND;TZID=America/Los_Angeles:20260806T210000
STATUS:CONFIRMED
SUMMARY:La Vita E Bella vs The Ducks
URL:/League/Schedule/2908
DESCRIPTION:Regular Season match: La Vita E Bella vs The Duc
 ks
LOCATION:Chichibu Court 1
END:VEVENT
BEGIN:VEVENT
DTSTAMP:20260428T000000Z
UID:c1e73b4c-8b9b-48f0-84fe-f71d6147494f@ClaytonBocce
DTSTART;TZID=America/Los_Angeles:20260820T183000
DTEND;TZID=America/Los_Angeles:20260820T210000
STATUS:CONFIRMED
SUMMARY:La Vita E Bella vs Lanter's Laggers
URL:/League/Schedule/2908
DESCRIPTION:Regular Season match: La Vita E Bella vs Lanter'
 s Laggers
LOCATION:Chichibu Court 2
END:VEVENT
BEGIN:VEVENT
DTSTAMP:20260428T000000Z
UID:90bfda73-a718-4114-b8c3-e55ee814f6a9@ClaytonBocce
DTSTART;TZID=America/Los_Angeles:20260827T183000
DTEND;TZID=America/Los_Angeles:20260827T210000
STATUS:CONFIRMED
SUMMARY:La Vita E Bella vs The Central Addition
URL:/League/Schedule/2908
DESCRIPTION:Regular Season match: La Vita E Bella vs The Cen
 tral Addition
LOCATION:Chichibu Court 1
END:VEVENT
END:VCALENDAR
