BEGIN:VCALENDAR
VERSION:2.0
PRODID:-//Clayton Bocce League
METHOD:PUBLISH
BEGIN:VTIMEZONE
TZID:America/Los_Angeles
X-LIC-LOCATION:America/Los_Angeles
BEGIN:DAYLIGHT
TZOFFSETFROM:-0800
TZOFFSETTO:-0700
TZNAME:PDT
DTSTART:20070311T020000
RRULE:FREQ=YEARLY;BYMONTH=3;BYDAY=2SU
END:DAYLIGHT
BEGIN:STANDARD
TZOFFSETFROM:-0700
TZOFFSETTO:-0800
TZNAME:PST
DTSTART:20071104T020000
RRULE:FREQ=YEARLY;BYMONTH=11;BYDAY=1SU
END:STANDARD
END:VTIMEZONE
BEGIN:VEVENT
DTSTAMP:20260428T000000Z
UID:3151a140-99ef-4faf-818f-73fe277cc7c9@ClaytonBocce
DTSTART;TZID=America/Los_Angeles:20260430T183000
DTEND;TZID=America/Los_Angeles:20260430T210000
STATUS:CONFIRMED
SUMMARY:Sniff the Jack vs Bocce Beocces
URL:/League/Schedule/2903
DESCRIPTION:Regular Season match: Sniff the Jack vs Bocce Be
 occes
LOCATION:Chichibu Court 2
END:VEVENT
BEGIN:VEVENT
DTSTAMP:20260428T000000Z
UID:7aacccf6-d924-4c31-b631-c7d8cb4495ab@ClaytonBocce
DTSTART;TZID=America/Los_Angeles:20260507T183000
DTEND;TZID=America/Los_Angeles:20260507T210000
STATUS:CONFIRMED
SUMMARY:Sniff the Jack vs Johnny B'ettes
URL:/League/Schedule/2903
DESCRIPTION:Regular Season match: Sniff the Jack vs Johnny B
 'ettes
LOCATION:Chichibu Court 5
END:VEVENT
BEGIN:VEVENT
DTSTAMP:20260428T000000Z
UID:248e99ac-e881-4d4e-93e9-df24235ecb25@ClaytonBocce
DTSTART;TZID=America/Los_Angeles:20260514T183000
DTEND;TZID=America/Los_Angeles:20260514T210000
STATUS:CONFIRMED
SUMMARY:Sniff the Jack vs Fugettabocce
URL:/League/Schedule/2903
DESCRIPTION:Regular Season match: Sniff the Jack vs Fugettab
 occe
LOCATION:Chichibu Court 1
END:VEVENT
BEGIN:VEVENT
DTSTAMP:20260428T000000Z
UID:aa13034a-151b-43c5-8543-3116ce069d1f@ClaytonBocce
DTSTART;TZID=America/Los_Angeles:20260528T183000
DTEND;TZID=America/Los_Angeles:20260528T210000
STATUS:CONFIRMED
SUMMARY:Sniff the Jack vs The Ducks
URL:/League/Schedule/2903
DESCRIPTION:Regular Season match: Sniff the Jack vs The Duck
 s
LOCATION:Chichibu Court 4
END:VEVENT
BEGIN:VEVENT
DTSTAMP:20260428T000000Z
UID:1f85bb90-c2f6-4eb3-8227-3fcd4fede5d3@ClaytonBocce
DTSTART;TZID=America/Los_Angeles:20260604T183000
DTEND;TZID=America/Los_Angeles:20260604T210000
STATUS:CONFIRMED
SUMMARY:Sniff the Jack vs Hitmen
URL:/League/Schedule/2903
DESCRIPTION:Regular Season match: Sniff the Jack vs Hitmen
LOCATION:Chichibu Court 3
END:VEVENT
BEGIN:VEVENT
DTSTAMP:20260428T000000Z
UID:8cce22ad-0184-452c-8909-c37f9729a5a1@ClaytonBocce
DTSTART;TZID=America/Los_Angeles:20260611T183000
DTEND;TZID=America/Los_Angeles:20260611T210000
STATUS:CONFIRMED
SUMMARY:Sniff the Jack vs La Vita E Bella
URL:/League/Schedule/2903
DESCRIPTION:Regular Season match: Sniff the Jack vs La Vita 
 E Bella
LOCATION:Chichibu Court 5
END:VEVENT
BEGIN:VEVENT
DTSTAMP:20260428T000000Z
UID:fe9e172c-2ad0-4a6e-8b86-110262d15c2d@ClaytonBocce
DTSTART;TZID=America/Los_Angeles:20260625T183000
DTEND;TZID=America/Los_Angeles:20260625T210000
STATUS:CONFIRMED
SUMMARY:Sniff the Jack vs Lanter's Laggers
URL:/League/Schedule/2903
DESCRIPTION:Regular Season match: Sniff the Jack vs Lanter's
  Laggers
LOCATION:Chichibu Court 6
END:VEVENT
BEGIN:VEVENT
DTSTAMP:20260428T000000Z
UID:a4a8441b-9559-4a35-9599-75cab3e07ad9@ClaytonBocce
DTSTART;TZID=America/Los_Angeles:20260702T183000
DTEND;TZID=America/Los_Angeles:20260702T210000
STATUS:CONFIRMED
SUMMARY:Sniff the Jack vs Peace Love & Bocce
URL:/League/Schedule/2903
DESCRIPTION:Regular Season match: Sniff the Jack vs Peace Lo
 ve & Bocce
LOCATION:Chichibu Court 4
END:VEVENT
BEGIN:VEVENT
DTSTAMP:20260428T000000Z
UID:bdece428-1b15-4d28-a8b3-8bea12ddf54c@ClaytonBocce
DTSTART;TZID=America/Los_Angeles:20260709T183000
DTEND;TZID=America/Los_Angeles:20260709T210000
STATUS:CONFIRMED
SUMMARY:Sniff the Jack vs Just Us
URL:/League/Schedule/2903
DESCRIPTION:Regular Season match: Sniff the Jack vs Just Us
LOCATION:Chichibu Court 5
END:VEVENT
BEGIN:VEVENT
DTSTAMP:20260428T000000Z
UID:e2728336-07c1-40ac-9e5e-1bb76549a4f8@ClaytonBocce
DTSTART;TZID=America/Los_Angeles:20260723T183000
DTEND;TZID=America/Los_Angeles:20260723T210000
STATUS:CONFIRMED
SUMMARY:Sniff the Jack vs Johnny B's
URL:/League/Schedule/2903
DESCRIPTION:Regular Season match: Sniff the Jack vs Johnny B
 's
LOCATION:Chichibu Court 3
END:VEVENT
BEGIN:VEVENT
DTSTAMP:20260428T000000Z
UID:f8918592-c923-4a18-94df-213ee150b478@ClaytonBocce
DTSTART;TZID=America/Los_Angeles:20260730T183000
DTEND;TZID=America/Los_Angeles:20260730T210000
STATUS:CONFIRMED
SUMMARY:Sniff the Jack vs The Central Addition
URL:/League/Schedule/2903
DESCRIPTION:Regular Season match: Sniff the Jack vs The Cent
 ral Addition
LOCATION:Chichibu Court 1
END:VEVENT
BEGIN:VEVENT
DTSTAMP:20260428T000000Z
UID:95fce9fb-c031-4e19-a939-3cc225130667@ClaytonBocce
DTSTART;TZID=America/Los_Angeles:20260806T183000
DTEND;TZID=America/Los_Angeles:20260806T210000
STATUS:CONFIRMED
SUMMARY:Sniff the Jack vs Bocce Beocces
URL:/League/Schedule/2903
DESCRIPTION:Regular Season match: Sniff the Jack vs Bocce Be
 occes
LOCATION:Chichibu Court 4
END:VEVENT
BEGIN:VEVENT
DTSTAMP:20260428T000000Z
UID:12f92d7e-bf8d-4681-9e92-87dd6be9c9ab@ClaytonBocce
DTSTART;TZID=America/Los_Angeles:20260820T183000
DTEND;TZID=America/Los_Angeles:20260820T210000
STATUS:CONFIRMED
SUMMARY:Sniff the Jack vs The Ducks
URL:/League/Schedule/2903
DESCRIPTION:Regular Season match: Sniff the Jack vs The Duck
 s
LOCATION:Chichibu Court 4
END:VEVENT
BEGIN:VEVENT
DTSTAMP:20260428T000000Z
UID:58aa2eb4-d343-4886-b0f0-720a6333ec8d@ClaytonBocce
DTSTART;TZID=America/Los_Angeles:20260827T183000
DTEND;TZID=America/Los_Angeles:20260827T210000
STATUS:CONFIRMED
SUMMARY:Sniff the Jack vs Peace Love & Bocce
URL:/League/Schedule/2903
DESCRIPTION:Regular Season match: Sniff the Jack vs Peace Lo
 ve & Bocce
LOCATION:Chichibu Court 6
END:VEVENT
END:VCALENDAR
