BEGIN:VCALENDAR
VERSION:2.0
PRODID:-//Clayton Bocce League
METHOD:PUBLISH
BEGIN:VTIMEZONE
TZID:America/Los_Angeles
X-LIC-LOCATION:America/Los_Angeles
BEGIN:DAYLIGHT
TZOFFSETFROM:-0800
TZOFFSETTO:-0700
TZNAME:PDT
DTSTART:20070311T020000
RRULE:FREQ=YEARLY;BYMONTH=3;BYDAY=2SU
END:DAYLIGHT
BEGIN:STANDARD
TZOFFSETFROM:-0700
TZOFFSETTO:-0800
TZNAME:PST
DTSTART:20071104T020000
RRULE:FREQ=YEARLY;BYMONTH=11;BYDAY=1SU
END:STANDARD
END:VTIMEZONE
BEGIN:VEVENT
DTSTAMP:20260428T000000Z
UID:3151a140-99ef-4faf-818f-73fe277cc7c9@ClaytonBocce
DTSTART;TZID=America/Los_Angeles:20260430T183000
DTEND;TZID=America/Los_Angeles:20260430T210000
STATUS:CONFIRMED
SUMMARY:Bocce Beocces vs Sniff the Jack
URL:/League/Schedule/2906
DESCRIPTION:Regular Season match: Bocce Beocces vs Sniff the
  Jack
LOCATION:Chichibu Court 2
END:VEVENT
BEGIN:VEVENT
DTSTAMP:20260428T000000Z
UID:f37036e0-35e6-4acf-aa88-286e684b4963@ClaytonBocce
DTSTART;TZID=America/Los_Angeles:20260507T183000
DTEND;TZID=America/Los_Angeles:20260507T210000
STATUS:CONFIRMED
SUMMARY:Bocce Beocces vs Just Us
URL:/League/Schedule/2906
DESCRIPTION:Regular Season match: Bocce Beocces vs Just Us
LOCATION:Chichibu Court 4
END:VEVENT
BEGIN:VEVENT
DTSTAMP:20260428T000000Z
UID:43dfba81-126d-4b08-8eca-4bd172ad202a@ClaytonBocce
DTSTART;TZID=America/Los_Angeles:20260514T183000
DTEND;TZID=America/Los_Angeles:20260514T210000
STATUS:CONFIRMED
SUMMARY:Bocce Beocces vs The Ducks
URL:/League/Schedule/2906
DESCRIPTION:Regular Season match: Bocce Beocces vs The Ducks
LOCATION:Chichibu Court 6
END:VEVENT
BEGIN:VEVENT
DTSTAMP:20260428T000000Z
UID:331703ef-341e-4a89-88cb-87bb55d5655a@ClaytonBocce
DTSTART;TZID=America/Los_Angeles:20260528T183000
DTEND;TZID=America/Los_Angeles:20260528T210000
STATUS:CONFIRMED
SUMMARY:Bocce Beocces vs The Central Addition
URL:/League/Schedule/2906
DESCRIPTION:Regular Season match: Bocce Beocces vs The Centr
 al Addition
LOCATION:Chichibu Court 2
END:VEVENT
BEGIN:VEVENT
DTSTAMP:20260428T000000Z
UID:2367c771-e827-4e38-b367-96e78700453e@ClaytonBocce
DTSTART;TZID=America/Los_Angeles:20260604T183000
DTEND;TZID=America/Los_Angeles:20260604T210000
STATUS:CONFIRMED
SUMMARY:Bocce Beocces vs La Vita E Bella
URL:/League/Schedule/2906
DESCRIPTION:Regular Season match: Bocce Beocces vs La Vita E
  Bella
LOCATION:Chichibu Court 4
END:VEVENT
BEGIN:VEVENT
DTSTAMP:20260428T000000Z
UID:193d83af-5136-4b74-956b-fa471a515d4d@ClaytonBocce
DTSTART;TZID=America/Los_Angeles:20260611T183000
DTEND;TZID=America/Los_Angeles:20260611T210000
STATUS:CONFIRMED
SUMMARY:Bocce Beocces vs Johnny B'ettes
URL:/League/Schedule/2906
DESCRIPTION:Regular Season match: Bocce Beocces vs Johnny B'
 ettes
LOCATION:Chichibu Court 2
END:VEVENT
BEGIN:VEVENT
DTSTAMP:20260428T000000Z
UID:ee871b5f-b5a3-4e03-ac9b-bfbee910ba0d@ClaytonBocce
DTSTART;TZID=America/Los_Angeles:20260625T183000
DTEND;TZID=America/Los_Angeles:20260625T210000
STATUS:CONFIRMED
SUMMARY:Bocce Beocces vs Fugettabocce
URL:/League/Schedule/2906
DESCRIPTION:Regular Season match: Bocce Beocces vs Fugettabo
 cce
LOCATION:Chichibu Court 3
END:VEVENT
BEGIN:VEVENT
DTSTAMP:20260428T000000Z
UID:19d69f1b-d950-4285-9e15-2d3cd42e82ca@ClaytonBocce
DTSTART;TZID=America/Los_Angeles:20260702T183000
DTEND;TZID=America/Los_Angeles:20260702T210000
STATUS:CONFIRMED
SUMMARY:Bocce Beocces vs Hitmen
URL:/League/Schedule/2906
DESCRIPTION:Regular Season match: Bocce Beocces vs Hitmen
LOCATION:Chichibu Court 6
END:VEVENT
BEGIN:VEVENT
DTSTAMP:20260428T000000Z
UID:bc5884f0-8c76-4732-83a4-63325b6e10f0@ClaytonBocce
DTSTART;TZID=America/Los_Angeles:20260709T183000
DTEND;TZID=America/Los_Angeles:20260709T210000
STATUS:CONFIRMED
SUMMARY:Bocce Beocces vs Johnny B's
URL:/League/Schedule/2906
DESCRIPTION:Regular Season match: Bocce Beocces vs Johnny B'
 s
LOCATION:Chichibu Court 1
END:VEVENT
BEGIN:VEVENT
DTSTAMP:20260428T000000Z
UID:f3a34c36-62cf-43bf-bf90-d7a1f0e3a376@ClaytonBocce
DTSTART;TZID=America/Los_Angeles:20260723T183000
DTEND;TZID=America/Los_Angeles:20260723T210000
STATUS:CONFIRMED
SUMMARY:Bocce Beocces vs Lanter's Laggers
URL:/League/Schedule/2906
DESCRIPTION:Regular Season match: Bocce Beocces vs Lanter's 
 Laggers
LOCATION:Chichibu Court 2
END:VEVENT
BEGIN:VEVENT
DTSTAMP:20260428T000000Z
UID:128bf54b-27eb-4361-9061-0f9cde664bec@ClaytonBocce
DTSTART;TZID=America/Los_Angeles:20260730T183000
DTEND;TZID=America/Los_Angeles:20260730T210000
STATUS:CONFIRMED
SUMMARY:Bocce Beocces vs Peace Love & Bocce
URL:/League/Schedule/2906
DESCRIPTION:Regular Season match: Bocce Beocces vs Peace Lov
 e & Bocce
LOCATION:Chichibu Court 3
END:VEVENT
BEGIN:VEVENT
DTSTAMP:20260428T000000Z
UID:95fce9fb-c031-4e19-a939-3cc225130667@ClaytonBocce
DTSTART;TZID=America/Los_Angeles:20260806T183000
DTEND;TZID=America/Los_Angeles:20260806T210000
STATUS:CONFIRMED
SUMMARY:Bocce Beocces vs Sniff the Jack
URL:/League/Schedule/2906
DESCRIPTION:Regular Season match: Bocce Beocces vs Sniff the
  Jack
LOCATION:Chichibu Court 4
END:VEVENT
BEGIN:VEVENT
DTSTAMP:20260428T000000Z
UID:34e8b511-17bb-4801-890b-fed46b0edd06@ClaytonBocce
DTSTART;TZID=America/Los_Angeles:20260820T183000
DTEND;TZID=America/Los_Angeles:20260820T210000
STATUS:CONFIRMED
SUMMARY:Bocce Beocces vs The Central Addition
URL:/League/Schedule/2906
DESCRIPTION:Regular Season match: Bocce Beocces vs The Centr
 al Addition
LOCATION:Chichibu Court 5
END:VEVENT
BEGIN:VEVENT
DTSTAMP:20260428T000000Z
UID:14f80b54-391a-4ac6-84a7-87b61503c860@ClaytonBocce
DTSTART;TZID=America/Los_Angeles:20260827T183000
DTEND;TZID=America/Los_Angeles:20260827T210000
STATUS:CONFIRMED
SUMMARY:Bocce Beocces vs Hitmen
URL:/League/Schedule/2906
DESCRIPTION:Regular Season match: Bocce Beocces vs Hitmen
LOCATION:Chichibu Court 2
END:VEVENT
END:VCALENDAR
