BEGIN:VCALENDAR
VERSION:2.0
PRODID:-//Clayton Bocce League
METHOD:PUBLISH
BEGIN:VTIMEZONE
TZID:America/Los_Angeles
X-LIC-LOCATION:America/Los_Angeles
BEGIN:DAYLIGHT
TZOFFSETFROM:-0800
TZOFFSETTO:-0700
TZNAME:PDT
DTSTART:20070311T020000
RRULE:FREQ=YEARLY;BYMONTH=3;BYDAY=2SU
END:DAYLIGHT
BEGIN:STANDARD
TZOFFSETFROM:-0700
TZOFFSETTO:-0800
TZNAME:PST
DTSTART:20071104T020000
RRULE:FREQ=YEARLY;BYMONTH=11;BYDAY=1SU
END:STANDARD
END:VTIMEZONE
BEGIN:VEVENT
DTSTAMP:20260428T000000Z
UID:c168f9d6-c1f1-4f29-a4e9-c521885c303d@ClaytonBocce
DTSTART;TZID=America/Los_Angeles:20260430T183000
DTEND;TZID=America/Los_Angeles:20260430T210000
STATUS:CONFIRMED
SUMMARY:The Central Addition vs Hitmen
URL:/League/Schedule/2909
DESCRIPTION:Regular Season match: The Central Addition vs Hi
 tmen
LOCATION:Chichibu Court 6
END:VEVENT
BEGIN:VEVENT
DTSTAMP:20260428T000000Z
UID:ae2087af-ce7c-4aab-b47d-0a85311ddf5a@ClaytonBocce
DTSTART;TZID=America/Los_Angeles:20260507T183000
DTEND;TZID=America/Los_Angeles:20260507T210000
STATUS:CONFIRMED
SUMMARY:The Central Addition vs Johnny B's
URL:/League/Schedule/2909
DESCRIPTION:Regular Season match: The Central Addition vs Jo
 hnny B's
LOCATION:Chichibu Court 1
END:VEVENT
BEGIN:VEVENT
DTSTAMP:20260428T000000Z
UID:f656bbba-72ad-4f8b-ba0e-7660ec8f57c7@ClaytonBocce
DTSTART;TZID=America/Los_Angeles:20260514T183000
DTEND;TZID=America/Los_Angeles:20260514T210000
STATUS:CONFIRMED
SUMMARY:The Central Addition vs Peace Love & Bocce
URL:/League/Schedule/2909
DESCRIPTION:Regular Season match: The Central Addition vs Pe
 ace Love & Bocce
LOCATION:Chichibu Court 5
END:VEVENT
BEGIN:VEVENT
DTSTAMP:20260428T000000Z
UID:331703ef-341e-4a89-88cb-87bb55d5655a@ClaytonBocce
DTSTART;TZID=America/Los_Angeles:20260528T183000
DTEND;TZID=America/Los_Angeles:20260528T210000
STATUS:CONFIRMED
SUMMARY:The Central Addition vs Bocce Beocces
URL:/League/Schedule/2909
DESCRIPTION:Regular Season match: The Central Addition vs Bo
 cce Beocces
LOCATION:Chichibu Court 2
END:VEVENT
BEGIN:VEVENT
DTSTAMP:20260428T000000Z
UID:58f443e9-8161-4478-8405-763a2bcdf95c@ClaytonBocce
DTSTART;TZID=America/Los_Angeles:20260604T183000
DTEND;TZID=America/Los_Angeles:20260604T210000
STATUS:CONFIRMED
SUMMARY:The Central Addition vs Johnny B'ettes
URL:/League/Schedule/2909
DESCRIPTION:Regular Season match: The Central Addition vs Jo
 hnny B'ettes
LOCATION:Chichibu Court 1
END:VEVENT
BEGIN:VEVENT
DTSTAMP:20260428T000000Z
UID:c1e23dbe-e0c5-4528-bb30-3bce5e16987f@ClaytonBocce
DTSTART;TZID=America/Los_Angeles:20260611T183000
DTEND;TZID=America/Los_Angeles:20260611T210000
STATUS:CONFIRMED
SUMMARY:The Central Addition vs Just Us
URL:/League/Schedule/2909
DESCRIPTION:Regular Season match: The Central Addition vs Ju
 st Us
LOCATION:Chichibu Court 6
END:VEVENT
BEGIN:VEVENT
DTSTAMP:20260428T000000Z
UID:8af91955-34e6-41f4-a202-b9d70667ae9b@ClaytonBocce
DTSTART;TZID=America/Los_Angeles:20260625T183000
DTEND;TZID=America/Los_Angeles:20260625T210000
STATUS:CONFIRMED
SUMMARY:The Central Addition vs The Ducks
URL:/League/Schedule/2909
DESCRIPTION:Regular Season match: The Central Addition vs Th
 e Ducks
LOCATION:Chichibu Court 1
END:VEVENT
BEGIN:VEVENT
DTSTAMP:20260428T000000Z
UID:39935003-364e-4ce0-a82e-68aced9555a3@ClaytonBocce
DTSTART;TZID=America/Los_Angeles:20260702T183000
DTEND;TZID=America/Los_Angeles:20260702T210000
STATUS:CONFIRMED
SUMMARY:The Central Addition vs La Vita E Bella
URL:/League/Schedule/2909
DESCRIPTION:Regular Season match: The Central Addition vs La
  Vita E Bella
LOCATION:Chichibu Court 3
END:VEVENT
BEGIN:VEVENT
DTSTAMP:20260428T000000Z
UID:f5f92289-3580-4fce-a1c2-aa52a13d73b0@ClaytonBocce
DTSTART;TZID=America/Los_Angeles:20260709T183000
DTEND;TZID=America/Los_Angeles:20260709T210000
STATUS:CONFIRMED
SUMMARY:The Central Addition vs Lanter's Laggers
URL:/League/Schedule/2909
DESCRIPTION:Regular Season match: The Central Addition vs La
 nter's Laggers
LOCATION:Chichibu Court 6
END:VEVENT
BEGIN:VEVENT
DTSTAMP:20260428T000000Z
UID:cb9e809f-c114-4488-bd47-3076fece50ce@ClaytonBocce
DTSTART;TZID=America/Los_Angeles:20260723T183000
DTEND;TZID=America/Los_Angeles:20260723T210000
STATUS:CONFIRMED
SUMMARY:The Central Addition vs Fugettabocce
URL:/League/Schedule/2909
DESCRIPTION:Regular Season match: The Central Addition vs Fu
 gettabocce
LOCATION:Chichibu Court 4
END:VEVENT
BEGIN:VEVENT
DTSTAMP:20260428T000000Z
UID:f8918592-c923-4a18-94df-213ee150b478@ClaytonBocce
DTSTART;TZID=America/Los_Angeles:20260730T183000
DTEND;TZID=America/Los_Angeles:20260730T210000
STATUS:CONFIRMED
SUMMARY:The Central Addition vs Sniff the Jack
URL:/League/Schedule/2909
DESCRIPTION:Regular Season match: The Central Addition vs Sn
 iff the Jack
LOCATION:Chichibu Court 1
END:VEVENT
BEGIN:VEVENT
DTSTAMP:20260428T000000Z
UID:6d3529bf-4d7a-44b7-a39e-bda5d882dc83@ClaytonBocce
DTSTART;TZID=America/Los_Angeles:20260806T183000
DTEND;TZID=America/Los_Angeles:20260806T210000
STATUS:CONFIRMED
SUMMARY:The Central Addition vs Hitmen
URL:/League/Schedule/2909
DESCRIPTION:Regular Season match: The Central Addition vs Hi
 tmen
LOCATION:Chichibu Court 2
END:VEVENT
BEGIN:VEVENT
DTSTAMP:20260428T000000Z
UID:34e8b511-17bb-4801-890b-fed46b0edd06@ClaytonBocce
DTSTART;TZID=America/Los_Angeles:20260820T183000
DTEND;TZID=America/Los_Angeles:20260820T210000
STATUS:CONFIRMED
SUMMARY:The Central Addition vs Bocce Beocces
URL:/League/Schedule/2909
DESCRIPTION:Regular Season match: The Central Addition vs Bo
 cce Beocces
LOCATION:Chichibu Court 5
END:VEVENT
BEGIN:VEVENT
DTSTAMP:20260428T000000Z
UID:90bfda73-a718-4114-b8c3-e55ee814f6a9@ClaytonBocce
DTSTART;TZID=America/Los_Angeles:20260827T183000
DTEND;TZID=America/Los_Angeles:20260827T210000
STATUS:CONFIRMED
SUMMARY:The Central Addition vs La Vita E Bella
URL:/League/Schedule/2909
DESCRIPTION:Regular Season match: The Central Addition vs La
  Vita E Bella
LOCATION:Chichibu Court 1
END:VEVENT
END:VCALENDAR
