BEGIN:VCALENDAR
VERSION:2.0
PRODID:-//Clayton Bocce League
METHOD:PUBLISH
BEGIN:VTIMEZONE
TZID:America/Los_Angeles
X-LIC-LOCATION:America/Los_Angeles
BEGIN:DAYLIGHT
TZOFFSETFROM:-0800
TZOFFSETTO:-0700
TZNAME:PDT
DTSTART:20070311T020000
RRULE:FREQ=YEARLY;BYMONTH=3;BYDAY=2SU
END:DAYLIGHT
BEGIN:STANDARD
TZOFFSETFROM:-0700
TZOFFSETTO:-0800
TZNAME:PST
DTSTART:20071104T020000
RRULE:FREQ=YEARLY;BYMONTH=11;BYDAY=1SU
END:STANDARD
END:VTIMEZONE
BEGIN:VEVENT
DTSTAMP:20260428T000000Z
UID:c168f9d6-c1f1-4f29-a4e9-c521885c303d@ClaytonBocce
DTSTART;TZID=America/Los_Angeles:20260430T183000
DTEND;TZID=America/Los_Angeles:20260430T210000
STATUS:CONFIRMED
SUMMARY:Hitmen vs The Central Addition
URL:/League/Schedule/2900
DESCRIPTION:Regular Season match: Hitmen vs The Central Addi
 tion
LOCATION:Chichibu Court 6
END:VEVENT
BEGIN:VEVENT
DTSTAMP:20260428T000000Z
UID:c0b0d1cf-2e72-4819-a60e-190dc3059fdb@ClaytonBocce
DTSTART;TZID=America/Los_Angeles:20260507T183000
DTEND;TZID=America/Los_Angeles:20260507T210000
STATUS:CONFIRMED
SUMMARY:Hitmen vs La Vita E Bella
URL:/League/Schedule/2900
DESCRIPTION:Regular Season match: Hitmen vs La Vita E Bella
LOCATION:Chichibu Court 2
END:VEVENT
BEGIN:VEVENT
DTSTAMP:20260428T000000Z
UID:ebeff25d-515f-456f-a362-42a5bb535ef1@ClaytonBocce
DTSTART;TZID=America/Los_Angeles:20260514T183000
DTEND;TZID=America/Los_Angeles:20260514T210000
STATUS:CONFIRMED
SUMMARY:Hitmen vs Lanter's Laggers
URL:/League/Schedule/2900
DESCRIPTION:Regular Season match: Hitmen vs Lanter's Laggers
LOCATION:Chichibu Court 4
END:VEVENT
BEGIN:VEVENT
DTSTAMP:20260428T000000Z
UID:ab597add-ab0a-4681-aff6-a1d94a421c67@ClaytonBocce
DTSTART;TZID=America/Los_Angeles:20260528T183000
DTEND;TZID=America/Los_Angeles:20260528T210000
STATUS:CONFIRMED
SUMMARY:Hitmen vs Fugettabocce
URL:/League/Schedule/2900
DESCRIPTION:Regular Season match: Hitmen vs Fugettabocce
LOCATION:Chichibu Court 5
END:VEVENT
BEGIN:VEVENT
DTSTAMP:20260428T000000Z
UID:1f85bb90-c2f6-4eb3-8227-3fcd4fede5d3@ClaytonBocce
DTSTART;TZID=America/Los_Angeles:20260604T183000
DTEND;TZID=America/Los_Angeles:20260604T210000
STATUS:CONFIRMED
SUMMARY:Hitmen vs Sniff the Jack
URL:/League/Schedule/2900
DESCRIPTION:Regular Season match: Hitmen vs Sniff the Jack
LOCATION:Chichibu Court 3
END:VEVENT
BEGIN:VEVENT
DTSTAMP:20260428T000000Z
UID:08c06265-ce7c-463a-a7af-1c8a784a72f3@ClaytonBocce
DTSTART;TZID=America/Los_Angeles:20260611T183000
DTEND;TZID=America/Los_Angeles:20260611T210000
STATUS:CONFIRMED
SUMMARY:Hitmen vs Peace Love & Bocce
URL:/League/Schedule/2900
DESCRIPTION:Regular Season match: Hitmen vs Peace Love & Boc
 ce
LOCATION:Chichibu Court 1
END:VEVENT
BEGIN:VEVENT
DTSTAMP:20260428T000000Z
UID:45aab186-f58b-4df1-96c9-8bd3f5ee0059@ClaytonBocce
DTSTART;TZID=America/Los_Angeles:20260625T183000
DTEND;TZID=America/Los_Angeles:20260625T210000
STATUS:CONFIRMED
SUMMARY:Hitmen vs Johnny B's
URL:/League/Schedule/2900
DESCRIPTION:Regular Season match: Hitmen vs Johnny B's
LOCATION:Chichibu Court 2
END:VEVENT
BEGIN:VEVENT
DTSTAMP:20260428T000000Z
UID:19d69f1b-d950-4285-9e15-2d3cd42e82ca@ClaytonBocce
DTSTART;TZID=America/Los_Angeles:20260702T183000
DTEND;TZID=America/Los_Angeles:20260702T210000
STATUS:CONFIRMED
SUMMARY:Hitmen vs Bocce Beocces
URL:/League/Schedule/2900
DESCRIPTION:Regular Season match: Hitmen vs Bocce Beocces
LOCATION:Chichibu Court 6
END:VEVENT
BEGIN:VEVENT
DTSTAMP:20260428T000000Z
UID:09ccc9b3-3441-4b86-8ae3-799e7bbefceb@ClaytonBocce
DTSTART;TZID=America/Los_Angeles:20260709T183000
DTEND;TZID=America/Los_Angeles:20260709T210000
STATUS:CONFIRMED
SUMMARY:Hitmen vs Johnny B'ettes
URL:/League/Schedule/2900
DESCRIPTION:Regular Season match: Hitmen vs Johnny B'ettes
LOCATION:Chichibu Court 4
END:VEVENT
BEGIN:VEVENT
DTSTAMP:20260428T000000Z
UID:996da4e1-2698-43e1-ad4d-ca1dbcd29ea9@ClaytonBocce
DTSTART;TZID=America/Los_Angeles:20260723T183000
DTEND;TZID=America/Los_Angeles:20260723T210000
STATUS:CONFIRMED
SUMMARY:Hitmen vs Just Us
URL:/League/Schedule/2900
DESCRIPTION:Regular Season match: Hitmen vs Just Us
LOCATION:Chichibu Court 1
END:VEVENT
BEGIN:VEVENT
DTSTAMP:20260428T000000Z
UID:647d9ae5-7175-46e0-a190-f497929be920@ClaytonBocce
DTSTART;TZID=America/Los_Angeles:20260730T183000
DTEND;TZID=America/Los_Angeles:20260730T210000
STATUS:CONFIRMED
SUMMARY:Hitmen vs The Ducks
URL:/League/Schedule/2900
DESCRIPTION:Regular Season match: Hitmen vs The Ducks
LOCATION:Chichibu Court 6
END:VEVENT
BEGIN:VEVENT
DTSTAMP:20260428T000000Z
UID:6d3529bf-4d7a-44b7-a39e-bda5d882dc83@ClaytonBocce
DTSTART;TZID=America/Los_Angeles:20260806T183000
DTEND;TZID=America/Los_Angeles:20260806T210000
STATUS:CONFIRMED
SUMMARY:Hitmen vs The Central Addition
URL:/League/Schedule/2900
DESCRIPTION:Regular Season match: Hitmen vs The Central Addi
 tion
LOCATION:Chichibu Court 2
END:VEVENT
BEGIN:VEVENT
DTSTAMP:20260428T000000Z
UID:a62d974d-4c1d-4dcd-baa7-b15e96556ac7@ClaytonBocce
DTSTART;TZID=America/Los_Angeles:20260820T183000
DTEND;TZID=America/Los_Angeles:20260820T210000
STATUS:CONFIRMED
SUMMARY:Hitmen vs Fugettabocce
URL:/League/Schedule/2900
DESCRIPTION:Regular Season match: Hitmen vs Fugettabocce
LOCATION:Chichibu Court 3
END:VEVENT
BEGIN:VEVENT
DTSTAMP:20260428T000000Z
UID:14f80b54-391a-4ac6-84a7-87b61503c860@ClaytonBocce
DTSTART;TZID=America/Los_Angeles:20260827T183000
DTEND;TZID=America/Los_Angeles:20260827T210000
STATUS:CONFIRMED
SUMMARY:Hitmen vs Bocce Beocces
URL:/League/Schedule/2900
DESCRIPTION:Regular Season match: Hitmen vs Bocce Beocces
LOCATION:Chichibu Court 2
END:VEVENT
END:VCALENDAR
