BEGIN:VCALENDAR
VERSION:2.0
PRODID:-//Clayton Bocce League
METHOD:PUBLISH
BEGIN:VTIMEZONE
TZID:America/Los_Angeles
X-LIC-LOCATION:America/Los_Angeles
BEGIN:DAYLIGHT
TZOFFSETFROM:-0800
TZOFFSETTO:-0700
TZNAME:PDT
DTSTART:20070311T020000
RRULE:FREQ=YEARLY;BYMONTH=3;BYDAY=2SU
END:DAYLIGHT
BEGIN:STANDARD
TZOFFSETFROM:-0700
TZOFFSETTO:-0800
TZNAME:PST
DTSTART:20071104T020000
RRULE:FREQ=YEARLY;BYMONTH=11;BYDAY=1SU
END:STANDARD
END:VTIMEZONE
BEGIN:VEVENT
DTSTAMP:20260428T000000Z
UID:05dd26fd-cc86-49c4-93f9-54fed3ec6748@ClaytonBocce
DTSTART;TZID=America/Los_Angeles:20260430T183000
DTEND;TZID=America/Los_Angeles:20260430T210000
STATUS:CONFIRMED
SUMMARY:Johnny B's vs Peace Love & Bocce
URL:/League/Schedule/2899
DESCRIPTION:Regular Season match: Johnny B's vs Peace Love &
  Bocce
LOCATION:Chichibu Court 4
END:VEVENT
BEGIN:VEVENT
DTSTAMP:20260428T000000Z
UID:ae2087af-ce7c-4aab-b47d-0a85311ddf5a@ClaytonBocce
DTSTART;TZID=America/Los_Angeles:20260507T183000
DTEND;TZID=America/Los_Angeles:20260507T210000
STATUS:CONFIRMED
SUMMARY:Johnny B's vs The Central Addition
URL:/League/Schedule/2899
DESCRIPTION:Regular Season match: Johnny B's vs The Central 
 Addition
LOCATION:Chichibu Court 1
END:VEVENT
BEGIN:VEVENT
DTSTAMP:20260428T000000Z
UID:7be5c827-d279-4273-87b5-047de33c9950@ClaytonBocce
DTSTART;TZID=America/Los_Angeles:20260514T183000
DTEND;TZID=America/Los_Angeles:20260514T210000
STATUS:CONFIRMED
SUMMARY:Johnny B's vs La Vita E Bella
URL:/League/Schedule/2899
DESCRIPTION:Regular Season match: Johnny B's vs La Vita E Be
 lla
LOCATION:Chichibu Court 3
END:VEVENT
BEGIN:VEVENT
DTSTAMP:20260428T000000Z
UID:83f1c5ab-d20a-4f2a-b30e-e60af0682767@ClaytonBocce
DTSTART;TZID=America/Los_Angeles:20260528T183000
DTEND;TZID=America/Los_Angeles:20260528T210000
STATUS:CONFIRMED
SUMMARY:Johnny B's vs Johnny B'ettes
URL:/League/Schedule/2899
DESCRIPTION:Regular Season match: Johnny B's vs Johnny B'ett
 es
LOCATION:Chichibu Court 6
END:VEVENT
BEGIN:VEVENT
DTSTAMP:20260428T000000Z
UID:702864ff-0bf2-4b9c-8bc6-9cee612075bb@ClaytonBocce
DTSTART;TZID=America/Los_Angeles:20260604T183000
DTEND;TZID=America/Los_Angeles:20260604T210000
STATUS:CONFIRMED
SUMMARY:Johnny B's vs Fugettabocce
URL:/League/Schedule/2899
DESCRIPTION:Regular Season match: Johnny B's vs Fugettabocce
LOCATION:Chichibu Court 2
END:VEVENT
BEGIN:VEVENT
DTSTAMP:20260428T000000Z
UID:e403a5ac-2548-476b-981c-881223032f03@ClaytonBocce
DTSTART;TZID=America/Los_Angeles:20260611T183000
DTEND;TZID=America/Los_Angeles:20260611T210000
STATUS:CONFIRMED
SUMMARY:Johnny B's vs The Ducks
URL:/League/Schedule/2899
DESCRIPTION:Regular Season match: Johnny B's vs The Ducks
LOCATION:Chichibu Court 3
END:VEVENT
BEGIN:VEVENT
DTSTAMP:20260428T000000Z
UID:45aab186-f58b-4df1-96c9-8bd3f5ee0059@ClaytonBocce
DTSTART;TZID=America/Los_Angeles:20260625T183000
DTEND;TZID=America/Los_Angeles:20260625T210000
STATUS:CONFIRMED
SUMMARY:Johnny B's vs Hitmen
URL:/League/Schedule/2899
DESCRIPTION:Regular Season match: Johnny B's vs Hitmen
LOCATION:Chichibu Court 2
END:VEVENT
BEGIN:VEVENT
DTSTAMP:20260428T000000Z
UID:9e0afc00-4625-4bb9-862d-9403e44ee431@ClaytonBocce
DTSTART;TZID=America/Los_Angeles:20260702T183000
DTEND;TZID=America/Los_Angeles:20260702T210000
STATUS:CONFIRMED
SUMMARY:Johnny B's vs Lanter's Laggers
URL:/League/Schedule/2899
DESCRIPTION:Regular Season match: Johnny B's vs Lanter's Lag
 gers
LOCATION:Chichibu Court 5
END:VEVENT
BEGIN:VEVENT
DTSTAMP:20260428T000000Z
UID:bc5884f0-8c76-4732-83a4-63325b6e10f0@ClaytonBocce
DTSTART;TZID=America/Los_Angeles:20260709T183000
DTEND;TZID=America/Los_Angeles:20260709T210000
STATUS:CONFIRMED
SUMMARY:Johnny B's vs Bocce Beocces
URL:/League/Schedule/2899
DESCRIPTION:Regular Season match: Johnny B's vs Bocce Beocce
 s
LOCATION:Chichibu Court 1
END:VEVENT
BEGIN:VEVENT
DTSTAMP:20260428T000000Z
UID:e2728336-07c1-40ac-9e5e-1bb76549a4f8@ClaytonBocce
DTSTART;TZID=America/Los_Angeles:20260723T183000
DTEND;TZID=America/Los_Angeles:20260723T210000
STATUS:CONFIRMED
SUMMARY:Johnny B's vs Sniff the Jack
URL:/League/Schedule/2899
DESCRIPTION:Regular Season match: Johnny B's vs Sniff the Ja
 ck
LOCATION:Chichibu Court 3
END:VEVENT
BEGIN:VEVENT
DTSTAMP:20260428T000000Z
UID:1f69002a-7743-431e-9a9b-f8280b8300c8@ClaytonBocce
DTSTART;TZID=America/Los_Angeles:20260730T183000
DTEND;TZID=America/Los_Angeles:20260730T210000
STATUS:CONFIRMED
SUMMARY:Johnny B's vs Just Us
URL:/League/Schedule/2899
DESCRIPTION:Regular Season match: Johnny B's vs Just Us
LOCATION:Chichibu Court 2
END:VEVENT
BEGIN:VEVENT
DTSTAMP:20260428T000000Z
UID:eaaa148b-6b1a-4d10-be62-e49dd48fa4f4@ClaytonBocce
DTSTART;TZID=America/Los_Angeles:20260806T183000
DTEND;TZID=America/Los_Angeles:20260806T210000
STATUS:CONFIRMED
SUMMARY:Johnny B's vs Peace Love & Bocce
URL:/League/Schedule/2899
DESCRIPTION:Regular Season match: Johnny B's vs Peace Love &
  Bocce
LOCATION:Chichibu Court 5
END:VEVENT
BEGIN:VEVENT
DTSTAMP:20260428T000000Z
UID:e5cd7ea9-b7ec-41a9-a5bf-5836e1d87305@ClaytonBocce
DTSTART;TZID=America/Los_Angeles:20260820T183000
DTEND;TZID=America/Los_Angeles:20260820T210000
STATUS:CONFIRMED
SUMMARY:Johnny B's vs Johnny B'ettes
URL:/League/Schedule/2899
DESCRIPTION:Regular Season match: Johnny B's vs Johnny B'ett
 es
LOCATION:Chichibu Court 6
END:VEVENT
BEGIN:VEVENT
DTSTAMP:20260428T000000Z
UID:fa4da37d-b870-4bcf-ba2b-70e56dfc6693@ClaytonBocce
DTSTART;TZID=America/Los_Angeles:20260827T183000
DTEND;TZID=America/Los_Angeles:20260827T210000
STATUS:CONFIRMED
SUMMARY:Johnny B's vs Lanter's Laggers
URL:/League/Schedule/2899
DESCRIPTION:Regular Season match: Johnny B's vs Lanter's Lag
 gers
LOCATION:Chichibu Court 4
END:VEVENT
END:VCALENDAR
