BEGIN:VCALENDAR
VERSION:2.0
PRODID:-//Clayton Bocce League
METHOD:PUBLISH
BEGIN:VTIMEZONE
TZID:America/Los_Angeles
X-LIC-LOCATION:America/Los_Angeles
BEGIN:DAYLIGHT
TZOFFSETFROM:-0800
TZOFFSETTO:-0700
TZNAME:PDT
DTSTART:20070311T020000
RRULE:FREQ=YEARLY;BYMONTH=3;BYDAY=2SU
END:DAYLIGHT
BEGIN:STANDARD
TZOFFSETFROM:-0700
TZOFFSETTO:-0800
TZNAME:PST
DTSTART:20071104T020000
RRULE:FREQ=YEARLY;BYMONTH=11;BYDAY=1SU
END:STANDARD
END:VTIMEZONE
BEGIN:VEVENT
DTSTAMP:20260428T000000Z
UID:05dd26fd-cc86-49c4-93f9-54fed3ec6748@ClaytonBocce
DTSTART;TZID=America/Los_Angeles:20260430T183000
DTEND;TZID=America/Los_Angeles:20260430T210000
STATUS:CONFIRMED
SUMMARY:Peace Love & Bocce vs Johnny B's
URL:/League/Schedule/2898
DESCRIPTION:Regular Season match: Peace Love & Bocce vs John
 ny B's
LOCATION:Chichibu Court 4
END:VEVENT
BEGIN:VEVENT
DTSTAMP:20260428T000000Z
UID:46c75806-9d7b-40cc-9a27-3e84d0fbdf28@ClaytonBocce
DTSTART;TZID=America/Los_Angeles:20260507T183000
DTEND;TZID=America/Los_Angeles:20260507T210000
STATUS:CONFIRMED
SUMMARY:Peace Love & Bocce vs Fugettabocce
URL:/League/Schedule/2898
DESCRIPTION:Regular Season match: Peace Love & Bocce vs Fuge
 ttabocce
LOCATION:Chichibu Court 6
END:VEVENT
BEGIN:VEVENT
DTSTAMP:20260428T000000Z
UID:f656bbba-72ad-4f8b-ba0e-7660ec8f57c7@ClaytonBocce
DTSTART;TZID=America/Los_Angeles:20260514T183000
DTEND;TZID=America/Los_Angeles:20260514T210000
STATUS:CONFIRMED
SUMMARY:Peace Love & Bocce vs The Central Addition
URL:/League/Schedule/2898
DESCRIPTION:Regular Season match: Peace Love & Bocce vs The 
 Central Addition
LOCATION:Chichibu Court 5
END:VEVENT
BEGIN:VEVENT
DTSTAMP:20260428T000000Z
UID:f8c4332f-7e87-4627-b311-066be1e046bc@ClaytonBocce
DTSTART;TZID=America/Los_Angeles:20260528T183000
DTEND;TZID=America/Los_Angeles:20260528T210000
STATUS:CONFIRMED
SUMMARY:Peace Love & Bocce vs Just Us
URL:/League/Schedule/2898
DESCRIPTION:Regular Season match: Peace Love & Bocce vs Just
  Us
LOCATION:Chichibu Court 3
END:VEVENT
BEGIN:VEVENT
DTSTAMP:20260428T000000Z
UID:668add65-cbef-4ebc-b3cf-81b9e0213fb9@ClaytonBocce
DTSTART;TZID=America/Los_Angeles:20260604T183000
DTEND;TZID=America/Los_Angeles:20260604T210000
STATUS:CONFIRMED
SUMMARY:Peace Love & Bocce vs Lanter's Laggers
URL:/League/Schedule/2898
DESCRIPTION:Regular Season match: Peace Love & Bocce vs Lant
 er's Laggers
LOCATION:Chichibu Court 6
END:VEVENT
BEGIN:VEVENT
DTSTAMP:20260428T000000Z
UID:08c06265-ce7c-463a-a7af-1c8a784a72f3@ClaytonBocce
DTSTART;TZID=America/Los_Angeles:20260611T183000
DTEND;TZID=America/Los_Angeles:20260611T210000
STATUS:CONFIRMED
SUMMARY:Peace Love & Bocce vs Hitmen
URL:/League/Schedule/2898
DESCRIPTION:Regular Season match: Peace Love & Bocce vs Hitm
 en
LOCATION:Chichibu Court 1
END:VEVENT
BEGIN:VEVENT
DTSTAMP:20260428T000000Z
UID:7536de49-d923-45ac-a60d-f4866ceeb0d9@ClaytonBocce
DTSTART;TZID=America/Los_Angeles:20260625T183000
DTEND;TZID=America/Los_Angeles:20260625T210000
STATUS:CONFIRMED
SUMMARY:Peace Love & Bocce vs Johnny B'ettes
URL:/League/Schedule/2898
DESCRIPTION:Regular Season match: Peace Love & Bocce vs John
 ny B'ettes
LOCATION:Chichibu Court 5
END:VEVENT
BEGIN:VEVENT
DTSTAMP:20260428T000000Z
UID:a4a8441b-9559-4a35-9599-75cab3e07ad9@ClaytonBocce
DTSTART;TZID=America/Los_Angeles:20260702T183000
DTEND;TZID=America/Los_Angeles:20260702T210000
STATUS:CONFIRMED
SUMMARY:Peace Love & Bocce vs Sniff the Jack
URL:/League/Schedule/2898
DESCRIPTION:Regular Season match: Peace Love & Bocce vs Snif
 f the Jack
LOCATION:Chichibu Court 4
END:VEVENT
BEGIN:VEVENT
DTSTAMP:20260428T000000Z
UID:79493e50-aaa7-4ca3-a70d-c8f5741ea51d@ClaytonBocce
DTSTART;TZID=America/Los_Angeles:20260709T183000
DTEND;TZID=America/Los_Angeles:20260709T210000
STATUS:CONFIRMED
SUMMARY:Peace Love & Bocce vs La Vita E Bella
URL:/League/Schedule/2898
DESCRIPTION:Regular Season match: Peace Love & Bocce vs La V
 ita E Bella
LOCATION:Chichibu Court 2
END:VEVENT
BEGIN:VEVENT
DTSTAMP:20260428T000000Z
UID:c8a9ccf8-b673-4f95-b92e-2a8382827ccd@ClaytonBocce
DTSTART;TZID=America/Los_Angeles:20260723T183000
DTEND;TZID=America/Los_Angeles:20260723T210000
STATUS:CONFIRMED
SUMMARY:Peace Love & Bocce vs The Ducks
URL:/League/Schedule/2898
DESCRIPTION:Regular Season match: Peace Love & Bocce vs The 
 Ducks
LOCATION:Chichibu Court 5
END:VEVENT
BEGIN:VEVENT
DTSTAMP:20260428T000000Z
UID:128bf54b-27eb-4361-9061-0f9cde664bec@ClaytonBocce
DTSTART;TZID=America/Los_Angeles:20260730T183000
DTEND;TZID=America/Los_Angeles:20260730T210000
STATUS:CONFIRMED
SUMMARY:Peace Love & Bocce vs Bocce Beocces
URL:/League/Schedule/2898
DESCRIPTION:Regular Season match: Peace Love & Bocce vs Bocc
 e Beocces
LOCATION:Chichibu Court 3
END:VEVENT
BEGIN:VEVENT
DTSTAMP:20260428T000000Z
UID:eaaa148b-6b1a-4d10-be62-e49dd48fa4f4@ClaytonBocce
DTSTART;TZID=America/Los_Angeles:20260806T183000
DTEND;TZID=America/Los_Angeles:20260806T210000
STATUS:CONFIRMED
SUMMARY:Peace Love & Bocce vs Johnny B's
URL:/League/Schedule/2898
DESCRIPTION:Regular Season match: Peace Love & Bocce vs John
 ny B's
LOCATION:Chichibu Court 5
END:VEVENT
BEGIN:VEVENT
DTSTAMP:20260428T000000Z
UID:72b1ab04-4ac6-4e0e-86b4-e43acb10e327@ClaytonBocce
DTSTART;TZID=America/Los_Angeles:20260820T183000
DTEND;TZID=America/Los_Angeles:20260820T210000
STATUS:CONFIRMED
SUMMARY:Peace Love & Bocce vs Just Us
URL:/League/Schedule/2898
DESCRIPTION:Regular Season match: Peace Love & Bocce vs Just
  Us
LOCATION:Chichibu Court 1
END:VEVENT
BEGIN:VEVENT
DTSTAMP:20260428T000000Z
UID:58aa2eb4-d343-4886-b0f0-720a6333ec8d@ClaytonBocce
DTSTART;TZID=America/Los_Angeles:20260827T183000
DTEND;TZID=America/Los_Angeles:20260827T210000
STATUS:CONFIRMED
SUMMARY:Peace Love & Bocce vs Sniff the Jack
URL:/League/Schedule/2898
DESCRIPTION:Regular Season match: Peace Love & Bocce vs Snif
 f the Jack
LOCATION:Chichibu Court 6
END:VEVENT
END:VCALENDAR
