BEGIN:VCALENDAR
VERSION:2.0
PRODID:-//Clayton Bocce League
METHOD:PUBLISH
BEGIN:VTIMEZONE
TZID:America/Los_Angeles
X-LIC-LOCATION:America/Los_Angeles
BEGIN:DAYLIGHT
TZOFFSETFROM:-0800
TZOFFSETTO:-0700
TZNAME:PDT
DTSTART:20070311T020000
RRULE:FREQ=YEARLY;BYMONTH=3;BYDAY=2SU
END:DAYLIGHT
BEGIN:STANDARD
TZOFFSETFROM:-0700
TZOFFSETTO:-0800
TZNAME:PST
DTSTART:20071104T020000
RRULE:FREQ=YEARLY;BYMONTH=11;BYDAY=1SU
END:STANDARD
END:VTIMEZONE
BEGIN:VEVENT
DTSTAMP:20260428T000000Z
UID:a5ccbdf7-d6e8-4ac9-a2cf-58b39cf9240e@ClaytonBocce
DTSTART;TZID=America/Los_Angeles:20260428T183000
DTEND;TZID=America/Los_Angeles:20260428T210000
STATUS:CONFIRMED
SUMMARY:Back To Bocce vs Couples Therapy
URL:/League/Schedule/2873
DESCRIPTION:Regular Season match: Back To Bocce vs Couples T
 herapy
LOCATION:Chichibu Court 5
END:VEVENT
BEGIN:VEVENT
DTSTAMP:20260428T000000Z
UID:fcdb9a1c-41db-4d72-b84a-0c7e4eabc8e1@ClaytonBocce
DTSTART;TZID=America/Los_Angeles:20260512T183000
DTEND;TZID=America/Los_Angeles:20260512T210000
STATUS:CONFIRMED
SUMMARY:Back To Bocce vs Banking On It
URL:/League/Schedule/2873
DESCRIPTION:Regular Season match: Back To Bocce vs Banking O
 n It
LOCATION:Chichibu Court 6
END:VEVENT
BEGIN:VEVENT
DTSTAMP:20260428T000000Z
UID:6fd66d76-a514-48f1-9971-fbcdefada1c7@ClaytonBocce
DTSTART;TZID=America/Los_Angeles:20260519T183000
DTEND;TZID=America/Los_Angeles:20260519T210000
STATUS:CONFIRMED
SUMMARY:Back To Bocce vs Fireballs
URL:/League/Schedule/2873
DESCRIPTION:Regular Season match: Back To Bocce vs Fireballs
LOCATION:Chichibu Court 4
END:VEVENT
BEGIN:VEVENT
DTSTAMP:20260428T000000Z
UID:3056c6cd-c2eb-42bd-a3b1-6bcb2a592bfe@ClaytonBocce
DTSTART;TZID=America/Los_Angeles:20260526T183000
DTEND;TZID=America/Los_Angeles:20260526T210000
STATUS:CONFIRMED
SUMMARY:Back To Bocce vs Wild Bunch
URL:/League/Schedule/2873
DESCRIPTION:Regular Season match: Back To Bocce vs Wild Bunc
 h
LOCATION:Chichibu Court 1
END:VEVENT
BEGIN:VEVENT
DTSTAMP:20260428T000000Z
UID:826c9863-d2af-431a-834b-f826e438d98c@ClaytonBocce
DTSTART;TZID=America/Los_Angeles:20260602T183000
DTEND;TZID=America/Los_Angeles:20260602T210000
STATUS:CONFIRMED
SUMMARY:Back To Bocce vs Let's Roll
URL:/League/Schedule/2873
DESCRIPTION:Regular Season match: Back To Bocce vs Let's Rol
 l
LOCATION:Chichibu Court 3
END:VEVENT
BEGIN:VEVENT
DTSTAMP:20260428T000000Z
UID:e3810578-e024-49f6-baa6-b9a892830e8b@ClaytonBocce
DTSTART;TZID=America/Los_Angeles:20260616T183000
DTEND;TZID=America/Los_Angeles:20260616T210000
STATUS:CONFIRMED
SUMMARY:Back To Bocce vs Advance Auto Body
URL:/League/Schedule/2873
DESCRIPTION:Regular Season match: Back To Bocce vs Advance A
 uto Body
LOCATION:Chichibu Court 3
END:VEVENT
BEGIN:VEVENT
DTSTAMP:20260428T000000Z
UID:45e0e49e-1eb2-4599-8fc1-4b19ad830214@ClaytonBocce
DTSTART;TZID=America/Los_Angeles:20260623T183000
DTEND;TZID=America/Los_Angeles:20260623T210000
STATUS:CONFIRMED
SUMMARY:Back To Bocce vs Spicy Meatballs
URL:/League/Schedule/2873
DESCRIPTION:Regular Season match: Back To Bocce vs Spicy Mea
 tballs
LOCATION:Chichibu Court 2
END:VEVENT
BEGIN:VEVENT
DTSTAMP:20260428T000000Z
UID:85fc5672-0476-4229-8192-7b1b8f53d042@ClaytonBocce
DTSTART;TZID=America/Los_Angeles:20260630T183000
DTEND;TZID=America/Los_Angeles:20260630T210000
STATUS:CONFIRMED
SUMMARY:Back To Bocce vs Bocce Bankers
URL:/League/Schedule/2873
DESCRIPTION:Regular Season match: Back To Bocce vs Bocce Ban
 kers
LOCATION:Chichibu Court 4
END:VEVENT
BEGIN:VEVENT
DTSTAMP:20260428T000000Z
UID:0b13e58c-875c-44d0-8bee-0b1e809868f0@ClaytonBocce
DTSTART;TZID=America/Los_Angeles:20260707T183000
DTEND;TZID=America/Los_Angeles:20260707T210000
STATUS:CONFIRMED
SUMMARY:Back To Bocce vs Rolling Stones
URL:/League/Schedule/2873
DESCRIPTION:Regular Season match: Back To Bocce vs Rolling S
 tones
LOCATION:Chichibu Court 1
END:VEVENT
BEGIN:VEVENT
DTSTAMP:20260428T000000Z
UID:bd8486f0-3d5f-4401-9e45-de62b92d611c@ClaytonBocce
DTSTART;TZID=America/Los_Angeles:20260714T183000
DTEND;TZID=America/Los_Angeles:20260714T210000
STATUS:CONFIRMED
SUMMARY:Back To Bocce vs No Problem
URL:/League/Schedule/2873
DESCRIPTION:Regular Season match: Back To Bocce vs No Proble
 m
LOCATION:Chichibu Court 5
END:VEVENT
BEGIN:VEVENT
DTSTAMP:20260428T000000Z
UID:af13c08c-43b8-4670-a634-8636294d8460@ClaytonBocce
DTSTART;TZID=America/Los_Angeles:20260728T183000
DTEND;TZID=America/Los_Angeles:20260728T210000
STATUS:CONFIRMED
SUMMARY:Back To Bocce vs Celia's
URL:/League/Schedule/2873
DESCRIPTION:Regular Season match: Back To Bocce vs Celia's
LOCATION:Chichibu Court 1
END:VEVENT
BEGIN:VEVENT
DTSTAMP:20260428T000000Z
UID:79d30ca3-df35-41af-b99b-497b89c00127@ClaytonBocce
DTSTART;TZID=America/Los_Angeles:20260804T183000
DTEND;TZID=America/Los_Angeles:20260804T210000
STATUS:CONFIRMED
SUMMARY:Back To Bocce vs La Dolce Vita
URL:/League/Schedule/2873
DESCRIPTION:Regular Season match: Back To Bocce vs La Dolce 
 Vita
LOCATION:Chichibu Court 6
END:VEVENT
BEGIN:VEVENT
DTSTAMP:20260428T000000Z
UID:d1907e27-f11a-4d10-ab39-9dd2683c1c05@ClaytonBocce
DTSTART;TZID=America/Los_Angeles:20260811T183000
DTEND;TZID=America/Los_Angeles:20260811T210000
STATUS:CONFIRMED
SUMMARY:Back To Bocce vs Old Fashion Bocce
URL:/League/Schedule/2873
DESCRIPTION:Regular Season match: Back To Bocce vs Old Fashi
 on Bocce
LOCATION:Chichibu Court 1
END:VEVENT
BEGIN:VEVENT
DTSTAMP:20260428T000000Z
UID:1e357a5b-737d-467a-9f34-4c25c9b1f498@ClaytonBocce
DTSTART;TZID=America/Los_Angeles:20260818T183000
DTEND;TZID=America/Los_Angeles:20260818T210000
STATUS:CONFIRMED
SUMMARY:Back To Bocce vs The Leftovers
URL:/League/Schedule/2873
DESCRIPTION:Regular Season match: Back To Bocce vs The Lefto
 vers
LOCATION:Chichibu Court 4
END:VEVENT
END:VCALENDAR
