BEGIN:VCALENDAR
VERSION:2.0
PRODID:-//Clayton Bocce League
METHOD:PUBLISH
BEGIN:VTIMEZONE
TZID:America/Los_Angeles
X-LIC-LOCATION:America/Los_Angeles
BEGIN:DAYLIGHT
TZOFFSETFROM:-0800
TZOFFSETTO:-0700
TZNAME:PDT
DTSTART:20070311T020000
RRULE:FREQ=YEARLY;BYMONTH=3;BYDAY=2SU
END:DAYLIGHT
BEGIN:STANDARD
TZOFFSETFROM:-0700
TZOFFSETTO:-0800
TZNAME:PST
DTSTART:20071104T020000
RRULE:FREQ=YEARLY;BYMONTH=11;BYDAY=1SU
END:STANDARD
END:VTIMEZONE
BEGIN:VEVENT
DTSTAMP:20260428T000000Z
UID:a5ccbdf7-d6e8-4ac9-a2cf-58b39cf9240e@ClaytonBocce
DTSTART;TZID=America/Los_Angeles:20260428T183000
DTEND;TZID=America/Los_Angeles:20260428T210000
STATUS:CONFIRMED
SUMMARY:Couples Therapy vs Back To Bocce
URL:/League/Schedule/2878
DESCRIPTION:Regular Season match: Couples Therapy vs Back To
  Bocce
LOCATION:Chichibu Court 5
END:VEVENT
BEGIN:VEVENT
DTSTAMP:20260428T000000Z
UID:08415476-9a7e-4e6b-9669-0bb27c899f77@ClaytonBocce
DTSTART;TZID=America/Los_Angeles:20260505T183000
DTEND;TZID=America/Los_Angeles:20260505T210000
STATUS:CONFIRMED
SUMMARY:Couples Therapy vs Celia's
URL:/League/Schedule/2878
DESCRIPTION:Regular Season match: Couples Therapy vs Celia's
LOCATION:Chichibu Court 4
END:VEVENT
BEGIN:VEVENT
DTSTAMP:20260428T000000Z
UID:61b06a4a-8f2f-4d87-a9d4-5bc0fc79e0a9@ClaytonBocce
DTSTART;TZID=America/Los_Angeles:20260512T183000
DTEND;TZID=America/Los_Angeles:20260512T210000
STATUS:CONFIRMED
SUMMARY:Couples Therapy vs La Dolce Vita
URL:/League/Schedule/2878
DESCRIPTION:Regular Season match: Couples Therapy vs La Dolc
 e Vita
LOCATION:Chichibu Court 3
END:VEVENT
BEGIN:VEVENT
DTSTAMP:20260428T000000Z
UID:8c9aa501-b48d-477c-938f-712a70d00c18@ClaytonBocce
DTSTART;TZID=America/Los_Angeles:20260519T183000
DTEND;TZID=America/Los_Angeles:20260519T210000
STATUS:CONFIRMED
SUMMARY:Couples Therapy vs Old Fashion Bocce
URL:/League/Schedule/2878
DESCRIPTION:Regular Season match: Couples Therapy vs Old Fas
 hion Bocce
LOCATION:Chichibu Court 5
END:VEVENT
BEGIN:VEVENT
DTSTAMP:20260428T000000Z
UID:b8bd8e02-d14f-421d-9def-f14faa615b4b@ClaytonBocce
DTSTART;TZID=America/Los_Angeles:20260526T183000
DTEND;TZID=America/Los_Angeles:20260526T210000
STATUS:CONFIRMED
SUMMARY:Couples Therapy vs The Leftovers
URL:/League/Schedule/2878
DESCRIPTION:Regular Season match: Couples Therapy vs The Lef
 tovers
LOCATION:Chichibu Court 3
END:VEVENT
BEGIN:VEVENT
DTSTAMP:20260428T000000Z
UID:9b7c6ef6-e339-4714-aa89-ca7f02b13a09@ClaytonBocce
DTSTART;TZID=America/Los_Angeles:20260602T183000
DTEND;TZID=America/Los_Angeles:20260602T210000
STATUS:CONFIRMED
SUMMARY:Couples Therapy vs No Problem
URL:/League/Schedule/2878
DESCRIPTION:Regular Season match: Couples Therapy vs No Prob
 lem
LOCATION:Chichibu Court 6
END:VEVENT
BEGIN:VEVENT
DTSTAMP:20260428T000000Z
UID:3181c915-e9ee-4071-9a3b-3bb8ca448a28@ClaytonBocce
DTSTART;TZID=America/Los_Angeles:20260616T183000
DTEND;TZID=America/Los_Angeles:20260616T210000
STATUS:CONFIRMED
SUMMARY:Couples Therapy vs Banking On It
URL:/League/Schedule/2878
DESCRIPTION:Regular Season match: Couples Therapy vs Banking
  On It
LOCATION:Chichibu Court 5
END:VEVENT
BEGIN:VEVENT
DTSTAMP:20260428T000000Z
UID:b3f909cc-e497-47a4-af92-c6489af04a45@ClaytonBocce
DTSTART;TZID=America/Los_Angeles:20260623T183000
DTEND;TZID=America/Los_Angeles:20260623T210000
STATUS:CONFIRMED
SUMMARY:Couples Therapy vs Fireballs
URL:/League/Schedule/2878
DESCRIPTION:Regular Season match: Couples Therapy vs Firebal
 ls
LOCATION:Chichibu Court 4
END:VEVENT
BEGIN:VEVENT
DTSTAMP:20260428T000000Z
UID:2dbb5be6-e58b-44c4-b21c-ed521272c939@ClaytonBocce
DTSTART;TZID=America/Los_Angeles:20260630T183000
DTEND;TZID=America/Los_Angeles:20260630T210000
STATUS:CONFIRMED
SUMMARY:Couples Therapy vs Wild Bunch
URL:/League/Schedule/2878
DESCRIPTION:Regular Season match: Couples Therapy vs Wild Bu
 nch
LOCATION:Chichibu Court 3
END:VEVENT
BEGIN:VEVENT
DTSTAMP:20260428T000000Z
UID:9c6e7ce3-b4a2-4cbb-ad51-8b205a717085@ClaytonBocce
DTSTART;TZID=America/Los_Angeles:20260714T183000
DTEND;TZID=America/Los_Angeles:20260714T210000
STATUS:CONFIRMED
SUMMARY:Couples Therapy vs Let's Roll
URL:/League/Schedule/2878
DESCRIPTION:Regular Season match: Couples Therapy vs Let's R
 oll
LOCATION:Chichibu Court 2
END:VEVENT
BEGIN:VEVENT
DTSTAMP:20260428T000000Z
UID:9103ee8e-b7db-4ede-9398-eb5d4474333f@ClaytonBocce
DTSTART;TZID=America/Los_Angeles:20260728T183000
DTEND;TZID=America/Los_Angeles:20260728T210000
STATUS:CONFIRMED
SUMMARY:Couples Therapy vs Advance Auto Body
URL:/League/Schedule/2878
DESCRIPTION:Regular Season match: Couples Therapy vs Advance
  Auto Body
LOCATION:Chichibu Court 2
END:VEVENT
BEGIN:VEVENT
DTSTAMP:20260428T000000Z
UID:18ae3088-9eb6-4559-b194-1a395f99a0bc@ClaytonBocce
DTSTART;TZID=America/Los_Angeles:20260811T183000
DTEND;TZID=America/Los_Angeles:20260811T210000
STATUS:CONFIRMED
SUMMARY:Couples Therapy vs Spicy Meatballs
URL:/League/Schedule/2878
DESCRIPTION:Regular Season match: Couples Therapy vs Spicy M
 eatballs
LOCATION:Chichibu Court 5
END:VEVENT
BEGIN:VEVENT
DTSTAMP:20260428T000000Z
UID:178891be-44ee-43c2-b2f8-c2b75f5ab92c@ClaytonBocce
DTSTART;TZID=America/Los_Angeles:20260818T183000
DTEND;TZID=America/Los_Angeles:20260818T210000
STATUS:CONFIRMED
SUMMARY:Couples Therapy vs Bocce Bankers
URL:/League/Schedule/2878
DESCRIPTION:Regular Season match: Couples Therapy vs Bocce B
 ankers
LOCATION:Chichibu Court 3
END:VEVENT
BEGIN:VEVENT
DTSTAMP:20260428T000000Z
UID:fad52b19-a7d1-4528-b61d-ca2e66b3a70c@ClaytonBocce
DTSTART;TZID=America/Los_Angeles:20260825T183000
DTEND;TZID=America/Los_Angeles:20260825T210000
STATUS:CONFIRMED
SUMMARY:Couples Therapy vs Rolling Stones
URL:/League/Schedule/2878
DESCRIPTION:Regular Season match: Couples Therapy vs Rolling
  Stones
LOCATION:Chichibu Court 4
END:VEVENT
END:VCALENDAR
