BEGIN:VCALENDAR
VERSION:2.0
PRODID:-//Clayton Bocce League
METHOD:PUBLISH
BEGIN:VTIMEZONE
TZID:America/Los_Angeles
X-LIC-LOCATION:America/Los_Angeles
BEGIN:DAYLIGHT
TZOFFSETFROM:-0800
TZOFFSETTO:-0700
TZNAME:PDT
DTSTART:20070311T020000
RRULE:FREQ=YEARLY;BYMONTH=3;BYDAY=2SU
END:DAYLIGHT
BEGIN:STANDARD
TZOFFSETFROM:-0700
TZOFFSETTO:-0800
TZNAME:PST
DTSTART:20071104T020000
RRULE:FREQ=YEARLY;BYMONTH=11;BYDAY=1SU
END:STANDARD
END:VTIMEZONE
BEGIN:VEVENT
DTSTAMP:20260428T000000Z
UID:309c415f-387b-42cf-a2e5-b1ef4735adf0@ClaytonBocce
DTSTART;TZID=America/Los_Angeles:20260505T183000
DTEND;TZID=America/Los_Angeles:20260505T210000
STATUS:CONFIRMED
SUMMARY:No Problem vs Old Fashion Bocce
URL:/League/Schedule/2868
DESCRIPTION:Regular Season match: No Problem vs Old Fashion 
 Bocce
LOCATION:Chichibu Court 6
END:VEVENT
BEGIN:VEVENT
DTSTAMP:20260428T000000Z
UID:ce8a95d6-6dd7-474d-98fe-a999cc9fd2d4@ClaytonBocce
DTSTART;TZID=America/Los_Angeles:20260512T183000
DTEND;TZID=America/Los_Angeles:20260512T210000
STATUS:CONFIRMED
SUMMARY:No Problem vs Advance Auto Body
URL:/League/Schedule/2868
DESCRIPTION:Regular Season match: No Problem vs Advance Auto
  Body
LOCATION:Chichibu Court 5
END:VEVENT
BEGIN:VEVENT
DTSTAMP:20260428T000000Z
UID:000c6d04-9442-482b-99df-efc8d915c586@ClaytonBocce
DTSTART;TZID=America/Los_Angeles:20260519T183000
DTEND;TZID=America/Los_Angeles:20260519T210000
STATUS:CONFIRMED
SUMMARY:No Problem vs The Leftovers
URL:/League/Schedule/2868
DESCRIPTION:Regular Season match: No Problem vs The Leftover
 s
LOCATION:Chichibu Court 1
END:VEVENT
BEGIN:VEVENT
DTSTAMP:20260428T000000Z
UID:ce864707-f7a9-44b4-ab6a-1082ca6de065@ClaytonBocce
DTSTART;TZID=America/Los_Angeles:20260526T183000
DTEND;TZID=America/Los_Angeles:20260526T210000
STATUS:CONFIRMED
SUMMARY:No Problem vs Spicy Meatballs
URL:/League/Schedule/2868
DESCRIPTION:Regular Season match: No Problem vs Spicy Meatba
 lls
LOCATION:Chichibu Court 2
END:VEVENT
BEGIN:VEVENT
DTSTAMP:20260428T000000Z
UID:9b7c6ef6-e339-4714-aa89-ca7f02b13a09@ClaytonBocce
DTSTART;TZID=America/Los_Angeles:20260602T183000
DTEND;TZID=America/Los_Angeles:20260602T210000
STATUS:CONFIRMED
SUMMARY:No Problem vs Couples Therapy
URL:/League/Schedule/2868
DESCRIPTION:Regular Season match: No Problem vs Couples Ther
 apy
LOCATION:Chichibu Court 6
END:VEVENT
BEGIN:VEVENT
DTSTAMP:20260428T000000Z
UID:9d85bb55-83ee-4f7d-8cee-98682b61840a@ClaytonBocce
DTSTART;TZID=America/Los_Angeles:20260616T183000
DTEND;TZID=America/Los_Angeles:20260616T210000
STATUS:CONFIRMED
SUMMARY:No Problem vs Bocce Bankers
URL:/League/Schedule/2868
DESCRIPTION:Regular Season match: No Problem vs Bocce Banker
 s
LOCATION:Chichibu Court 1
END:VEVENT
BEGIN:VEVENT
DTSTAMP:20260428T000000Z
UID:a8fd9618-c442-4bc3-827a-1c256a726fb5@ClaytonBocce
DTSTART;TZID=America/Los_Angeles:20260623T183000
DTEND;TZID=America/Los_Angeles:20260623T210000
STATUS:CONFIRMED
SUMMARY:No Problem vs Banking On It
URL:/League/Schedule/2868
DESCRIPTION:Regular Season match: No Problem vs Banking On I
 t
LOCATION:Chichibu Court 3
END:VEVENT
BEGIN:VEVENT
DTSTAMP:20260428T000000Z
UID:a5319c97-d3e4-4744-b7a9-fc08d0c33e3c@ClaytonBocce
DTSTART;TZID=America/Los_Angeles:20260630T183000
DTEND;TZID=America/Los_Angeles:20260630T210000
STATUS:CONFIRMED
SUMMARY:No Problem vs Rolling Stones
URL:/League/Schedule/2868
DESCRIPTION:Regular Season match: No Problem vs Rolling Ston
 es
LOCATION:Chichibu Court 6
END:VEVENT
BEGIN:VEVENT
DTSTAMP:20260428T000000Z
UID:0d94c017-eefc-4eac-ab70-00d463d49cea@ClaytonBocce
DTSTART;TZID=America/Los_Angeles:20260707T183000
DTEND;TZID=America/Los_Angeles:20260707T210000
STATUS:CONFIRMED
SUMMARY:No Problem vs Fireballs
URL:/League/Schedule/2868
DESCRIPTION:Regular Season match: No Problem vs Fireballs
LOCATION:Chichibu Court 4
END:VEVENT
BEGIN:VEVENT
DTSTAMP:20260428T000000Z
UID:bd8486f0-3d5f-4401-9e45-de62b92d611c@ClaytonBocce
DTSTART;TZID=America/Los_Angeles:20260714T183000
DTEND;TZID=America/Los_Angeles:20260714T210000
STATUS:CONFIRMED
SUMMARY:No Problem vs Back To Bocce
URL:/League/Schedule/2868
DESCRIPTION:Regular Season match: No Problem vs Back To Bocc
 e
LOCATION:Chichibu Court 5
END:VEVENT
BEGIN:VEVENT
DTSTAMP:20260428T000000Z
UID:799079d8-d8de-48a4-b9d4-781e63e53289@ClaytonBocce
DTSTART;TZID=America/Los_Angeles:20260721T183000
DTEND;TZID=America/Los_Angeles:20260721T210000
STATUS:CONFIRMED
SUMMARY:No Problem vs Wild Bunch
URL:/League/Schedule/2868
DESCRIPTION:Regular Season match: No Problem vs Wild Bunch
LOCATION:Chichibu Court 4
END:VEVENT
BEGIN:VEVENT
DTSTAMP:20260428T000000Z
UID:6a1d0d72-012c-497a-a5ce-0de70a295d82@ClaytonBocce
DTSTART;TZID=America/Los_Angeles:20260804T183000
DTEND;TZID=America/Los_Angeles:20260804T210000
STATUS:CONFIRMED
SUMMARY:No Problem vs Celia's
URL:/League/Schedule/2868
DESCRIPTION:Regular Season match: No Problem vs Celia's
LOCATION:Chichibu Court 2
END:VEVENT
BEGIN:VEVENT
DTSTAMP:20260428T000000Z
UID:cfd55335-7c3e-4aff-a1d3-9e39b35b2d88@ClaytonBocce
DTSTART;TZID=America/Los_Angeles:20260811T183000
DTEND;TZID=America/Los_Angeles:20260811T210000
STATUS:CONFIRMED
SUMMARY:No Problem vs Let's Roll
URL:/League/Schedule/2868
DESCRIPTION:Regular Season match: No Problem vs Let's Roll
LOCATION:Chichibu Court 3
END:VEVENT
BEGIN:VEVENT
DTSTAMP:20260428T000000Z
UID:c0230e0e-8d81-4dbc-9793-6194027e878e@ClaytonBocce
DTSTART;TZID=America/Los_Angeles:20260818T183000
DTEND;TZID=America/Los_Angeles:20260818T210000
STATUS:CONFIRMED
SUMMARY:No Problem vs La Dolce Vita
URL:/League/Schedule/2868
DESCRIPTION:Regular Season match: No Problem vs La Dolce Vit
 a
LOCATION:Chichibu Court 1
END:VEVENT
END:VCALENDAR
