BEGIN:VCALENDAR
VERSION:2.0
PRODID:-//Clayton Bocce League
METHOD:PUBLISH
BEGIN:VTIMEZONE
TZID:America/Los_Angeles
X-LIC-LOCATION:America/Los_Angeles
BEGIN:DAYLIGHT
TZOFFSETFROM:-0800
TZOFFSETTO:-0700
TZNAME:PDT
DTSTART:20070311T020000
RRULE:FREQ=YEARLY;BYMONTH=3;BYDAY=2SU
END:DAYLIGHT
BEGIN:STANDARD
TZOFFSETFROM:-0700
TZOFFSETTO:-0800
TZNAME:PST
DTSTART:20071104T020000
RRULE:FREQ=YEARLY;BYMONTH=11;BYDAY=1SU
END:STANDARD
END:VTIMEZONE
BEGIN:VEVENT
DTSTAMP:20260428T000000Z
UID:c6103374-1185-4851-94ac-23af8411908e@ClaytonBocce
DTSTART;TZID=America/Los_Angeles:20260428T183000
DTEND;TZID=America/Los_Angeles:20260428T210000
STATUS:CONFIRMED
SUMMARY:Bocce Bankers vs Fireballs
URL:/League/Schedule/2877
DESCRIPTION:Regular Season match: Bocce Bankers vs Fireballs
LOCATION:Chichibu Court 6
END:VEVENT
BEGIN:VEVENT
DTSTAMP:20260428T000000Z
UID:503ef3d1-c568-4163-8a5e-56c9065650db@ClaytonBocce
DTSTART;TZID=America/Los_Angeles:20260505T183000
DTEND;TZID=America/Los_Angeles:20260505T210000
STATUS:CONFIRMED
SUMMARY:Bocce Bankers vs Wild Bunch
URL:/League/Schedule/2877
DESCRIPTION:Regular Season match: Bocce Bankers vs Wild Bunc
 h
LOCATION:Chichibu Court 2
END:VEVENT
BEGIN:VEVENT
DTSTAMP:20260428T000000Z
UID:aa7d7469-fae3-4b3a-b936-2c67e631a85a@ClaytonBocce
DTSTART;TZID=America/Los_Angeles:20260512T183000
DTEND;TZID=America/Los_Angeles:20260512T210000
STATUS:CONFIRMED
SUMMARY:Bocce Bankers vs Let's Roll
URL:/League/Schedule/2877
DESCRIPTION:Regular Season match: Bocce Bankers vs Let's Rol
 l
LOCATION:Chichibu Court 1
END:VEVENT
BEGIN:VEVENT
DTSTAMP:20260428T000000Z
UID:47d6ba07-c49d-4699-b284-b8baba86b542@ClaytonBocce
DTSTART;TZID=America/Los_Angeles:20260602T183000
DTEND;TZID=America/Los_Angeles:20260602T210000
STATUS:CONFIRMED
SUMMARY:Bocce Bankers vs Advance Auto Body
URL:/League/Schedule/2877
DESCRIPTION:Regular Season match: Bocce Bankers vs Advance A
 uto Body
LOCATION:Chichibu Court 4
END:VEVENT
BEGIN:VEVENT
DTSTAMP:20260428T000000Z
UID:bd08e5ed-006d-46b2-888d-6d73cd2acb2f@ClaytonBocce
DTSTART;TZID=America/Los_Angeles:20260609T183000
DTEND;TZID=America/Los_Angeles:20260609T210000
STATUS:CONFIRMED
SUMMARY:Bocce Bankers vs Spicy Meatballs
URL:/League/Schedule/2877
DESCRIPTION:Regular Season match: Bocce Bankers vs Spicy Mea
 tballs
LOCATION:Chichibu Court 5
END:VEVENT
BEGIN:VEVENT
DTSTAMP:20260428T000000Z
UID:9d85bb55-83ee-4f7d-8cee-98682b61840a@ClaytonBocce
DTSTART;TZID=America/Los_Angeles:20260616T183000
DTEND;TZID=America/Los_Angeles:20260616T210000
STATUS:CONFIRMED
SUMMARY:Bocce Bankers vs No Problem
URL:/League/Schedule/2877
DESCRIPTION:Regular Season match: Bocce Bankers vs No Proble
 m
LOCATION:Chichibu Court 1
END:VEVENT
BEGIN:VEVENT
DTSTAMP:20260428T000000Z
UID:2b63f729-dcfa-4c4d-891a-6b0df2dbf3e0@ClaytonBocce
DTSTART;TZID=America/Los_Angeles:20260623T183000
DTEND;TZID=America/Los_Angeles:20260623T210000
STATUS:CONFIRMED
SUMMARY:Bocce Bankers vs Rolling Stones
URL:/League/Schedule/2877
DESCRIPTION:Regular Season match: Bocce Bankers vs Rolling S
 tones
LOCATION:Chichibu Court 5
END:VEVENT
BEGIN:VEVENT
DTSTAMP:20260428T000000Z
UID:85fc5672-0476-4229-8192-7b1b8f53d042@ClaytonBocce
DTSTART;TZID=America/Los_Angeles:20260630T183000
DTEND;TZID=America/Los_Angeles:20260630T210000
STATUS:CONFIRMED
SUMMARY:Bocce Bankers vs Back To Bocce
URL:/League/Schedule/2877
DESCRIPTION:Regular Season match: Bocce Bankers vs Back To B
 occe
LOCATION:Chichibu Court 4
END:VEVENT
BEGIN:VEVENT
DTSTAMP:20260428T000000Z
UID:cacb7dcc-b71c-47d4-8f73-a617479a2201@ClaytonBocce
DTSTART;TZID=America/Los_Angeles:20260714T183000
DTEND;TZID=America/Los_Angeles:20260714T210000
STATUS:CONFIRMED
SUMMARY:Bocce Bankers vs Celia's
URL:/League/Schedule/2877
DESCRIPTION:Regular Season match: Bocce Bankers vs Celia's
LOCATION:Chichibu Court 3
END:VEVENT
BEGIN:VEVENT
DTSTAMP:20260428T000000Z
UID:3c6aa2a4-324e-4a4f-ad21-ab7fc7608e6a@ClaytonBocce
DTSTART;TZID=America/Los_Angeles:20260721T183000
DTEND;TZID=America/Los_Angeles:20260721T210000
STATUS:CONFIRMED
SUMMARY:Bocce Bankers vs La Dolce Vita
URL:/League/Schedule/2877
DESCRIPTION:Regular Season match: Bocce Bankers vs La Dolce 
 Vita
LOCATION:Chichibu Court 2
END:VEVENT
BEGIN:VEVENT
DTSTAMP:20260428T000000Z
UID:56a3d0c9-1802-47a5-aadb-c6166a25a281@ClaytonBocce
DTSTART;TZID=America/Los_Angeles:20260728T183000
DTEND;TZID=America/Los_Angeles:20260728T210000
STATUS:CONFIRMED
SUMMARY:Bocce Bankers vs Old Fashion Bocce
URL:/League/Schedule/2877
DESCRIPTION:Regular Season match: Bocce Bankers vs Old Fashi
 on Bocce
LOCATION:Chichibu Court 6
END:VEVENT
BEGIN:VEVENT
DTSTAMP:20260428T000000Z
UID:859210c9-ffdb-4478-bde0-a9b90f53bbe6@ClaytonBocce
DTSTART;TZID=America/Los_Angeles:20260804T183000
DTEND;TZID=America/Los_Angeles:20260804T210000
STATUS:CONFIRMED
SUMMARY:Bocce Bankers vs The Leftovers
URL:/League/Schedule/2877
DESCRIPTION:Regular Season match: Bocce Bankers vs The Lefto
 vers
LOCATION:Chichibu Court 1
END:VEVENT
BEGIN:VEVENT
DTSTAMP:20260428T000000Z
UID:178891be-44ee-43c2-b2f8-c2b75f5ab92c@ClaytonBocce
DTSTART;TZID=America/Los_Angeles:20260818T183000
DTEND;TZID=America/Los_Angeles:20260818T210000
STATUS:CONFIRMED
SUMMARY:Bocce Bankers vs Couples Therapy
URL:/League/Schedule/2877
DESCRIPTION:Regular Season match: Bocce Bankers vs Couples T
 herapy
LOCATION:Chichibu Court 3
END:VEVENT
BEGIN:VEVENT
DTSTAMP:20260428T000000Z
UID:5b0e17c6-4587-40f7-800a-97f8f5735014@ClaytonBocce
DTSTART;TZID=America/Los_Angeles:20260825T183000
DTEND;TZID=America/Los_Angeles:20260825T210000
STATUS:CONFIRMED
SUMMARY:Bocce Bankers vs Banking On It
URL:/League/Schedule/2877
DESCRIPTION:Regular Season match: Bocce Bankers vs Banking O
 n It
LOCATION:Chichibu Court 2
END:VEVENT
END:VCALENDAR
