BEGIN:VCALENDAR
VERSION:2.0
PRODID:-//Clayton Bocce League
METHOD:PUBLISH
BEGIN:VTIMEZONE
TZID:America/Los_Angeles
X-LIC-LOCATION:America/Los_Angeles
BEGIN:DAYLIGHT
TZOFFSETFROM:-0800
TZOFFSETTO:-0700
TZNAME:PDT
DTSTART:20070311T020000
RRULE:FREQ=YEARLY;BYMONTH=3;BYDAY=2SU
END:DAYLIGHT
BEGIN:STANDARD
TZOFFSETFROM:-0700
TZOFFSETTO:-0800
TZNAME:PST
DTSTART:20071104T020000
RRULE:FREQ=YEARLY;BYMONTH=11;BYDAY=1SU
END:STANDARD
END:VTIMEZONE
BEGIN:VEVENT
DTSTAMP:20260428T000000Z
UID:c6103374-1185-4851-94ac-23af8411908e@ClaytonBocce
DTSTART;TZID=America/Los_Angeles:20260428T183000
DTEND;TZID=America/Los_Angeles:20260428T210000
STATUS:CONFIRMED
SUMMARY:Fireballs vs Bocce Bankers
URL:/League/Schedule/2874
DESCRIPTION:Regular Season match: Fireballs vs Bocce Bankers
LOCATION:Chichibu Court 6
END:VEVENT
BEGIN:VEVENT
DTSTAMP:20260428T000000Z
UID:9971dcf2-9981-4252-bde4-02785f739ea4@ClaytonBocce
DTSTART;TZID=America/Los_Angeles:20260512T183000
DTEND;TZID=America/Los_Angeles:20260512T210000
STATUS:CONFIRMED
SUMMARY:Fireballs vs Rolling Stones
URL:/League/Schedule/2874
DESCRIPTION:Regular Season match: Fireballs vs Rolling Stone
 s
LOCATION:Chichibu Court 2
END:VEVENT
BEGIN:VEVENT
DTSTAMP:20260428T000000Z
UID:6fd66d76-a514-48f1-9971-fbcdefada1c7@ClaytonBocce
DTSTART;TZID=America/Los_Angeles:20260519T183000
DTEND;TZID=America/Los_Angeles:20260519T210000
STATUS:CONFIRMED
SUMMARY:Fireballs vs Back To Bocce
URL:/League/Schedule/2874
DESCRIPTION:Regular Season match: Fireballs vs Back To Bocce
LOCATION:Chichibu Court 4
END:VEVENT
BEGIN:VEVENT
DTSTAMP:20260428T000000Z
UID:29dd946d-a0da-4ddd-a2a2-3718ac2a5980@ClaytonBocce
DTSTART;TZID=America/Los_Angeles:20260526T183000
DTEND;TZID=America/Los_Angeles:20260526T210000
STATUS:CONFIRMED
SUMMARY:Fireballs vs Celia's
URL:/League/Schedule/2874
DESCRIPTION:Regular Season match: Fireballs vs Celia's
LOCATION:Chichibu Court 6
END:VEVENT
BEGIN:VEVENT
DTSTAMP:20260428T000000Z
UID:074619e8-7c5c-4951-a098-2f99f50edbe1@ClaytonBocce
DTSTART;TZID=America/Los_Angeles:20260602T183000
DTEND;TZID=America/Los_Angeles:20260602T210000
STATUS:CONFIRMED
SUMMARY:Fireballs vs La Dolce Vita
URL:/League/Schedule/2874
DESCRIPTION:Regular Season match: Fireballs vs La Dolce Vita
LOCATION:Chichibu Court 1
END:VEVENT
BEGIN:VEVENT
DTSTAMP:20260428T000000Z
UID:bd7e9d69-9d12-4e17-8e20-a2eb2c34ed17@ClaytonBocce
DTSTART;TZID=America/Los_Angeles:20260609T183000
DTEND;TZID=America/Los_Angeles:20260609T210000
STATUS:CONFIRMED
SUMMARY:Fireballs vs Old Fashion Bocce
URL:/League/Schedule/2874
DESCRIPTION:Regular Season match: Fireballs vs Old Fashion B
 occe
LOCATION:Chichibu Court 3
END:VEVENT
BEGIN:VEVENT
DTSTAMP:20260428T000000Z
UID:ec5c5243-f570-4efe-8820-bffbcb78304e@ClaytonBocce
DTSTART;TZID=America/Los_Angeles:20260616T183000
DTEND;TZID=America/Los_Angeles:20260616T210000
STATUS:CONFIRMED
SUMMARY:Fireballs vs The Leftovers
URL:/League/Schedule/2874
DESCRIPTION:Regular Season match: Fireballs vs The Leftovers
LOCATION:Chichibu Court 2
END:VEVENT
BEGIN:VEVENT
DTSTAMP:20260428T000000Z
UID:b3f909cc-e497-47a4-af92-c6489af04a45@ClaytonBocce
DTSTART;TZID=America/Los_Angeles:20260623T183000
DTEND;TZID=America/Los_Angeles:20260623T210000
STATUS:CONFIRMED
SUMMARY:Fireballs vs Couples Therapy
URL:/League/Schedule/2874
DESCRIPTION:Regular Season match: Fireballs vs Couples Thera
 py
LOCATION:Chichibu Court 4
END:VEVENT
BEGIN:VEVENT
DTSTAMP:20260428T000000Z
UID:846cbcec-2b2d-4447-b912-0ae30797bb20@ClaytonBocce
DTSTART;TZID=America/Los_Angeles:20260630T183000
DTEND;TZID=America/Los_Angeles:20260630T210000
STATUS:CONFIRMED
SUMMARY:Fireballs vs Banking On It
URL:/League/Schedule/2874
DESCRIPTION:Regular Season match: Fireballs vs Banking On It
LOCATION:Chichibu Court 5
END:VEVENT
BEGIN:VEVENT
DTSTAMP:20260428T000000Z
UID:0d94c017-eefc-4eac-ab70-00d463d49cea@ClaytonBocce
DTSTART;TZID=America/Los_Angeles:20260707T183000
DTEND;TZID=America/Los_Angeles:20260707T210000
STATUS:CONFIRMED
SUMMARY:Fireballs vs No Problem
URL:/League/Schedule/2874
DESCRIPTION:Regular Season match: Fireballs vs No Problem
LOCATION:Chichibu Court 4
END:VEVENT
BEGIN:VEVENT
DTSTAMP:20260428T000000Z
UID:99bdac11-9c06-4138-a404-3baf1c69c55e@ClaytonBocce
DTSTART;TZID=America/Los_Angeles:20260714T183000
DTEND;TZID=America/Los_Angeles:20260714T210000
STATUS:CONFIRMED
SUMMARY:Fireballs vs Wild Bunch
URL:/League/Schedule/2874
DESCRIPTION:Regular Season match: Fireballs vs Wild Bunch
LOCATION:Chichibu Court 6
END:VEVENT
BEGIN:VEVENT
DTSTAMP:20260428T000000Z
UID:b94b5ee6-6de8-431f-b003-962645fbdee5@ClaytonBocce
DTSTART;TZID=America/Los_Angeles:20260728T183000
DTEND;TZID=America/Los_Angeles:20260728T210000
STATUS:CONFIRMED
SUMMARY:Fireballs vs Let's Roll
URL:/League/Schedule/2874
DESCRIPTION:Regular Season match: Fireballs vs Let's Roll
LOCATION:Chichibu Court 5
END:VEVENT
BEGIN:VEVENT
DTSTAMP:20260428T000000Z
UID:c18aa428-b4db-4774-a2a0-23b2d4473660@ClaytonBocce
DTSTART;TZID=America/Los_Angeles:20260811T183000
DTEND;TZID=America/Los_Angeles:20260811T210000
STATUS:CONFIRMED
SUMMARY:Fireballs vs Advance Auto Body
URL:/League/Schedule/2874
DESCRIPTION:Regular Season match: Fireballs vs Advance Auto 
 Body
LOCATION:Chichibu Court 2
END:VEVENT
BEGIN:VEVENT
DTSTAMP:20260428T000000Z
UID:e7a4cd2c-8f33-412b-bb92-6f0ecdea6429@ClaytonBocce
DTSTART;TZID=America/Los_Angeles:20260825T183000
DTEND;TZID=America/Los_Angeles:20260825T210000
STATUS:CONFIRMED
SUMMARY:Fireballs vs Spicy Meatballs
URL:/League/Schedule/2874
DESCRIPTION:Regular Season match: Fireballs vs Spicy Meatbal
 ls
LOCATION:Chichibu Court 5
END:VEVENT
END:VCALENDAR
