BEGIN:VCALENDAR
VERSION:2.0
PRODID:-//Clayton Bocce League
METHOD:PUBLISH
BEGIN:VTIMEZONE
TZID:America/Los_Angeles
X-LIC-LOCATION:America/Los_Angeles
BEGIN:DAYLIGHT
TZOFFSETFROM:-0800
TZOFFSETTO:-0700
TZNAME:PDT
DTSTART:20070311T020000
RRULE:FREQ=YEARLY;BYMONTH=3;BYDAY=2SU
END:DAYLIGHT
BEGIN:STANDARD
TZOFFSETFROM:-0700
TZOFFSETTO:-0800
TZNAME:PST
DTSTART:20071104T020000
RRULE:FREQ=YEARLY;BYMONTH=11;BYDAY=1SU
END:STANDARD
END:VTIMEZONE
BEGIN:VEVENT
DTSTAMP:20260428T000000Z
UID:14d992da-bd44-4784-9801-a3d6b368c474@ClaytonBocce
DTSTART;TZID=America/Los_Angeles:20260428T183000
DTEND;TZID=America/Los_Angeles:20260428T210000
STATUS:CONFIRMED
SUMMARY:Wild Bunch vs Spicy Meatballs
URL:/League/Schedule/2872
DESCRIPTION:Regular Season match: Wild Bunch vs Spicy Meatba
 lls
LOCATION:Chichibu Court 4
END:VEVENT
BEGIN:VEVENT
DTSTAMP:20260428T000000Z
UID:503ef3d1-c568-4163-8a5e-56c9065650db@ClaytonBocce
DTSTART;TZID=America/Los_Angeles:20260505T183000
DTEND;TZID=America/Los_Angeles:20260505T210000
STATUS:CONFIRMED
SUMMARY:Wild Bunch vs Bocce Bankers
URL:/League/Schedule/2872
DESCRIPTION:Regular Season match: Wild Bunch vs Bocce Banker
 s
LOCATION:Chichibu Court 2
END:VEVENT
BEGIN:VEVENT
DTSTAMP:20260428T000000Z
UID:ed79e742-b02f-44e4-a28f-ee36312462af@ClaytonBocce
DTSTART;TZID=America/Los_Angeles:20260519T183000
DTEND;TZID=America/Los_Angeles:20260519T210000
STATUS:CONFIRMED
SUMMARY:Wild Bunch vs Rolling Stones
URL:/League/Schedule/2872
DESCRIPTION:Regular Season match: Wild Bunch vs Rolling Ston
 es
LOCATION:Chichibu Court 3
END:VEVENT
BEGIN:VEVENT
DTSTAMP:20260428T000000Z
UID:3056c6cd-c2eb-42bd-a3b1-6bcb2a592bfe@ClaytonBocce
DTSTART;TZID=America/Los_Angeles:20260526T183000
DTEND;TZID=America/Los_Angeles:20260526T210000
STATUS:CONFIRMED
SUMMARY:Wild Bunch vs Back To Bocce
URL:/League/Schedule/2872
DESCRIPTION:Regular Season match: Wild Bunch vs Back To Bocc
 e
LOCATION:Chichibu Court 1
END:VEVENT
BEGIN:VEVENT
DTSTAMP:20260428T000000Z
UID:81f5ca5a-a920-48b1-886f-afc5ba21a034@ClaytonBocce
DTSTART;TZID=America/Los_Angeles:20260602T183000
DTEND;TZID=America/Los_Angeles:20260602T210000
STATUS:CONFIRMED
SUMMARY:Wild Bunch vs Celia's
URL:/League/Schedule/2872
DESCRIPTION:Regular Season match: Wild Bunch vs Celia's
LOCATION:Chichibu Court 5
END:VEVENT
BEGIN:VEVENT
DTSTAMP:20260428T000000Z
UID:15bf1f66-e484-4c77-af27-4a365c522c82@ClaytonBocce
DTSTART;TZID=America/Los_Angeles:20260609T183000
DTEND;TZID=America/Los_Angeles:20260609T210000
STATUS:CONFIRMED
SUMMARY:Wild Bunch vs La Dolce Vita
URL:/League/Schedule/2872
DESCRIPTION:Regular Season match: Wild Bunch vs La Dolce Vit
 a
LOCATION:Chichibu Court 2
END:VEVENT
BEGIN:VEVENT
DTSTAMP:20260428T000000Z
UID:18f4402d-d821-4500-afe6-faa6c70b34dc@ClaytonBocce
DTSTART;TZID=America/Los_Angeles:20260616T183000
DTEND;TZID=America/Los_Angeles:20260616T210000
STATUS:CONFIRMED
SUMMARY:Wild Bunch vs Old Fashion Bocce
URL:/League/Schedule/2872
DESCRIPTION:Regular Season match: Wild Bunch vs Old Fashion 
 Bocce
LOCATION:Chichibu Court 6
END:VEVENT
BEGIN:VEVENT
DTSTAMP:20260428T000000Z
UID:012f9868-42e4-42af-bae1-578d604db240@ClaytonBocce
DTSTART;TZID=America/Los_Angeles:20260623T183000
DTEND;TZID=America/Los_Angeles:20260623T210000
STATUS:CONFIRMED
SUMMARY:Wild Bunch vs The Leftovers
URL:/League/Schedule/2872
DESCRIPTION:Regular Season match: Wild Bunch vs The Leftover
 s
LOCATION:Chichibu Court 1
END:VEVENT
BEGIN:VEVENT
DTSTAMP:20260428T000000Z
UID:2dbb5be6-e58b-44c4-b21c-ed521272c939@ClaytonBocce
DTSTART;TZID=America/Los_Angeles:20260630T183000
DTEND;TZID=America/Los_Angeles:20260630T210000
STATUS:CONFIRMED
SUMMARY:Wild Bunch vs Couples Therapy
URL:/League/Schedule/2872
DESCRIPTION:Regular Season match: Wild Bunch vs Couples Ther
 apy
LOCATION:Chichibu Court 3
END:VEVENT
BEGIN:VEVENT
DTSTAMP:20260428T000000Z
UID:620b6087-5313-40c1-b777-688c7a6b0e17@ClaytonBocce
DTSTART;TZID=America/Los_Angeles:20260707T183000
DTEND;TZID=America/Los_Angeles:20260707T210000
STATUS:CONFIRMED
SUMMARY:Wild Bunch vs Banking On It
URL:/League/Schedule/2872
DESCRIPTION:Regular Season match: Wild Bunch vs Banking On I
 t
LOCATION:Chichibu Court 2
END:VEVENT
BEGIN:VEVENT
DTSTAMP:20260428T000000Z
UID:99bdac11-9c06-4138-a404-3baf1c69c55e@ClaytonBocce
DTSTART;TZID=America/Los_Angeles:20260714T183000
DTEND;TZID=America/Los_Angeles:20260714T210000
STATUS:CONFIRMED
SUMMARY:Wild Bunch vs Fireballs
URL:/League/Schedule/2872
DESCRIPTION:Regular Season match: Wild Bunch vs Fireballs
LOCATION:Chichibu Court 6
END:VEVENT
BEGIN:VEVENT
DTSTAMP:20260428T000000Z
UID:799079d8-d8de-48a4-b9d4-781e63e53289@ClaytonBocce
DTSTART;TZID=America/Los_Angeles:20260721T183000
DTEND;TZID=America/Los_Angeles:20260721T210000
STATUS:CONFIRMED
SUMMARY:Wild Bunch vs No Problem
URL:/League/Schedule/2872
DESCRIPTION:Regular Season match: Wild Bunch vs No Problem
LOCATION:Chichibu Court 4
END:VEVENT
BEGIN:VEVENT
DTSTAMP:20260428T000000Z
UID:13730a45-0d07-4462-8530-cab2e60b1371@ClaytonBocce
DTSTART;TZID=America/Los_Angeles:20260804T183000
DTEND;TZID=America/Los_Angeles:20260804T210000
STATUS:CONFIRMED
SUMMARY:Wild Bunch vs Let's Roll
URL:/League/Schedule/2872
DESCRIPTION:Regular Season match: Wild Bunch vs Let's Roll
LOCATION:Chichibu Court 4
END:VEVENT
BEGIN:VEVENT
DTSTAMP:20260428T000000Z
UID:50149ac2-fe9e-4cb1-8572-f993c8ee3a1f@ClaytonBocce
DTSTART;TZID=America/Los_Angeles:20260818T183000
DTEND;TZID=America/Los_Angeles:20260818T210000
STATUS:CONFIRMED
SUMMARY:Wild Bunch vs Advance Auto Body
URL:/League/Schedule/2872
DESCRIPTION:Regular Season match: Wild Bunch vs Advance Auto
  Body
LOCATION:Chichibu Court 5
END:VEVENT
END:VCALENDAR
