BEGIN:VCALENDAR
VERSION:2.0
PRODID:-//Clayton Bocce League
METHOD:PUBLISH
BEGIN:VTIMEZONE
TZID:America/Los_Angeles
X-LIC-LOCATION:America/Los_Angeles
BEGIN:DAYLIGHT
TZOFFSETFROM:-0800
TZOFFSETTO:-0700
TZNAME:PDT
DTSTART:20070311T020000
RRULE:FREQ=YEARLY;BYMONTH=3;BYDAY=2SU
END:DAYLIGHT
BEGIN:STANDARD
TZOFFSETFROM:-0700
TZOFFSETTO:-0800
TZNAME:PST
DTSTART:20071104T020000
RRULE:FREQ=YEARLY;BYMONTH=11;BYDAY=1SU
END:STANDARD
END:VTIMEZONE
BEGIN:VEVENT
DTSTAMP:20260428T000000Z
UID:14d992da-bd44-4784-9801-a3d6b368c474@ClaytonBocce
DTSTART;TZID=America/Los_Angeles:20260428T183000
DTEND;TZID=America/Los_Angeles:20260428T210000
STATUS:CONFIRMED
SUMMARY:Spicy Meatballs vs Wild Bunch
URL:/League/Schedule/2879
DESCRIPTION:Regular Season match: Spicy Meatballs vs Wild Bu
 nch
LOCATION:Chichibu Court 4
END:VEVENT
BEGIN:VEVENT
DTSTAMP:20260428T000000Z
UID:0fb52242-5d10-4dad-b8ff-7345fb6f886e@ClaytonBocce
DTSTART;TZID=America/Los_Angeles:20260505T183000
DTEND;TZID=America/Los_Angeles:20260505T210000
STATUS:CONFIRMED
SUMMARY:Spicy Meatballs vs Let's Roll
URL:/League/Schedule/2879
DESCRIPTION:Regular Season match: Spicy Meatballs vs Let's R
 oll
LOCATION:Chichibu Court 3
END:VEVENT
BEGIN:VEVENT
DTSTAMP:20260428T000000Z
UID:85edbb75-4c8d-4162-b945-6b04b9946343@ClaytonBocce
DTSTART;TZID=America/Los_Angeles:20260519T183000
DTEND;TZID=America/Los_Angeles:20260519T210000
STATUS:CONFIRMED
SUMMARY:Spicy Meatballs vs Advance Auto Body
URL:/League/Schedule/2879
DESCRIPTION:Regular Season match: Spicy Meatballs vs Advance
  Auto Body
LOCATION:Chichibu Court 6
END:VEVENT
BEGIN:VEVENT
DTSTAMP:20260428T000000Z
UID:ce864707-f7a9-44b4-ab6a-1082ca6de065@ClaytonBocce
DTSTART;TZID=America/Los_Angeles:20260526T183000
DTEND;TZID=America/Los_Angeles:20260526T210000
STATUS:CONFIRMED
SUMMARY:Spicy Meatballs vs No Problem
URL:/League/Schedule/2879
DESCRIPTION:Regular Season match: Spicy Meatballs vs No Prob
 lem
LOCATION:Chichibu Court 2
END:VEVENT
BEGIN:VEVENT
DTSTAMP:20260428T000000Z
UID:bd08e5ed-006d-46b2-888d-6d73cd2acb2f@ClaytonBocce
DTSTART;TZID=America/Los_Angeles:20260609T183000
DTEND;TZID=America/Los_Angeles:20260609T210000
STATUS:CONFIRMED
SUMMARY:Spicy Meatballs vs Bocce Bankers
URL:/League/Schedule/2879
DESCRIPTION:Regular Season match: Spicy Meatballs vs Bocce B
 ankers
LOCATION:Chichibu Court 5
END:VEVENT
BEGIN:VEVENT
DTSTAMP:20260428T000000Z
UID:2e50e2e6-c244-4ee8-8609-349ccd067fb9@ClaytonBocce
DTSTART;TZID=America/Los_Angeles:20260616T183000
DTEND;TZID=America/Los_Angeles:20260616T210000
STATUS:CONFIRMED
SUMMARY:Spicy Meatballs vs Rolling Stones
URL:/League/Schedule/2879
DESCRIPTION:Regular Season match: Spicy Meatballs vs Rolling
  Stones
LOCATION:Chichibu Court 4
END:VEVENT
BEGIN:VEVENT
DTSTAMP:20260428T000000Z
UID:45e0e49e-1eb2-4599-8fc1-4b19ad830214@ClaytonBocce
DTSTART;TZID=America/Los_Angeles:20260623T183000
DTEND;TZID=America/Los_Angeles:20260623T210000
STATUS:CONFIRMED
SUMMARY:Spicy Meatballs vs Back To Bocce
URL:/League/Schedule/2879
DESCRIPTION:Regular Season match: Spicy Meatballs vs Back To
  Bocce
LOCATION:Chichibu Court 2
END:VEVENT
BEGIN:VEVENT
DTSTAMP:20260428T000000Z
UID:2beefba4-aa03-425d-b326-93ab97e0e6e8@ClaytonBocce
DTSTART;TZID=America/Los_Angeles:20260707T183000
DTEND;TZID=America/Los_Angeles:20260707T210000
STATUS:CONFIRMED
SUMMARY:Spicy Meatballs vs Celia's
URL:/League/Schedule/2879
DESCRIPTION:Regular Season match: Spicy Meatballs vs Celia's
LOCATION:Chichibu Court 6
END:VEVENT
BEGIN:VEVENT
DTSTAMP:20260428T000000Z
UID:d2692dec-a34f-4a23-97b6-d37d9479ad67@ClaytonBocce
DTSTART;TZID=America/Los_Angeles:20260714T183000
DTEND;TZID=America/Los_Angeles:20260714T210000
STATUS:CONFIRMED
SUMMARY:Spicy Meatballs vs La Dolce Vita
URL:/League/Schedule/2879
DESCRIPTION:Regular Season match: Spicy Meatballs vs La Dolc
 e Vita
LOCATION:Chichibu Court 1
END:VEVENT
BEGIN:VEVENT
DTSTAMP:20260428T000000Z
UID:1b0a83fa-ca78-4036-8475-b24d4470e362@ClaytonBocce
DTSTART;TZID=America/Los_Angeles:20260721T183000
DTEND;TZID=America/Los_Angeles:20260721T210000
STATUS:CONFIRMED
SUMMARY:Spicy Meatballs vs Old Fashion Bocce
URL:/League/Schedule/2879
DESCRIPTION:Regular Season match: Spicy Meatballs vs Old Fas
 hion Bocce
LOCATION:Chichibu Court 3
END:VEVENT
BEGIN:VEVENT
DTSTAMP:20260428T000000Z
UID:fe3a5662-c7e3-4d0d-87c3-aae503f85fd4@ClaytonBocce
DTSTART;TZID=America/Los_Angeles:20260728T183000
DTEND;TZID=America/Los_Angeles:20260728T210000
STATUS:CONFIRMED
SUMMARY:Spicy Meatballs vs The Leftovers
URL:/League/Schedule/2879
DESCRIPTION:Regular Season match: Spicy Meatballs vs The Lef
 tovers
LOCATION:Chichibu Court 4
END:VEVENT
BEGIN:VEVENT
DTSTAMP:20260428T000000Z
UID:18ae3088-9eb6-4559-b194-1a395f99a0bc@ClaytonBocce
DTSTART;TZID=America/Los_Angeles:20260811T183000
DTEND;TZID=America/Los_Angeles:20260811T210000
STATUS:CONFIRMED
SUMMARY:Spicy Meatballs vs Couples Therapy
URL:/League/Schedule/2879
DESCRIPTION:Regular Season match: Spicy Meatballs vs Couples
  Therapy
LOCATION:Chichibu Court 5
END:VEVENT
BEGIN:VEVENT
DTSTAMP:20260428T000000Z
UID:5f8bd70b-f51a-4d49-891f-7f71f95faa70@ClaytonBocce
DTSTART;TZID=America/Los_Angeles:20260818T183000
DTEND;TZID=America/Los_Angeles:20260818T210000
STATUS:CONFIRMED
SUMMARY:Spicy Meatballs vs Banking On It
URL:/League/Schedule/2879
DESCRIPTION:Regular Season match: Spicy Meatballs vs Banking
  On It
LOCATION:Chichibu Court 6
END:VEVENT
BEGIN:VEVENT
DTSTAMP:20260428T000000Z
UID:e7a4cd2c-8f33-412b-bb92-6f0ecdea6429@ClaytonBocce
DTSTART;TZID=America/Los_Angeles:20260825T183000
DTEND;TZID=America/Los_Angeles:20260825T210000
STATUS:CONFIRMED
SUMMARY:Spicy Meatballs vs Fireballs
URL:/League/Schedule/2879
DESCRIPTION:Regular Season match: Spicy Meatballs vs Firebal
 ls
LOCATION:Chichibu Court 5
END:VEVENT
END:VCALENDAR
