BEGIN:VCALENDAR
VERSION:2.0
PRODID:-//Clayton Bocce League
METHOD:PUBLISH
BEGIN:VTIMEZONE
TZID:America/Los_Angeles
X-LIC-LOCATION:America/Los_Angeles
BEGIN:DAYLIGHT
TZOFFSETFROM:-0800
TZOFFSETTO:-0700
TZNAME:PDT
DTSTART:20070311T020000
RRULE:FREQ=YEARLY;BYMONTH=3;BYDAY=2SU
END:DAYLIGHT
BEGIN:STANDARD
TZOFFSETFROM:-0700
TZOFFSETTO:-0800
TZNAME:PST
DTSTART:20071104T020000
RRULE:FREQ=YEARLY;BYMONTH=11;BYDAY=1SU
END:STANDARD
END:VTIMEZONE
BEGIN:VEVENT
DTSTAMP:20260428T000000Z
UID:1a71a0f1-c57e-46cf-9d67-f9da7f543cb2@ClaytonBocce
DTSTART;TZID=America/Los_Angeles:20260428T183000
DTEND;TZID=America/Los_Angeles:20260428T210000
STATUS:CONFIRMED
SUMMARY:The Leftovers vs Celia's
URL:/League/Schedule/2880
DESCRIPTION:Regular Season match: The Leftovers vs Celia's
LOCATION:Chichibu Court 3
END:VEVENT
BEGIN:VEVENT
DTSTAMP:20260428T000000Z
UID:80002f76-a8b1-464b-9355-a30ffa8985de@ClaytonBocce
DTSTART;TZID=America/Los_Angeles:20260505T183000
DTEND;TZID=America/Los_Angeles:20260505T210000
STATUS:CONFIRMED
SUMMARY:The Leftovers vs La Dolce Vita
URL:/League/Schedule/2880
DESCRIPTION:Regular Season match: The Leftovers vs La Dolce 
 Vita
LOCATION:Chichibu Court 5
END:VEVENT
BEGIN:VEVENT
DTSTAMP:20260428T000000Z
UID:fdfc32ee-53d5-4ed0-8dd1-bc3154788bca@ClaytonBocce
DTSTART;TZID=America/Los_Angeles:20260512T183000
DTEND;TZID=America/Los_Angeles:20260512T210000
STATUS:CONFIRMED
SUMMARY:The Leftovers vs Old Fashion Bocce
URL:/League/Schedule/2880
DESCRIPTION:Regular Season match: The Leftovers vs Old Fashi
 on Bocce
LOCATION:Chichibu Court 4
END:VEVENT
BEGIN:VEVENT
DTSTAMP:20260428T000000Z
UID:000c6d04-9442-482b-99df-efc8d915c586@ClaytonBocce
DTSTART;TZID=America/Los_Angeles:20260519T183000
DTEND;TZID=America/Los_Angeles:20260519T210000
STATUS:CONFIRMED
SUMMARY:The Leftovers vs No Problem
URL:/League/Schedule/2880
DESCRIPTION:Regular Season match: The Leftovers vs No Proble
 m
LOCATION:Chichibu Court 1
END:VEVENT
BEGIN:VEVENT
DTSTAMP:20260428T000000Z
UID:b8bd8e02-d14f-421d-9def-f14faa615b4b@ClaytonBocce
DTSTART;TZID=America/Los_Angeles:20260526T183000
DTEND;TZID=America/Los_Angeles:20260526T210000
STATUS:CONFIRMED
SUMMARY:The Leftovers vs Couples Therapy
URL:/League/Schedule/2880
DESCRIPTION:Regular Season match: The Leftovers vs Couples T
 herapy
LOCATION:Chichibu Court 3
END:VEVENT
BEGIN:VEVENT
DTSTAMP:20260428T000000Z
UID:a9bd1708-c633-42df-b4e3-7236c0cabca4@ClaytonBocce
DTSTART;TZID=America/Los_Angeles:20260609T183000
DTEND;TZID=America/Los_Angeles:20260609T210000
STATUS:CONFIRMED
SUMMARY:The Leftovers vs Banking On It
URL:/League/Schedule/2880
DESCRIPTION:Regular Season match: The Leftovers vs Banking O
 n It
LOCATION:Chichibu Court 6
END:VEVENT
BEGIN:VEVENT
DTSTAMP:20260428T000000Z
UID:ec5c5243-f570-4efe-8820-bffbcb78304e@ClaytonBocce
DTSTART;TZID=America/Los_Angeles:20260616T183000
DTEND;TZID=America/Los_Angeles:20260616T210000
STATUS:CONFIRMED
SUMMARY:The Leftovers vs Fireballs
URL:/League/Schedule/2880
DESCRIPTION:Regular Season match: The Leftovers vs Fireballs
LOCATION:Chichibu Court 2
END:VEVENT
BEGIN:VEVENT
DTSTAMP:20260428T000000Z
UID:012f9868-42e4-42af-bae1-578d604db240@ClaytonBocce
DTSTART;TZID=America/Los_Angeles:20260623T183000
DTEND;TZID=America/Los_Angeles:20260623T210000
STATUS:CONFIRMED
SUMMARY:The Leftovers vs Wild Bunch
URL:/League/Schedule/2880
DESCRIPTION:Regular Season match: The Leftovers vs Wild Bunc
 h
LOCATION:Chichibu Court 1
END:VEVENT
BEGIN:VEVENT
DTSTAMP:20260428T000000Z
UID:b389e0fd-8823-4758-a15f-d5fe9b2c8785@ClaytonBocce
DTSTART;TZID=America/Los_Angeles:20260707T183000
DTEND;TZID=America/Los_Angeles:20260707T210000
STATUS:CONFIRMED
SUMMARY:The Leftovers vs Let's Roll
URL:/League/Schedule/2880
DESCRIPTION:Regular Season match: The Leftovers vs Let's Rol
 l
LOCATION:Chichibu Court 3
END:VEVENT
BEGIN:VEVENT
DTSTAMP:20260428T000000Z
UID:6e6aaae6-4d22-4879-873a-b93e5aa0b91d@ClaytonBocce
DTSTART;TZID=America/Los_Angeles:20260721T183000
DTEND;TZID=America/Los_Angeles:20260721T210000
STATUS:CONFIRMED
SUMMARY:The Leftovers vs Advance Auto Body
URL:/League/Schedule/2880
DESCRIPTION:Regular Season match: The Leftovers vs Advance A
 uto Body
LOCATION:Chichibu Court 6
END:VEVENT
BEGIN:VEVENT
DTSTAMP:20260428T000000Z
UID:fe3a5662-c7e3-4d0d-87c3-aae503f85fd4@ClaytonBocce
DTSTART;TZID=America/Los_Angeles:20260728T183000
DTEND;TZID=America/Los_Angeles:20260728T210000
STATUS:CONFIRMED
SUMMARY:The Leftovers vs Spicy Meatballs
URL:/League/Schedule/2880
DESCRIPTION:Regular Season match: The Leftovers vs Spicy Mea
 tballs
LOCATION:Chichibu Court 4
END:VEVENT
BEGIN:VEVENT
DTSTAMP:20260428T000000Z
UID:859210c9-ffdb-4478-bde0-a9b90f53bbe6@ClaytonBocce
DTSTART;TZID=America/Los_Angeles:20260804T183000
DTEND;TZID=America/Los_Angeles:20260804T210000
STATUS:CONFIRMED
SUMMARY:The Leftovers vs Bocce Bankers
URL:/League/Schedule/2880
DESCRIPTION:Regular Season match: The Leftovers vs Bocce Ban
 kers
LOCATION:Chichibu Court 1
END:VEVENT
BEGIN:VEVENT
DTSTAMP:20260428T000000Z
UID:b89eca0f-1cdf-44f7-a21b-b2ee6298d587@ClaytonBocce
DTSTART;TZID=America/Los_Angeles:20260811T183000
DTEND;TZID=America/Los_Angeles:20260811T210000
STATUS:CONFIRMED
SUMMARY:The Leftovers vs Rolling Stones
URL:/League/Schedule/2880
DESCRIPTION:Regular Season match: The Leftovers vs Rolling S
 tones
LOCATION:Chichibu Court 6
END:VEVENT
BEGIN:VEVENT
DTSTAMP:20260428T000000Z
UID:1e357a5b-737d-467a-9f34-4c25c9b1f498@ClaytonBocce
DTSTART;TZID=America/Los_Angeles:20260818T183000
DTEND;TZID=America/Los_Angeles:20260818T210000
STATUS:CONFIRMED
SUMMARY:The Leftovers vs Back To Bocce
URL:/League/Schedule/2880
DESCRIPTION:Regular Season match: The Leftovers vs Back To B
 occe
LOCATION:Chichibu Court 4
END:VEVENT
END:VCALENDAR
