BEGIN:VCALENDAR
VERSION:2.0
PRODID:-//Clayton Bocce League
METHOD:PUBLISH
BEGIN:VTIMEZONE
TZID:America/Los_Angeles
X-LIC-LOCATION:America/Los_Angeles
BEGIN:DAYLIGHT
TZOFFSETFROM:-0800
TZOFFSETTO:-0700
TZNAME:PDT
DTSTART:20070311T020000
RRULE:FREQ=YEARLY;BYMONTH=3;BYDAY=2SU
END:DAYLIGHT
BEGIN:STANDARD
TZOFFSETFROM:-0700
TZOFFSETTO:-0800
TZNAME:PST
DTSTART:20071104T020000
RRULE:FREQ=YEARLY;BYMONTH=11;BYDAY=1SU
END:STANDARD
END:VTIMEZONE
BEGIN:VEVENT
DTSTAMP:20260428T000000Z
UID:1a71a0f1-c57e-46cf-9d67-f9da7f543cb2@ClaytonBocce
DTSTART;TZID=America/Los_Angeles:20260428T183000
DTEND;TZID=America/Los_Angeles:20260428T210000
STATUS:CONFIRMED
SUMMARY:Celia's vs The Leftovers
URL:/League/Schedule/2871
DESCRIPTION:Regular Season match: Celia's vs The Leftovers
LOCATION:Chichibu Court 3
END:VEVENT
BEGIN:VEVENT
DTSTAMP:20260428T000000Z
UID:08415476-9a7e-4e6b-9669-0bb27c899f77@ClaytonBocce
DTSTART;TZID=America/Los_Angeles:20260505T183000
DTEND;TZID=America/Los_Angeles:20260505T210000
STATUS:CONFIRMED
SUMMARY:Celia's vs Couples Therapy
URL:/League/Schedule/2871
DESCRIPTION:Regular Season match: Celia's vs Couples Therapy
LOCATION:Chichibu Court 4
END:VEVENT
BEGIN:VEVENT
DTSTAMP:20260428T000000Z
UID:92ed85f5-85c4-4bcc-9a55-8d92d184a761@ClaytonBocce
DTSTART;TZID=America/Los_Angeles:20260519T183000
DTEND;TZID=America/Los_Angeles:20260519T210000
STATUS:CONFIRMED
SUMMARY:Celia's vs Banking On It
URL:/League/Schedule/2871
DESCRIPTION:Regular Season match: Celia's vs Banking On It
LOCATION:Chichibu Court 2
END:VEVENT
BEGIN:VEVENT
DTSTAMP:20260428T000000Z
UID:29dd946d-a0da-4ddd-a2a2-3718ac2a5980@ClaytonBocce
DTSTART;TZID=America/Los_Angeles:20260526T183000
DTEND;TZID=America/Los_Angeles:20260526T210000
STATUS:CONFIRMED
SUMMARY:Celia's vs Fireballs
URL:/League/Schedule/2871
DESCRIPTION:Regular Season match: Celia's vs Fireballs
LOCATION:Chichibu Court 6
END:VEVENT
BEGIN:VEVENT
DTSTAMP:20260428T000000Z
UID:81f5ca5a-a920-48b1-886f-afc5ba21a034@ClaytonBocce
DTSTART;TZID=America/Los_Angeles:20260602T183000
DTEND;TZID=America/Los_Angeles:20260602T210000
STATUS:CONFIRMED
SUMMARY:Celia's vs Wild Bunch
URL:/League/Schedule/2871
DESCRIPTION:Regular Season match: Celia's vs Wild Bunch
LOCATION:Chichibu Court 5
END:VEVENT
BEGIN:VEVENT
DTSTAMP:20260428T000000Z
UID:b4ab4336-b2ac-49c1-ac86-092c2c16b05f@ClaytonBocce
DTSTART;TZID=America/Los_Angeles:20260609T183000
DTEND;TZID=America/Los_Angeles:20260609T210000
STATUS:CONFIRMED
SUMMARY:Celia's vs Let's Roll
URL:/League/Schedule/2871
DESCRIPTION:Regular Season match: Celia's vs Let's Roll
LOCATION:Chichibu Court 4
END:VEVENT
BEGIN:VEVENT
DTSTAMP:20260428T000000Z
UID:51020d5a-64bf-4aee-a5a2-63d964ac2b94@ClaytonBocce
DTSTART;TZID=America/Los_Angeles:20260630T183000
DTEND;TZID=America/Los_Angeles:20260630T210000
STATUS:CONFIRMED
SUMMARY:Celia's vs Advance Auto Body
URL:/League/Schedule/2871
DESCRIPTION:Regular Season match: Celia's vs Advance Auto Bo
 dy
LOCATION:Chichibu Court 1
END:VEVENT
BEGIN:VEVENT
DTSTAMP:20260428T000000Z
UID:2beefba4-aa03-425d-b326-93ab97e0e6e8@ClaytonBocce
DTSTART;TZID=America/Los_Angeles:20260707T183000
DTEND;TZID=America/Los_Angeles:20260707T210000
STATUS:CONFIRMED
SUMMARY:Celia's vs Spicy Meatballs
URL:/League/Schedule/2871
DESCRIPTION:Regular Season match: Celia's vs Spicy Meatballs
LOCATION:Chichibu Court 6
END:VEVENT
BEGIN:VEVENT
DTSTAMP:20260428T000000Z
UID:cacb7dcc-b71c-47d4-8f73-a617479a2201@ClaytonBocce
DTSTART;TZID=America/Los_Angeles:20260714T183000
DTEND;TZID=America/Los_Angeles:20260714T210000
STATUS:CONFIRMED
SUMMARY:Celia's vs Bocce Bankers
URL:/League/Schedule/2871
DESCRIPTION:Regular Season match: Celia's vs Bocce Bankers
LOCATION:Chichibu Court 3
END:VEVENT
BEGIN:VEVENT
DTSTAMP:20260428T000000Z
UID:04a2d3eb-7dd9-4757-b381-ea50dd2e8537@ClaytonBocce
DTSTART;TZID=America/Los_Angeles:20260721T183000
DTEND;TZID=America/Los_Angeles:20260721T210000
STATUS:CONFIRMED
SUMMARY:Celia's vs Rolling Stones
URL:/League/Schedule/2871
DESCRIPTION:Regular Season match: Celia's vs Rolling Stones
LOCATION:Chichibu Court 5
END:VEVENT
BEGIN:VEVENT
DTSTAMP:20260428T000000Z
UID:af13c08c-43b8-4670-a634-8636294d8460@ClaytonBocce
DTSTART;TZID=America/Los_Angeles:20260728T183000
DTEND;TZID=America/Los_Angeles:20260728T210000
STATUS:CONFIRMED
SUMMARY:Celia's vs Back To Bocce
URL:/League/Schedule/2871
DESCRIPTION:Regular Season match: Celia's vs Back To Bocce
LOCATION:Chichibu Court 1
END:VEVENT
BEGIN:VEVENT
DTSTAMP:20260428T000000Z
UID:6a1d0d72-012c-497a-a5ce-0de70a295d82@ClaytonBocce
DTSTART;TZID=America/Los_Angeles:20260804T183000
DTEND;TZID=America/Los_Angeles:20260804T210000
STATUS:CONFIRMED
SUMMARY:Celia's vs No Problem
URL:/League/Schedule/2871
DESCRIPTION:Regular Season match: Celia's vs No Problem
LOCATION:Chichibu Court 2
END:VEVENT
BEGIN:VEVENT
DTSTAMP:20260428T000000Z
UID:a7d0c2e4-1ffd-4135-b655-32d408cf06be@ClaytonBocce
DTSTART;TZID=America/Los_Angeles:20260811T183000
DTEND;TZID=America/Los_Angeles:20260811T210000
STATUS:CONFIRMED
SUMMARY:Celia's vs La Dolce Vita
URL:/League/Schedule/2871
DESCRIPTION:Regular Season match: Celia's vs La Dolce Vita
LOCATION:Chichibu Court 4
END:VEVENT
BEGIN:VEVENT
DTSTAMP:20260428T000000Z
UID:d07a0174-4eb2-401d-b0e0-005184379d0e@ClaytonBocce
DTSTART;TZID=America/Los_Angeles:20260818T183000
DTEND;TZID=America/Los_Angeles:20260818T210000
STATUS:CONFIRMED
SUMMARY:Celia's vs Old Fashion Bocce
URL:/League/Schedule/2871
DESCRIPTION:Regular Season match: Celia's vs Old Fashion Boc
 ce
LOCATION:Chichibu Court 2
END:VEVENT
END:VCALENDAR
