BEGIN:VCALENDAR
VERSION:2.0
PRODID:-//Clayton Bocce League
METHOD:PUBLISH
BEGIN:VTIMEZONE
TZID:America/Los_Angeles
X-LIC-LOCATION:America/Los_Angeles
BEGIN:DAYLIGHT
TZOFFSETFROM:-0800
TZOFFSETTO:-0700
TZNAME:PDT
DTSTART:20070311T020000
RRULE:FREQ=YEARLY;BYMONTH=3;BYDAY=2SU
END:DAYLIGHT
BEGIN:STANDARD
TZOFFSETFROM:-0700
TZOFFSETTO:-0800
TZNAME:PST
DTSTART:20071104T020000
RRULE:FREQ=YEARLY;BYMONTH=11;BYDAY=1SU
END:STANDARD
END:VTIMEZONE
BEGIN:VEVENT
DTSTAMP:20260428T000000Z
UID:5a7d0ff4-a6cc-47bc-9795-9401a728ae90@ClaytonBocce
DTSTART;TZID=America/Los_Angeles:20260428T183000
DTEND;TZID=America/Los_Angeles:20260428T210000
STATUS:CONFIRMED
SUMMARY:Advance Auto Body vs Let's Roll
URL:/League/Schedule/2881
DESCRIPTION:Regular Season match: Advance Auto Body vs Let's
  Roll
LOCATION:Chichibu Court 2
END:VEVENT
BEGIN:VEVENT
DTSTAMP:20260428T000000Z
UID:ce8a95d6-6dd7-474d-98fe-a999cc9fd2d4@ClaytonBocce
DTSTART;TZID=America/Los_Angeles:20260512T183000
DTEND;TZID=America/Los_Angeles:20260512T210000
STATUS:CONFIRMED
SUMMARY:Advance Auto Body vs No Problem
URL:/League/Schedule/2881
DESCRIPTION:Regular Season match: Advance Auto Body vs No Pr
 oblem
LOCATION:Chichibu Court 5
END:VEVENT
BEGIN:VEVENT
DTSTAMP:20260428T000000Z
UID:85edbb75-4c8d-4162-b945-6b04b9946343@ClaytonBocce
DTSTART;TZID=America/Los_Angeles:20260519T183000
DTEND;TZID=America/Los_Angeles:20260519T210000
STATUS:CONFIRMED
SUMMARY:Advance Auto Body vs Spicy Meatballs
URL:/League/Schedule/2881
DESCRIPTION:Regular Season match: Advance Auto Body vs Spicy
  Meatballs
LOCATION:Chichibu Court 6
END:VEVENT
BEGIN:VEVENT
DTSTAMP:20260428T000000Z
UID:47d6ba07-c49d-4699-b284-b8baba86b542@ClaytonBocce
DTSTART;TZID=America/Los_Angeles:20260602T183000
DTEND;TZID=America/Los_Angeles:20260602T210000
STATUS:CONFIRMED
SUMMARY:Advance Auto Body vs Bocce Bankers
URL:/League/Schedule/2881
DESCRIPTION:Regular Season match: Advance Auto Body vs Bocce
  Bankers
LOCATION:Chichibu Court 4
END:VEVENT
BEGIN:VEVENT
DTSTAMP:20260428T000000Z
UID:c2e7a0a8-157e-496d-8a48-cad556e5f471@ClaytonBocce
DTSTART;TZID=America/Los_Angeles:20260609T183000
DTEND;TZID=America/Los_Angeles:20260609T210000
STATUS:CONFIRMED
SUMMARY:Advance Auto Body vs Rolling Stones
URL:/League/Schedule/2881
DESCRIPTION:Regular Season match: Advance Auto Body vs Rolli
 ng Stones
LOCATION:Chichibu Court 1
END:VEVENT
BEGIN:VEVENT
DTSTAMP:20260428T000000Z
UID:e3810578-e024-49f6-baa6-b9a892830e8b@ClaytonBocce
DTSTART;TZID=America/Los_Angeles:20260616T183000
DTEND;TZID=America/Los_Angeles:20260616T210000
STATUS:CONFIRMED
SUMMARY:Advance Auto Body vs Back To Bocce
URL:/League/Schedule/2881
DESCRIPTION:Regular Season match: Advance Auto Body vs Back 
 To Bocce
LOCATION:Chichibu Court 3
END:VEVENT
BEGIN:VEVENT
DTSTAMP:20260428T000000Z
UID:51020d5a-64bf-4aee-a5a2-63d964ac2b94@ClaytonBocce
DTSTART;TZID=America/Los_Angeles:20260630T183000
DTEND;TZID=America/Los_Angeles:20260630T210000
STATUS:CONFIRMED
SUMMARY:Advance Auto Body vs Celia's
URL:/League/Schedule/2881
DESCRIPTION:Regular Season match: Advance Auto Body vs Celia
 's
LOCATION:Chichibu Court 1
END:VEVENT
BEGIN:VEVENT
DTSTAMP:20260428T000000Z
UID:4b2ddc93-de2a-4c7e-886f-891b15409b5b@ClaytonBocce
DTSTART;TZID=America/Los_Angeles:20260707T183000
DTEND;TZID=America/Los_Angeles:20260707T210000
STATUS:CONFIRMED
SUMMARY:Advance Auto Body vs La Dolce Vita
URL:/League/Schedule/2881
DESCRIPTION:Regular Season match: Advance Auto Body vs La Do
 lce Vita
LOCATION:Chichibu Court 5
END:VEVENT
BEGIN:VEVENT
DTSTAMP:20260428T000000Z
UID:4b9b756d-267e-44d7-bd62-0dbf2a162661@ClaytonBocce
DTSTART;TZID=America/Los_Angeles:20260714T183000
DTEND;TZID=America/Los_Angeles:20260714T210000
STATUS:CONFIRMED
SUMMARY:Advance Auto Body vs Old Fashion Bocce
URL:/League/Schedule/2881
DESCRIPTION:Regular Season match: Advance Auto Body vs Old F
 ashion Bocce
LOCATION:Chichibu Court 4
END:VEVENT
BEGIN:VEVENT
DTSTAMP:20260428T000000Z
UID:6e6aaae6-4d22-4879-873a-b93e5aa0b91d@ClaytonBocce
DTSTART;TZID=America/Los_Angeles:20260721T183000
DTEND;TZID=America/Los_Angeles:20260721T210000
STATUS:CONFIRMED
SUMMARY:Advance Auto Body vs The Leftovers
URL:/League/Schedule/2881
DESCRIPTION:Regular Season match: Advance Auto Body vs The L
 eftovers
LOCATION:Chichibu Court 6
END:VEVENT
BEGIN:VEVENT
DTSTAMP:20260428T000000Z
UID:9103ee8e-b7db-4ede-9398-eb5d4474333f@ClaytonBocce
DTSTART;TZID=America/Los_Angeles:20260728T183000
DTEND;TZID=America/Los_Angeles:20260728T210000
STATUS:CONFIRMED
SUMMARY:Advance Auto Body vs Couples Therapy
URL:/League/Schedule/2881
DESCRIPTION:Regular Season match: Advance Auto Body vs Coupl
 es Therapy
LOCATION:Chichibu Court 2
END:VEVENT
BEGIN:VEVENT
DTSTAMP:20260428T000000Z
UID:58af299e-3f79-472b-911e-19e5b9f85c63@ClaytonBocce
DTSTART;TZID=America/Los_Angeles:20260804T183000
DTEND;TZID=America/Los_Angeles:20260804T210000
STATUS:CONFIRMED
SUMMARY:Advance Auto Body vs Banking On It
URL:/League/Schedule/2881
DESCRIPTION:Regular Season match: Advance Auto Body vs Banki
 ng On It
LOCATION:Chichibu Court 3
END:VEVENT
BEGIN:VEVENT
DTSTAMP:20260428T000000Z
UID:c18aa428-b4db-4774-a2a0-23b2d4473660@ClaytonBocce
DTSTART;TZID=America/Los_Angeles:20260811T183000
DTEND;TZID=America/Los_Angeles:20260811T210000
STATUS:CONFIRMED
SUMMARY:Advance Auto Body vs Fireballs
URL:/League/Schedule/2881
DESCRIPTION:Regular Season match: Advance Auto Body vs Fireb
 alls
LOCATION:Chichibu Court 2
END:VEVENT
BEGIN:VEVENT
DTSTAMP:20260428T000000Z
UID:50149ac2-fe9e-4cb1-8572-f993c8ee3a1f@ClaytonBocce
DTSTART;TZID=America/Los_Angeles:20260818T183000
DTEND;TZID=America/Los_Angeles:20260818T210000
STATUS:CONFIRMED
SUMMARY:Advance Auto Body vs Wild Bunch
URL:/League/Schedule/2881
DESCRIPTION:Regular Season match: Advance Auto Body vs Wild 
 Bunch
LOCATION:Chichibu Court 5
END:VEVENT
END:VCALENDAR
