BEGIN:VCALENDAR
VERSION:2.0
PRODID:-//Clayton Bocce League
METHOD:PUBLISH
BEGIN:VTIMEZONE
TZID:America/Los_Angeles
X-LIC-LOCATION:America/Los_Angeles
BEGIN:DAYLIGHT
TZOFFSETFROM:-0800
TZOFFSETTO:-0700
TZNAME:PDT
DTSTART:20070311T020000
RRULE:FREQ=YEARLY;BYMONTH=3;BYDAY=2SU
END:DAYLIGHT
BEGIN:STANDARD
TZOFFSETFROM:-0700
TZOFFSETTO:-0800
TZNAME:PST
DTSTART:20071104T020000
RRULE:FREQ=YEARLY;BYMONTH=11;BYDAY=1SU
END:STANDARD
END:VTIMEZONE
BEGIN:VEVENT
DTSTAMP:20260428T000000Z
UID:5a7d0ff4-a6cc-47bc-9795-9401a728ae90@ClaytonBocce
DTSTART;TZID=America/Los_Angeles:20260428T183000
DTEND;TZID=America/Los_Angeles:20260428T210000
STATUS:CONFIRMED
SUMMARY:Let's Roll vs Advance Auto Body
URL:/League/Schedule/2870
DESCRIPTION:Regular Season match: Let's Roll vs Advance Auto
  Body
LOCATION:Chichibu Court 2
END:VEVENT
BEGIN:VEVENT
DTSTAMP:20260428T000000Z
UID:0fb52242-5d10-4dad-b8ff-7345fb6f886e@ClaytonBocce
DTSTART;TZID=America/Los_Angeles:20260505T183000
DTEND;TZID=America/Los_Angeles:20260505T210000
STATUS:CONFIRMED
SUMMARY:Let's Roll vs Spicy Meatballs
URL:/League/Schedule/2870
DESCRIPTION:Regular Season match: Let's Roll vs Spicy Meatba
 lls
LOCATION:Chichibu Court 3
END:VEVENT
BEGIN:VEVENT
DTSTAMP:20260428T000000Z
UID:aa7d7469-fae3-4b3a-b936-2c67e631a85a@ClaytonBocce
DTSTART;TZID=America/Los_Angeles:20260512T183000
DTEND;TZID=America/Los_Angeles:20260512T210000
STATUS:CONFIRMED
SUMMARY:Let's Roll vs Bocce Bankers
URL:/League/Schedule/2870
DESCRIPTION:Regular Season match: Let's Roll vs Bocce Banker
 s
LOCATION:Chichibu Court 1
END:VEVENT
BEGIN:VEVENT
DTSTAMP:20260428T000000Z
UID:b668c7d7-35f7-460c-a8e4-811e038a2d47@ClaytonBocce
DTSTART;TZID=America/Los_Angeles:20260526T183000
DTEND;TZID=America/Los_Angeles:20260526T210000
STATUS:CONFIRMED
SUMMARY:Let's Roll vs Rolling Stones
URL:/League/Schedule/2870
DESCRIPTION:Regular Season match: Let's Roll vs Rolling Ston
 es
LOCATION:Chichibu Court 5
END:VEVENT
BEGIN:VEVENT
DTSTAMP:20260428T000000Z
UID:826c9863-d2af-431a-834b-f826e438d98c@ClaytonBocce
DTSTART;TZID=America/Los_Angeles:20260602T183000
DTEND;TZID=America/Los_Angeles:20260602T210000
STATUS:CONFIRMED
SUMMARY:Let's Roll vs Back To Bocce
URL:/League/Schedule/2870
DESCRIPTION:Regular Season match: Let's Roll vs Back To Bocc
 e
LOCATION:Chichibu Court 3
END:VEVENT
BEGIN:VEVENT
DTSTAMP:20260428T000000Z
UID:b4ab4336-b2ac-49c1-ac86-092c2c16b05f@ClaytonBocce
DTSTART;TZID=America/Los_Angeles:20260609T183000
DTEND;TZID=America/Los_Angeles:20260609T210000
STATUS:CONFIRMED
SUMMARY:Let's Roll vs Celia's
URL:/League/Schedule/2870
DESCRIPTION:Regular Season match: Let's Roll vs Celia's
LOCATION:Chichibu Court 4
END:VEVENT
BEGIN:VEVENT
DTSTAMP:20260428T000000Z
UID:1487f61f-b3e3-40be-b0a4-3b54f30c8ade@ClaytonBocce
DTSTART;TZID=America/Los_Angeles:20260623T183000
DTEND;TZID=America/Los_Angeles:20260623T210000
STATUS:CONFIRMED
SUMMARY:Let's Roll vs La Dolce Vita
URL:/League/Schedule/2870
DESCRIPTION:Regular Season match: Let's Roll vs La Dolce Vit
 a
LOCATION:Chichibu Court 6
END:VEVENT
BEGIN:VEVENT
DTSTAMP:20260428T000000Z
UID:c3e98eb4-2766-4274-bb65-3ceec72abe7b@ClaytonBocce
DTSTART;TZID=America/Los_Angeles:20260630T183000
DTEND;TZID=America/Los_Angeles:20260630T210000
STATUS:CONFIRMED
SUMMARY:Let's Roll vs Old Fashion Bocce
URL:/League/Schedule/2870
DESCRIPTION:Regular Season match: Let's Roll vs Old Fashion 
 Bocce
LOCATION:Chichibu Court 2
END:VEVENT
BEGIN:VEVENT
DTSTAMP:20260428T000000Z
UID:b389e0fd-8823-4758-a15f-d5fe9b2c8785@ClaytonBocce
DTSTART;TZID=America/Los_Angeles:20260707T183000
DTEND;TZID=America/Los_Angeles:20260707T210000
STATUS:CONFIRMED
SUMMARY:Let's Roll vs The Leftovers
URL:/League/Schedule/2870
DESCRIPTION:Regular Season match: Let's Roll vs The Leftover
 s
LOCATION:Chichibu Court 3
END:VEVENT
BEGIN:VEVENT
DTSTAMP:20260428T000000Z
UID:9c6e7ce3-b4a2-4cbb-ad51-8b205a717085@ClaytonBocce
DTSTART;TZID=America/Los_Angeles:20260714T183000
DTEND;TZID=America/Los_Angeles:20260714T210000
STATUS:CONFIRMED
SUMMARY:Let's Roll vs Couples Therapy
URL:/League/Schedule/2870
DESCRIPTION:Regular Season match: Let's Roll vs Couples Ther
 apy
LOCATION:Chichibu Court 2
END:VEVENT
BEGIN:VEVENT
DTSTAMP:20260428T000000Z
UID:b25bbaaf-295a-4b1d-81d5-650033a4f39b@ClaytonBocce
DTSTART;TZID=America/Los_Angeles:20260721T183000
DTEND;TZID=America/Los_Angeles:20260721T210000
STATUS:CONFIRMED
SUMMARY:Let's Roll vs Banking On It
URL:/League/Schedule/2870
DESCRIPTION:Regular Season match: Let's Roll vs Banking On I
 t
LOCATION:Chichibu Court 1
END:VEVENT
BEGIN:VEVENT
DTSTAMP:20260428T000000Z
UID:b94b5ee6-6de8-431f-b003-962645fbdee5@ClaytonBocce
DTSTART;TZID=America/Los_Angeles:20260728T183000
DTEND;TZID=America/Los_Angeles:20260728T210000
STATUS:CONFIRMED
SUMMARY:Let's Roll vs Fireballs
URL:/League/Schedule/2870
DESCRIPTION:Regular Season match: Let's Roll vs Fireballs
LOCATION:Chichibu Court 5
END:VEVENT
BEGIN:VEVENT
DTSTAMP:20260428T000000Z
UID:13730a45-0d07-4462-8530-cab2e60b1371@ClaytonBocce
DTSTART;TZID=America/Los_Angeles:20260804T183000
DTEND;TZID=America/Los_Angeles:20260804T210000
STATUS:CONFIRMED
SUMMARY:Let's Roll vs Wild Bunch
URL:/League/Schedule/2870
DESCRIPTION:Regular Season match: Let's Roll vs Wild Bunch
LOCATION:Chichibu Court 4
END:VEVENT
BEGIN:VEVENT
DTSTAMP:20260428T000000Z
UID:cfd55335-7c3e-4aff-a1d3-9e39b35b2d88@ClaytonBocce
DTSTART;TZID=America/Los_Angeles:20260811T183000
DTEND;TZID=America/Los_Angeles:20260811T210000
STATUS:CONFIRMED
SUMMARY:Let's Roll vs No Problem
URL:/League/Schedule/2870
DESCRIPTION:Regular Season match: Let's Roll vs No Problem
LOCATION:Chichibu Court 3
END:VEVENT
END:VCALENDAR
