BEGIN:VCALENDAR
VERSION:2.0
PRODID:-//Clayton Bocce League
METHOD:PUBLISH
BEGIN:VTIMEZONE
TZID:America/Los_Angeles
X-LIC-LOCATION:America/Los_Angeles
BEGIN:DAYLIGHT
TZOFFSETFROM:-0800
TZOFFSETTO:-0700
TZNAME:PDT
DTSTART:20070311T020000
RRULE:FREQ=YEARLY;BYMONTH=3;BYDAY=2SU
END:DAYLIGHT
BEGIN:STANDARD
TZOFFSETFROM:-0700
TZOFFSETTO:-0800
TZNAME:PST
DTSTART:20071104T020000
RRULE:FREQ=YEARLY;BYMONTH=11;BYDAY=1SU
END:STANDARD
END:VTIMEZONE
BEGIN:VEVENT
DTSTAMP:20260428T000000Z
UID:07129601-d8bd-4a90-ae01-3daa17a059bb@ClaytonBocce
DTSTART;TZID=America/Los_Angeles:20260505T183000
DTEND;TZID=America/Los_Angeles:20260505T210000
STATUS:CONFIRMED
SUMMARY:Banking On It vs Rolling Stones
URL:/League/Schedule/2876
DESCRIPTION:Regular Season match: Banking On It vs Rolling S
 tones
LOCATION:Chichibu Court 1
END:VEVENT
BEGIN:VEVENT
DTSTAMP:20260428T000000Z
UID:fcdb9a1c-41db-4d72-b84a-0c7e4eabc8e1@ClaytonBocce
DTSTART;TZID=America/Los_Angeles:20260512T183000
DTEND;TZID=America/Los_Angeles:20260512T210000
STATUS:CONFIRMED
SUMMARY:Banking On It vs Back To Bocce
URL:/League/Schedule/2876
DESCRIPTION:Regular Season match: Banking On It vs Back To B
 occe
LOCATION:Chichibu Court 6
END:VEVENT
BEGIN:VEVENT
DTSTAMP:20260428T000000Z
UID:92ed85f5-85c4-4bcc-9a55-8d92d184a761@ClaytonBocce
DTSTART;TZID=America/Los_Angeles:20260519T183000
DTEND;TZID=America/Los_Angeles:20260519T210000
STATUS:CONFIRMED
SUMMARY:Banking On It vs Celia's
URL:/League/Schedule/2876
DESCRIPTION:Regular Season match: Banking On It vs Celia's
LOCATION:Chichibu Court 2
END:VEVENT
BEGIN:VEVENT
DTSTAMP:20260428T000000Z
UID:3cf3ef32-51f3-44b4-81ba-065fa07620fe@ClaytonBocce
DTSTART;TZID=America/Los_Angeles:20260526T183000
DTEND;TZID=America/Los_Angeles:20260526T210000
STATUS:CONFIRMED
SUMMARY:Banking On It vs La Dolce Vita
URL:/League/Schedule/2876
DESCRIPTION:Regular Season match: Banking On It vs La Dolce 
 Vita
LOCATION:Chichibu Court 4
END:VEVENT
BEGIN:VEVENT
DTSTAMP:20260428T000000Z
UID:35a474e1-31db-40b7-992a-aa34be6d6885@ClaytonBocce
DTSTART;TZID=America/Los_Angeles:20260602T183000
DTEND;TZID=America/Los_Angeles:20260602T210000
STATUS:CONFIRMED
SUMMARY:Banking On It vs Old Fashion Bocce
URL:/League/Schedule/2876
DESCRIPTION:Regular Season match: Banking On It vs Old Fashi
 on Bocce
LOCATION:Chichibu Court 2
END:VEVENT
BEGIN:VEVENT
DTSTAMP:20260428T000000Z
UID:a9bd1708-c633-42df-b4e3-7236c0cabca4@ClaytonBocce
DTSTART;TZID=America/Los_Angeles:20260609T183000
DTEND;TZID=America/Los_Angeles:20260609T210000
STATUS:CONFIRMED
SUMMARY:Banking On It vs The Leftovers
URL:/League/Schedule/2876
DESCRIPTION:Regular Season match: Banking On It vs The Lefto
 vers
LOCATION:Chichibu Court 6
END:VEVENT
BEGIN:VEVENT
DTSTAMP:20260428T000000Z
UID:3181c915-e9ee-4071-9a3b-3bb8ca448a28@ClaytonBocce
DTSTART;TZID=America/Los_Angeles:20260616T183000
DTEND;TZID=America/Los_Angeles:20260616T210000
STATUS:CONFIRMED
SUMMARY:Banking On It vs Couples Therapy
URL:/League/Schedule/2876
DESCRIPTION:Regular Season match: Banking On It vs Couples T
 herapy
LOCATION:Chichibu Court 5
END:VEVENT
BEGIN:VEVENT
DTSTAMP:20260428T000000Z
UID:a8fd9618-c442-4bc3-827a-1c256a726fb5@ClaytonBocce
DTSTART;TZID=America/Los_Angeles:20260623T183000
DTEND;TZID=America/Los_Angeles:20260623T210000
STATUS:CONFIRMED
SUMMARY:Banking On It vs No Problem
URL:/League/Schedule/2876
DESCRIPTION:Regular Season match: Banking On It vs No Proble
 m
LOCATION:Chichibu Court 3
END:VEVENT
BEGIN:VEVENT
DTSTAMP:20260428T000000Z
UID:846cbcec-2b2d-4447-b912-0ae30797bb20@ClaytonBocce
DTSTART;TZID=America/Los_Angeles:20260630T183000
DTEND;TZID=America/Los_Angeles:20260630T210000
STATUS:CONFIRMED
SUMMARY:Banking On It vs Fireballs
URL:/League/Schedule/2876
DESCRIPTION:Regular Season match: Banking On It vs Fireballs
LOCATION:Chichibu Court 5
END:VEVENT
BEGIN:VEVENT
DTSTAMP:20260428T000000Z
UID:620b6087-5313-40c1-b777-688c7a6b0e17@ClaytonBocce
DTSTART;TZID=America/Los_Angeles:20260707T183000
DTEND;TZID=America/Los_Angeles:20260707T210000
STATUS:CONFIRMED
SUMMARY:Banking On It vs Wild Bunch
URL:/League/Schedule/2876
DESCRIPTION:Regular Season match: Banking On It vs Wild Bunc
 h
LOCATION:Chichibu Court 2
END:VEVENT
BEGIN:VEVENT
DTSTAMP:20260428T000000Z
UID:b25bbaaf-295a-4b1d-81d5-650033a4f39b@ClaytonBocce
DTSTART;TZID=America/Los_Angeles:20260721T183000
DTEND;TZID=America/Los_Angeles:20260721T210000
STATUS:CONFIRMED
SUMMARY:Banking On It vs Let's Roll
URL:/League/Schedule/2876
DESCRIPTION:Regular Season match: Banking On It vs Let's Rol
 l
LOCATION:Chichibu Court 1
END:VEVENT
BEGIN:VEVENT
DTSTAMP:20260428T000000Z
UID:58af299e-3f79-472b-911e-19e5b9f85c63@ClaytonBocce
DTSTART;TZID=America/Los_Angeles:20260804T183000
DTEND;TZID=America/Los_Angeles:20260804T210000
STATUS:CONFIRMED
SUMMARY:Banking On It vs Advance Auto Body
URL:/League/Schedule/2876
DESCRIPTION:Regular Season match: Banking On It vs Advance A
 uto Body
LOCATION:Chichibu Court 3
END:VEVENT
BEGIN:VEVENT
DTSTAMP:20260428T000000Z
UID:5f8bd70b-f51a-4d49-891f-7f71f95faa70@ClaytonBocce
DTSTART;TZID=America/Los_Angeles:20260818T183000
DTEND;TZID=America/Los_Angeles:20260818T210000
STATUS:CONFIRMED
SUMMARY:Banking On It vs Spicy Meatballs
URL:/League/Schedule/2876
DESCRIPTION:Regular Season match: Banking On It vs Spicy Mea
 tballs
LOCATION:Chichibu Court 6
END:VEVENT
BEGIN:VEVENT
DTSTAMP:20260428T000000Z
UID:5b0e17c6-4587-40f7-800a-97f8f5735014@ClaytonBocce
DTSTART;TZID=America/Los_Angeles:20260825T183000
DTEND;TZID=America/Los_Angeles:20260825T210000
STATUS:CONFIRMED
SUMMARY:Banking On It vs Bocce Bankers
URL:/League/Schedule/2876
DESCRIPTION:Regular Season match: Banking On It vs Bocce Ban
 kers
LOCATION:Chichibu Court 2
END:VEVENT
END:VCALENDAR
