BEGIN:VCALENDAR
VERSION:2.0
PRODID:-//Clayton Bocce League
METHOD:PUBLISH
BEGIN:VTIMEZONE
TZID:America/Los_Angeles
X-LIC-LOCATION:America/Los_Angeles
BEGIN:DAYLIGHT
TZOFFSETFROM:-0800
TZOFFSETTO:-0700
TZNAME:PDT
DTSTART:20070311T020000
RRULE:FREQ=YEARLY;BYMONTH=3;BYDAY=2SU
END:DAYLIGHT
BEGIN:STANDARD
TZOFFSETFROM:-0700
TZOFFSETTO:-0800
TZNAME:PST
DTSTART:20071104T020000
RRULE:FREQ=YEARLY;BYMONTH=11;BYDAY=1SU
END:STANDARD
END:VTIMEZONE
BEGIN:VEVENT
DTSTAMP:20260428T000000Z
UID:07129601-d8bd-4a90-ae01-3daa17a059bb@ClaytonBocce
DTSTART;TZID=America/Los_Angeles:20260505T183000
DTEND;TZID=America/Los_Angeles:20260505T210000
STATUS:CONFIRMED
SUMMARY:Rolling Stones vs Banking On It
URL:/League/Schedule/2875
DESCRIPTION:Regular Season match: Rolling Stones vs Banking 
 On It
LOCATION:Chichibu Court 1
END:VEVENT
BEGIN:VEVENT
DTSTAMP:20260428T000000Z
UID:9971dcf2-9981-4252-bde4-02785f739ea4@ClaytonBocce
DTSTART;TZID=America/Los_Angeles:20260512T183000
DTEND;TZID=America/Los_Angeles:20260512T210000
STATUS:CONFIRMED
SUMMARY:Rolling Stones vs Fireballs
URL:/League/Schedule/2875
DESCRIPTION:Regular Season match: Rolling Stones vs Fireball
 s
LOCATION:Chichibu Court 2
END:VEVENT
BEGIN:VEVENT
DTSTAMP:20260428T000000Z
UID:ed79e742-b02f-44e4-a28f-ee36312462af@ClaytonBocce
DTSTART;TZID=America/Los_Angeles:20260519T183000
DTEND;TZID=America/Los_Angeles:20260519T210000
STATUS:CONFIRMED
SUMMARY:Rolling Stones vs Wild Bunch
URL:/League/Schedule/2875
DESCRIPTION:Regular Season match: Rolling Stones vs Wild Bun
 ch
LOCATION:Chichibu Court 3
END:VEVENT
BEGIN:VEVENT
DTSTAMP:20260428T000000Z
UID:b668c7d7-35f7-460c-a8e4-811e038a2d47@ClaytonBocce
DTSTART;TZID=America/Los_Angeles:20260526T183000
DTEND;TZID=America/Los_Angeles:20260526T210000
STATUS:CONFIRMED
SUMMARY:Rolling Stones vs Let's Roll
URL:/League/Schedule/2875
DESCRIPTION:Regular Season match: Rolling Stones vs Let's Ro
 ll
LOCATION:Chichibu Court 5
END:VEVENT
BEGIN:VEVENT
DTSTAMP:20260428T000000Z
UID:c2e7a0a8-157e-496d-8a48-cad556e5f471@ClaytonBocce
DTSTART;TZID=America/Los_Angeles:20260609T183000
DTEND;TZID=America/Los_Angeles:20260609T210000
STATUS:CONFIRMED
SUMMARY:Rolling Stones vs Advance Auto Body
URL:/League/Schedule/2875
DESCRIPTION:Regular Season match: Rolling Stones vs Advance 
 Auto Body
LOCATION:Chichibu Court 1
END:VEVENT
BEGIN:VEVENT
DTSTAMP:20260428T000000Z
UID:2e50e2e6-c244-4ee8-8609-349ccd067fb9@ClaytonBocce
DTSTART;TZID=America/Los_Angeles:20260616T183000
DTEND;TZID=America/Los_Angeles:20260616T210000
STATUS:CONFIRMED
SUMMARY:Rolling Stones vs Spicy Meatballs
URL:/League/Schedule/2875
DESCRIPTION:Regular Season match: Rolling Stones vs Spicy Me
 atballs
LOCATION:Chichibu Court 4
END:VEVENT
BEGIN:VEVENT
DTSTAMP:20260428T000000Z
UID:2b63f729-dcfa-4c4d-891a-6b0df2dbf3e0@ClaytonBocce
DTSTART;TZID=America/Los_Angeles:20260623T183000
DTEND;TZID=America/Los_Angeles:20260623T210000
STATUS:CONFIRMED
SUMMARY:Rolling Stones vs Bocce Bankers
URL:/League/Schedule/2875
DESCRIPTION:Regular Season match: Rolling Stones vs Bocce Ba
 nkers
LOCATION:Chichibu Court 5
END:VEVENT
BEGIN:VEVENT
DTSTAMP:20260428T000000Z
UID:a5319c97-d3e4-4744-b7a9-fc08d0c33e3c@ClaytonBocce
DTSTART;TZID=America/Los_Angeles:20260630T183000
DTEND;TZID=America/Los_Angeles:20260630T210000
STATUS:CONFIRMED
SUMMARY:Rolling Stones vs No Problem
URL:/League/Schedule/2875
DESCRIPTION:Regular Season match: Rolling Stones vs No Probl
 em
LOCATION:Chichibu Court 6
END:VEVENT
BEGIN:VEVENT
DTSTAMP:20260428T000000Z
UID:0b13e58c-875c-44d0-8bee-0b1e809868f0@ClaytonBocce
DTSTART;TZID=America/Los_Angeles:20260707T183000
DTEND;TZID=America/Los_Angeles:20260707T210000
STATUS:CONFIRMED
SUMMARY:Rolling Stones vs Back To Bocce
URL:/League/Schedule/2875
DESCRIPTION:Regular Season match: Rolling Stones vs Back To 
 Bocce
LOCATION:Chichibu Court 1
END:VEVENT
BEGIN:VEVENT
DTSTAMP:20260428T000000Z
UID:04a2d3eb-7dd9-4757-b381-ea50dd2e8537@ClaytonBocce
DTSTART;TZID=America/Los_Angeles:20260721T183000
DTEND;TZID=America/Los_Angeles:20260721T210000
STATUS:CONFIRMED
SUMMARY:Rolling Stones vs Celia's
URL:/League/Schedule/2875
DESCRIPTION:Regular Season match: Rolling Stones vs Celia's
LOCATION:Chichibu Court 5
END:VEVENT
BEGIN:VEVENT
DTSTAMP:20260428T000000Z
UID:95dfc2a0-72c1-48e6-8c7f-5fbad3b32b0c@ClaytonBocce
DTSTART;TZID=America/Los_Angeles:20260728T183000
DTEND;TZID=America/Los_Angeles:20260728T210000
STATUS:CONFIRMED
SUMMARY:Rolling Stones vs La Dolce Vita
URL:/League/Schedule/2875
DESCRIPTION:Regular Season match: Rolling Stones vs La Dolce
  Vita
LOCATION:Chichibu Court 3
END:VEVENT
BEGIN:VEVENT
DTSTAMP:20260428T000000Z
UID:6aa91030-0308-4ade-a01f-52d853e39ffa@ClaytonBocce
DTSTART;TZID=America/Los_Angeles:20260804T183000
DTEND;TZID=America/Los_Angeles:20260804T210000
STATUS:CONFIRMED
SUMMARY:Rolling Stones vs Old Fashion Bocce
URL:/League/Schedule/2875
DESCRIPTION:Regular Season match: Rolling Stones vs Old Fash
 ion Bocce
LOCATION:Chichibu Court 5
END:VEVENT
BEGIN:VEVENT
DTSTAMP:20260428T000000Z
UID:b89eca0f-1cdf-44f7-a21b-b2ee6298d587@ClaytonBocce
DTSTART;TZID=America/Los_Angeles:20260811T183000
DTEND;TZID=America/Los_Angeles:20260811T210000
STATUS:CONFIRMED
SUMMARY:Rolling Stones vs The Leftovers
URL:/League/Schedule/2875
DESCRIPTION:Regular Season match: Rolling Stones vs The Left
 overs
LOCATION:Chichibu Court 6
END:VEVENT
BEGIN:VEVENT
DTSTAMP:20260428T000000Z
UID:fad52b19-a7d1-4528-b61d-ca2e66b3a70c@ClaytonBocce
DTSTART;TZID=America/Los_Angeles:20260825T183000
DTEND;TZID=America/Los_Angeles:20260825T210000
STATUS:CONFIRMED
SUMMARY:Rolling Stones vs Couples Therapy
URL:/League/Schedule/2875
DESCRIPTION:Regular Season match: Rolling Stones vs Couples 
 Therapy
LOCATION:Chichibu Court 4
END:VEVENT
END:VCALENDAR
