BEGIN:VCALENDAR
VERSION:2.0
PRODID:-//Clayton Bocce League
METHOD:PUBLISH
BEGIN:VTIMEZONE
TZID:America/Los_Angeles
X-LIC-LOCATION:America/Los_Angeles
BEGIN:DAYLIGHT
TZOFFSETFROM:-0800
TZOFFSETTO:-0700
TZNAME:PDT
DTSTART:20070311T020000
RRULE:FREQ=YEARLY;BYMONTH=3;BYDAY=2SU
END:DAYLIGHT
BEGIN:STANDARD
TZOFFSETFROM:-0700
TZOFFSETTO:-0800
TZNAME:PST
DTSTART:20071104T020000
RRULE:FREQ=YEARLY;BYMONTH=11;BYDAY=1SU
END:STANDARD
END:VTIMEZONE
BEGIN:VEVENT
DTSTAMP:20260428T000000Z
UID:f2aedf9d-b2e8-46f2-9629-86a158405913@ClaytonBocce
DTSTART;TZID=America/Los_Angeles:20260428T183000
DTEND;TZID=America/Los_Angeles:20260428T210000
STATUS:CONFIRMED
SUMMARY:La Dolce Vita vs Old Fashion Bocce
URL:/League/Schedule/2869
DESCRIPTION:Regular Season match: La Dolce Vita vs Old Fashi
 on Bocce
LOCATION:Chichibu Court 1
END:VEVENT
BEGIN:VEVENT
DTSTAMP:20260428T000000Z
UID:80002f76-a8b1-464b-9355-a30ffa8985de@ClaytonBocce
DTSTART;TZID=America/Los_Angeles:20260505T183000
DTEND;TZID=America/Los_Angeles:20260505T210000
STATUS:CONFIRMED
SUMMARY:La Dolce Vita vs The Leftovers
URL:/League/Schedule/2869
DESCRIPTION:Regular Season match: La Dolce Vita vs The Lefto
 vers
LOCATION:Chichibu Court 5
END:VEVENT
BEGIN:VEVENT
DTSTAMP:20260428T000000Z
UID:61b06a4a-8f2f-4d87-a9d4-5bc0fc79e0a9@ClaytonBocce
DTSTART;TZID=America/Los_Angeles:20260512T183000
DTEND;TZID=America/Los_Angeles:20260512T210000
STATUS:CONFIRMED
SUMMARY:La Dolce Vita vs Couples Therapy
URL:/League/Schedule/2869
DESCRIPTION:Regular Season match: La Dolce Vita vs Couples T
 herapy
LOCATION:Chichibu Court 3
END:VEVENT
BEGIN:VEVENT
DTSTAMP:20260428T000000Z
UID:3cf3ef32-51f3-44b4-81ba-065fa07620fe@ClaytonBocce
DTSTART;TZID=America/Los_Angeles:20260526T183000
DTEND;TZID=America/Los_Angeles:20260526T210000
STATUS:CONFIRMED
SUMMARY:La Dolce Vita vs Banking On It
URL:/League/Schedule/2869
DESCRIPTION:Regular Season match: La Dolce Vita vs Banking O
 n It
LOCATION:Chichibu Court 4
END:VEVENT
BEGIN:VEVENT
DTSTAMP:20260428T000000Z
UID:074619e8-7c5c-4951-a098-2f99f50edbe1@ClaytonBocce
DTSTART;TZID=America/Los_Angeles:20260602T183000
DTEND;TZID=America/Los_Angeles:20260602T210000
STATUS:CONFIRMED
SUMMARY:La Dolce Vita vs Fireballs
URL:/League/Schedule/2869
DESCRIPTION:Regular Season match: La Dolce Vita vs Fireballs
LOCATION:Chichibu Court 1
END:VEVENT
BEGIN:VEVENT
DTSTAMP:20260428T000000Z
UID:15bf1f66-e484-4c77-af27-4a365c522c82@ClaytonBocce
DTSTART;TZID=America/Los_Angeles:20260609T183000
DTEND;TZID=America/Los_Angeles:20260609T210000
STATUS:CONFIRMED
SUMMARY:La Dolce Vita vs Wild Bunch
URL:/League/Schedule/2869
DESCRIPTION:Regular Season match: La Dolce Vita vs Wild Bunc
 h
LOCATION:Chichibu Court 2
END:VEVENT
BEGIN:VEVENT
DTSTAMP:20260428T000000Z
UID:1487f61f-b3e3-40be-b0a4-3b54f30c8ade@ClaytonBocce
DTSTART;TZID=America/Los_Angeles:20260623T183000
DTEND;TZID=America/Los_Angeles:20260623T210000
STATUS:CONFIRMED
SUMMARY:La Dolce Vita vs Let's Roll
URL:/League/Schedule/2869
DESCRIPTION:Regular Season match: La Dolce Vita vs Let's Rol
 l
LOCATION:Chichibu Court 6
END:VEVENT
BEGIN:VEVENT
DTSTAMP:20260428T000000Z
UID:4b2ddc93-de2a-4c7e-886f-891b15409b5b@ClaytonBocce
DTSTART;TZID=America/Los_Angeles:20260707T183000
DTEND;TZID=America/Los_Angeles:20260707T210000
STATUS:CONFIRMED
SUMMARY:La Dolce Vita vs Advance Auto Body
URL:/League/Schedule/2869
DESCRIPTION:Regular Season match: La Dolce Vita vs Advance A
 uto Body
LOCATION:Chichibu Court 5
END:VEVENT
BEGIN:VEVENT
DTSTAMP:20260428T000000Z
UID:d2692dec-a34f-4a23-97b6-d37d9479ad67@ClaytonBocce
DTSTART;TZID=America/Los_Angeles:20260714T183000
DTEND;TZID=America/Los_Angeles:20260714T210000
STATUS:CONFIRMED
SUMMARY:La Dolce Vita vs Spicy Meatballs
URL:/League/Schedule/2869
DESCRIPTION:Regular Season match: La Dolce Vita vs Spicy Mea
 tballs
LOCATION:Chichibu Court 1
END:VEVENT
BEGIN:VEVENT
DTSTAMP:20260428T000000Z
UID:3c6aa2a4-324e-4a4f-ad21-ab7fc7608e6a@ClaytonBocce
DTSTART;TZID=America/Los_Angeles:20260721T183000
DTEND;TZID=America/Los_Angeles:20260721T210000
STATUS:CONFIRMED
SUMMARY:La Dolce Vita vs Bocce Bankers
URL:/League/Schedule/2869
DESCRIPTION:Regular Season match: La Dolce Vita vs Bocce Ban
 kers
LOCATION:Chichibu Court 2
END:VEVENT
BEGIN:VEVENT
DTSTAMP:20260428T000000Z
UID:95dfc2a0-72c1-48e6-8c7f-5fbad3b32b0c@ClaytonBocce
DTSTART;TZID=America/Los_Angeles:20260728T183000
DTEND;TZID=America/Los_Angeles:20260728T210000
STATUS:CONFIRMED
SUMMARY:La Dolce Vita vs Rolling Stones
URL:/League/Schedule/2869
DESCRIPTION:Regular Season match: La Dolce Vita vs Rolling S
 tones
LOCATION:Chichibu Court 3
END:VEVENT
BEGIN:VEVENT
DTSTAMP:20260428T000000Z
UID:79d30ca3-df35-41af-b99b-497b89c00127@ClaytonBocce
DTSTART;TZID=America/Los_Angeles:20260804T183000
DTEND;TZID=America/Los_Angeles:20260804T210000
STATUS:CONFIRMED
SUMMARY:La Dolce Vita vs Back To Bocce
URL:/League/Schedule/2869
DESCRIPTION:Regular Season match: La Dolce Vita vs Back To B
 occe
LOCATION:Chichibu Court 6
END:VEVENT
BEGIN:VEVENT
DTSTAMP:20260428T000000Z
UID:a7d0c2e4-1ffd-4135-b655-32d408cf06be@ClaytonBocce
DTSTART;TZID=America/Los_Angeles:20260811T183000
DTEND;TZID=America/Los_Angeles:20260811T210000
STATUS:CONFIRMED
SUMMARY:La Dolce Vita vs Celia's
URL:/League/Schedule/2869
DESCRIPTION:Regular Season match: La Dolce Vita vs Celia's
LOCATION:Chichibu Court 4
END:VEVENT
BEGIN:VEVENT
DTSTAMP:20260428T000000Z
UID:c0230e0e-8d81-4dbc-9793-6194027e878e@ClaytonBocce
DTSTART;TZID=America/Los_Angeles:20260818T183000
DTEND;TZID=America/Los_Angeles:20260818T210000
STATUS:CONFIRMED
SUMMARY:La Dolce Vita vs No Problem
URL:/League/Schedule/2869
DESCRIPTION:Regular Season match: La Dolce Vita vs No Proble
 m
LOCATION:Chichibu Court 1
END:VEVENT
END:VCALENDAR
