BEGIN:VCALENDAR
VERSION:2.0
PRODID:-//Clayton Bocce League
METHOD:PUBLISH
BEGIN:VTIMEZONE
TZID:America/Los_Angeles
X-LIC-LOCATION:America/Los_Angeles
BEGIN:DAYLIGHT
TZOFFSETFROM:-0800
TZOFFSETTO:-0700
TZNAME:PDT
DTSTART:20070311T020000
RRULE:FREQ=YEARLY;BYMONTH=3;BYDAY=2SU
END:DAYLIGHT
BEGIN:STANDARD
TZOFFSETFROM:-0700
TZOFFSETTO:-0800
TZNAME:PST
DTSTART:20071104T020000
RRULE:FREQ=YEARLY;BYMONTH=11;BYDAY=1SU
END:STANDARD
END:VTIMEZONE
BEGIN:VEVENT
DTSTAMP:20260428T000000Z
UID:f2aedf9d-b2e8-46f2-9629-86a158405913@ClaytonBocce
DTSTART;TZID=America/Los_Angeles:20260428T183000
DTEND;TZID=America/Los_Angeles:20260428T210000
STATUS:CONFIRMED
SUMMARY:Old Fashion Bocce vs La Dolce Vita
URL:/League/Schedule/2882
DESCRIPTION:Regular Season match: Old Fashion Bocce vs La Do
 lce Vita
LOCATION:Chichibu Court 1
END:VEVENT
BEGIN:VEVENT
DTSTAMP:20260428T000000Z
UID:309c415f-387b-42cf-a2e5-b1ef4735adf0@ClaytonBocce
DTSTART;TZID=America/Los_Angeles:20260505T183000
DTEND;TZID=America/Los_Angeles:20260505T210000
STATUS:CONFIRMED
SUMMARY:Old Fashion Bocce vs No Problem
URL:/League/Schedule/2882
DESCRIPTION:Regular Season match: Old Fashion Bocce vs No Pr
 oblem
LOCATION:Chichibu Court 6
END:VEVENT
BEGIN:VEVENT
DTSTAMP:20260428T000000Z
UID:fdfc32ee-53d5-4ed0-8dd1-bc3154788bca@ClaytonBocce
DTSTART;TZID=America/Los_Angeles:20260512T183000
DTEND;TZID=America/Los_Angeles:20260512T210000
STATUS:CONFIRMED
SUMMARY:Old Fashion Bocce vs The Leftovers
URL:/League/Schedule/2882
DESCRIPTION:Regular Season match: Old Fashion Bocce vs The L
 eftovers
LOCATION:Chichibu Court 4
END:VEVENT
BEGIN:VEVENT
DTSTAMP:20260428T000000Z
UID:8c9aa501-b48d-477c-938f-712a70d00c18@ClaytonBocce
DTSTART;TZID=America/Los_Angeles:20260519T183000
DTEND;TZID=America/Los_Angeles:20260519T210000
STATUS:CONFIRMED
SUMMARY:Old Fashion Bocce vs Couples Therapy
URL:/League/Schedule/2882
DESCRIPTION:Regular Season match: Old Fashion Bocce vs Coupl
 es Therapy
LOCATION:Chichibu Court 5
END:VEVENT
BEGIN:VEVENT
DTSTAMP:20260428T000000Z
UID:35a474e1-31db-40b7-992a-aa34be6d6885@ClaytonBocce
DTSTART;TZID=America/Los_Angeles:20260602T183000
DTEND;TZID=America/Los_Angeles:20260602T210000
STATUS:CONFIRMED
SUMMARY:Old Fashion Bocce vs Banking On It
URL:/League/Schedule/2882
DESCRIPTION:Regular Season match: Old Fashion Bocce vs Banki
 ng On It
LOCATION:Chichibu Court 2
END:VEVENT
BEGIN:VEVENT
DTSTAMP:20260428T000000Z
UID:bd7e9d69-9d12-4e17-8e20-a2eb2c34ed17@ClaytonBocce
DTSTART;TZID=America/Los_Angeles:20260609T183000
DTEND;TZID=America/Los_Angeles:20260609T210000
STATUS:CONFIRMED
SUMMARY:Old Fashion Bocce vs Fireballs
URL:/League/Schedule/2882
DESCRIPTION:Regular Season match: Old Fashion Bocce vs Fireb
 alls
LOCATION:Chichibu Court 3
END:VEVENT
BEGIN:VEVENT
DTSTAMP:20260428T000000Z
UID:18f4402d-d821-4500-afe6-faa6c70b34dc@ClaytonBocce
DTSTART;TZID=America/Los_Angeles:20260616T183000
DTEND;TZID=America/Los_Angeles:20260616T210000
STATUS:CONFIRMED
SUMMARY:Old Fashion Bocce vs Wild Bunch
URL:/League/Schedule/2882
DESCRIPTION:Regular Season match: Old Fashion Bocce vs Wild 
 Bunch
LOCATION:Chichibu Court 6
END:VEVENT
BEGIN:VEVENT
DTSTAMP:20260428T000000Z
UID:c3e98eb4-2766-4274-bb65-3ceec72abe7b@ClaytonBocce
DTSTART;TZID=America/Los_Angeles:20260630T183000
DTEND;TZID=America/Los_Angeles:20260630T210000
STATUS:CONFIRMED
SUMMARY:Old Fashion Bocce vs Let's Roll
URL:/League/Schedule/2882
DESCRIPTION:Regular Season match: Old Fashion Bocce vs Let's
  Roll
LOCATION:Chichibu Court 2
END:VEVENT
BEGIN:VEVENT
DTSTAMP:20260428T000000Z
UID:4b9b756d-267e-44d7-bd62-0dbf2a162661@ClaytonBocce
DTSTART;TZID=America/Los_Angeles:20260714T183000
DTEND;TZID=America/Los_Angeles:20260714T210000
STATUS:CONFIRMED
SUMMARY:Old Fashion Bocce vs Advance Auto Body
URL:/League/Schedule/2882
DESCRIPTION:Regular Season match: Old Fashion Bocce vs Advan
 ce Auto Body
LOCATION:Chichibu Court 4
END:VEVENT
BEGIN:VEVENT
DTSTAMP:20260428T000000Z
UID:1b0a83fa-ca78-4036-8475-b24d4470e362@ClaytonBocce
DTSTART;TZID=America/Los_Angeles:20260721T183000
DTEND;TZID=America/Los_Angeles:20260721T210000
STATUS:CONFIRMED
SUMMARY:Old Fashion Bocce vs Spicy Meatballs
URL:/League/Schedule/2882
DESCRIPTION:Regular Season match: Old Fashion Bocce vs Spicy
  Meatballs
LOCATION:Chichibu Court 3
END:VEVENT
BEGIN:VEVENT
DTSTAMP:20260428T000000Z
UID:56a3d0c9-1802-47a5-aadb-c6166a25a281@ClaytonBocce
DTSTART;TZID=America/Los_Angeles:20260728T183000
DTEND;TZID=America/Los_Angeles:20260728T210000
STATUS:CONFIRMED
SUMMARY:Old Fashion Bocce vs Bocce Bankers
URL:/League/Schedule/2882
DESCRIPTION:Regular Season match: Old Fashion Bocce vs Bocce
  Bankers
LOCATION:Chichibu Court 6
END:VEVENT
BEGIN:VEVENT
DTSTAMP:20260428T000000Z
UID:6aa91030-0308-4ade-a01f-52d853e39ffa@ClaytonBocce
DTSTART;TZID=America/Los_Angeles:20260804T183000
DTEND;TZID=America/Los_Angeles:20260804T210000
STATUS:CONFIRMED
SUMMARY:Old Fashion Bocce vs Rolling Stones
URL:/League/Schedule/2882
DESCRIPTION:Regular Season match: Old Fashion Bocce vs Rolli
 ng Stones
LOCATION:Chichibu Court 5
END:VEVENT
BEGIN:VEVENT
DTSTAMP:20260428T000000Z
UID:d1907e27-f11a-4d10-ab39-9dd2683c1c05@ClaytonBocce
DTSTART;TZID=America/Los_Angeles:20260811T183000
DTEND;TZID=America/Los_Angeles:20260811T210000
STATUS:CONFIRMED
SUMMARY:Old Fashion Bocce vs Back To Bocce
URL:/League/Schedule/2882
DESCRIPTION:Regular Season match: Old Fashion Bocce vs Back 
 To Bocce
LOCATION:Chichibu Court 1
END:VEVENT
BEGIN:VEVENT
DTSTAMP:20260428T000000Z
UID:d07a0174-4eb2-401d-b0e0-005184379d0e@ClaytonBocce
DTSTART;TZID=America/Los_Angeles:20260818T183000
DTEND;TZID=America/Los_Angeles:20260818T210000
STATUS:CONFIRMED
SUMMARY:Old Fashion Bocce vs Celia's
URL:/League/Schedule/2882
DESCRIPTION:Regular Season match: Old Fashion Bocce vs Celia
 's
LOCATION:Chichibu Court 2
END:VEVENT
END:VCALENDAR
